BEGIN:VCALENDAR
VERSION:2.0
PRODID:-//ICEAM - ECPv6.15.20//NONSGML v1.0//EN
CALSCALE:GREGORIAN
METHOD:PUBLISH
X-ORIGINAL-URL:https://staging.iceam.org
X-WR-CALDESC:Events for ICEAM
REFRESH-INTERVAL;VALUE=DURATION:PT1H
X-Robots-Tag:noindex
X-PUBLISHED-TTL:PT1H
BEGIN:VTIMEZONE
TZID:America/Chicago
BEGIN:DAYLIGHT
TZOFFSETFROM:-0600
TZOFFSETTO:-0500
TZNAME:CDT
DTSTART:20180311T080000
END:DAYLIGHT
BEGIN:STANDARD
TZOFFSETFROM:-0500
TZOFFSETTO:-0600
TZNAME:CST
DTSTART:20181104T070000
END:STANDARD
BEGIN:DAYLIGHT
TZOFFSETFROM:-0600
TZOFFSETTO:-0500
TZNAME:CDT
DTSTART:20190310T080000
END:DAYLIGHT
BEGIN:STANDARD
TZOFFSETFROM:-0500
TZOFFSETTO:-0600
TZNAME:CST
DTSTART:20191103T070000
END:STANDARD
BEGIN:DAYLIGHT
TZOFFSETFROM:-0600
TZOFFSETTO:-0500
TZNAME:CDT
DTSTART:20200308T080000
END:DAYLIGHT
BEGIN:STANDARD
TZOFFSETFROM:-0500
TZOFFSETTO:-0600
TZNAME:CST
DTSTART:20201101T070000
END:STANDARD
END:VTIMEZONE
BEGIN:VEVENT
DTSTART;VALUE=DATE:20191116
DTEND;VALUE=DATE:20191118
DTSTAMP:20260421T114259
CREATED:20181014T164701Z
LAST-MODIFIED:20181017T041723Z
UID:8356-1573862400-1574035199@staging.iceam.org
SUMMARY:Portland - Tian-Lineage Shanghan Lun Pulse Diagnosis
DESCRIPTION:The Treatise on Cold Damage shanghan lun is the oldest surviving clinical handbook in the history of Chinese medicine. Written by Eastern Han dynasty (circa 200 CE) imperial envoy Zhang Zhongjing\, it is an integral part of his collective writings once labeled the Treatise on Cold Damage and Complex Diseases shanghan zabing lun. But the contents of the Shanghan Lun as we know it in current day is far from complete. The present versions studied in Chinese medical schools as well as in the West\, do not include the original first three chapters of Rules for Pulse Differentiation bianmai fa\, Rules on Pulse Assessment pingmai fa and Cold Damage Outline shanghan li. Regardless whatever motivation was behind the historical deletions of these passages\, of the aforementioned chapters\, the chapters on pulse instructions are crucial for anyone desiring to fully grasp Zhang Zhongjing’s clinical instructions. Especially since the pulse patterns maizheng form the core diagnostic parameters in the establishment of the formula patterns fangzheng by which the canonical clinician categorizes disease and therapy. \nNote regarding the Shanghan Lun and Jingui Yaolue Pulse Seminars: due to the proprietary and complex nature of these seminars\, they cannot be registered for individually and can only be taken as part of the total sequence. The pulse seminars are open for individual registration only to Diplomates of Canonical Chinese Medicine already certified by our institute who wish to retake the seminar.
URL:https://staging.iceam.org/live-course/portland-tian-lineage-shanghan-lun-pulse-diagnosis/
LOCATION:ICEAM Portland\, 506 Southwest 6th\, Portland\, OR\, 97204\, United States
CATEGORIES:Shanghan Lun
GEO:45.413914;-122.7201232
X-APPLE-STRUCTURED-LOCATION;VALUE=URI;X-ADDRESS=ICEAM Portland 506 Southwest 6th Portland OR 97204 United States;X-APPLE-RADIUS=500;X-TITLE=506 Southwest 6th:geo:-122.7201232,45.413914
END:VEVENT
BEGIN:VEVENT
DTSTART;VALUE=DATE:20190928
DTEND;VALUE=DATE:20190930
DTSTAMP:20260421T114259
CREATED:20181014T164530Z
LAST-MODIFIED:20181015T211503Z
UID:8354-1569628800-1569801599@staging.iceam.org
SUMMARY:Portland - Shanghan Lun Pathophysiology and Basic Patterns
DESCRIPTION:The Treatise on Cold Damage or Shanghan Lun is one of the most prominent Eastern Han-dynasty (circa CE 200) classics in Chinese medicine and the first clinical handbook in China’s medical history. It is also the center of the Canonical Chinese Medicine Training.
URL:https://staging.iceam.org/live-course/portland-shanghan-lun-pathophysiology-and-basic-patterns/
LOCATION:ICEAM Portland\, 506 Southwest 6th\, Portland\, OR\, 97204\, United States
CATEGORIES:Shanghan Lun
GEO:45.413914;-122.7201232
X-APPLE-STRUCTURED-LOCATION;VALUE=URI;X-ADDRESS=ICEAM Portland 506 Southwest 6th Portland OR 97204 United States;X-APPLE-RADIUS=500;X-TITLE=506 Southwest 6th:geo:-122.7201232,45.413914
END:VEVENT
BEGIN:VEVENT
DTSTART;VALUE=DATE:20190824
DTEND;VALUE=DATE:20190826
DTSTAMP:20260421T114259
CREATED:20181014T164027Z
LAST-MODIFIED:20181015T211402Z
UID:8348-1566604800-1566777599@staging.iceam.org
SUMMARY:Portland - The Herb and Formula Archetypes: The Outer Circle\, Part Two
DESCRIPTION:This course is the instruction of specialized Materia Medica and formula studies in the service of canonical Chinese medicine as practiced by Zhang Zhongjing in the Shanghan Lun and the Jingui Yaolue.
URL:https://staging.iceam.org/live-course/portland-the-herb-and-formula-archetypes-the-outer-circle-part-two/
LOCATION:ICEAM Portland\, 506 Southwest 6th\, Portland\, OR\, 97204\, United States
CATEGORIES:Shanghan Lun
GEO:45.413914;-122.7201232
X-APPLE-STRUCTURED-LOCATION;VALUE=URI;X-ADDRESS=ICEAM Portland 506 Southwest 6th Portland OR 97204 United States;X-APPLE-RADIUS=500;X-TITLE=506 Southwest 6th:geo:-122.7201232,45.413914
END:VEVENT
BEGIN:VEVENT
DTSTART;VALUE=DATE:20190713
DTEND;VALUE=DATE:20190715
DTSTAMP:20260421T114259
CREATED:20181014T164024Z
LAST-MODIFIED:20181015T211303Z
UID:8347-1562976000-1563148799@staging.iceam.org
SUMMARY:Portland - The Herb and Formula Archetypes: The Outer Circle\, Part One
DESCRIPTION:This course is the instruction of specialized Materia Medica and formula studies in the service of canonical Chinese medicine as practiced by Zhang Zhongjing in the Shanghan Lun and the Jingui Yaolue.
URL:https://staging.iceam.org/live-course/portland-the-herb-and-formula-archetypes-the-outer-circle-part-one/
LOCATION:ICEAM Portland\, 506 Southwest 6th\, Portland\, OR\, 97204\, United States
CATEGORIES:Shanghan Lun
GEO:45.413914;-122.7201232
X-APPLE-STRUCTURED-LOCATION;VALUE=URI;X-ADDRESS=ICEAM Portland 506 Southwest 6th Portland OR 97204 United States;X-APPLE-RADIUS=500;X-TITLE=506 Southwest 6th:geo:-122.7201232,45.413914
END:VEVENT
BEGIN:VEVENT
DTSTART;VALUE=DATE:20190511
DTEND;VALUE=DATE:20190513
DTSTAMP:20260421T114259
CREATED:20181014T163848Z
LAST-MODIFIED:20181015T211228Z
UID:8344-1557532800-1557705599@staging.iceam.org
SUMMARY:Portland - The Herb and Formula Archetypes: The Inner Circle
DESCRIPTION:This course is the instruction of specialized Materia Medica and formula studies in the service of canonical Chinese medicine as practiced by Zhang Zhongjing in the Shanghan Lun and the Jingui Yaolue.
URL:https://staging.iceam.org/live-course/portland-the-herb-and-formula-archetypes-the-inner-circle/
LOCATION:ICEAM Portland\, 506 Southwest 6th\, Portland\, OR\, 97204\, United States
CATEGORIES:Shanghan Lun
GEO:45.413914;-122.7201232
X-APPLE-STRUCTURED-LOCATION;VALUE=URI;X-ADDRESS=ICEAM Portland 506 Southwest 6th Portland OR 97204 United States;X-APPLE-RADIUS=500;X-TITLE=506 Southwest 6th:geo:-122.7201232,45.413914
END:VEVENT
BEGIN:VEVENT
DTSTART;VALUE=DATE:20190316
DTEND;VALUE=DATE:20190318
DTSTAMP:20260421T114259
CREATED:20181010T152734Z
LAST-MODIFIED:20181015T211139Z
UID:8320-1552694400-1552867199@staging.iceam.org
SUMMARY:Portland - The Energetics of the Five Flavors and Canonical Formulas
DESCRIPTION:Canonical Chinese Medicine is the style of Chinese medicine practiced along the tenets codified in the Western and Eastern Han dynasty (approx. 200 BC- 200 CE) medical classics or canons. It is the foundation of both clinical and theoretical Chinese medicine as we know it. Canonical Chinese medicine is comprised of two main schools being the Yellow Emperor huangdi 黄帝school of Medical Canons yijing pai 醫經派and the Divine Farmer shennong 神农school of Canonical Formulas jingfang pai经方派.
URL:https://staging.iceam.org/live-course/portland-the-energetics-of-the-five-flavors-and-canonical-formulas/
LOCATION:ICEAM Portland\, 506 Southwest 6th\, Portland\, OR\, 97204\, United States
CATEGORIES:Shanghan Lun
GEO:45.413914;-122.7201232
X-APPLE-STRUCTURED-LOCATION;VALUE=URI;X-ADDRESS=ICEAM Portland 506 Southwest 6th Portland OR 97204 United States;X-APPLE-RADIUS=500;X-TITLE=506 Southwest 6th:geo:-122.7201232,45.413914
END:VEVENT
END:VCALENDAR