BEGIN:VCALENDAR
VERSION:2.0
PRODID:-//ICEAM - ECPv6.15.20//NONSGML v1.0//EN
CALSCALE:GREGORIAN
METHOD:PUBLISH
X-WR-CALNAME:ICEAM
X-ORIGINAL-URL:https://staging.iceam.org
X-WR-CALDESC:Events for ICEAM
REFRESH-INTERVAL;VALUE=DURATION:PT1H
X-Robots-Tag:noindex
X-PUBLISHED-TTL:PT1H
BEGIN:VTIMEZONE
TZID:America/Chicago
BEGIN:DAYLIGHT
TZOFFSETFROM:-0600
TZOFFSETTO:-0500
TZNAME:CDT
DTSTART:20160313T080000
END:DAYLIGHT
BEGIN:STANDARD
TZOFFSETFROM:-0500
TZOFFSETTO:-0600
TZNAME:CST
DTSTART:20161106T070000
END:STANDARD
BEGIN:DAYLIGHT
TZOFFSETFROM:-0600
TZOFFSETTO:-0500
TZNAME:CDT
DTSTART:20170312T080000
END:DAYLIGHT
BEGIN:STANDARD
TZOFFSETFROM:-0500
TZOFFSETTO:-0600
TZNAME:CST
DTSTART:20171105T070000
END:STANDARD
BEGIN:DAYLIGHT
TZOFFSETFROM:-0600
TZOFFSETTO:-0500
TZNAME:CDT
DTSTART:20180311T080000
END:DAYLIGHT
BEGIN:STANDARD
TZOFFSETFROM:-0500
TZOFFSETTO:-0600
TZNAME:CST
DTSTART:20181104T070000
END:STANDARD
END:VTIMEZONE
BEGIN:VEVENT
DTSTART;TZID=America/Chicago:20170618T080000
DTEND;TZID=America/Chicago:20170627T170000
DTSTAMP:20260419T183109
CREATED:20161229T230903Z
LAST-MODIFIED:20161229T233128Z
UID:4247-1497772800-1498582800@staging.iceam.org
SUMMARY:2017 Shanghan Lun Lines Retreat Europe
DESCRIPTION:Please join us in the beautiful\, health-oriented spa town of Piestany\, Slovakia for 10 days of in-depth study of the original Shanghan Lun text\, line by line\, as well as a celebration of the Summer Solstice. This retreat is geared towards all European Diplomates of Canonical Chinese Medicine℠\, but is also open for overseas Diplomates from Australia and the USA. Participants are encouraged to bring their family members for a beautiful and relaxing vacation for all. \nThe Shanghan Lun Lines Retreat caps your many years of study of the Shanghan Lun based on the Tian Family tradition. We will study each line of the text with a detailed commentary and discussion by your instructor Arnaud Versluys\, PhD. The instruction is based on Dr. Versluys’ almost two decades of research of the Shanghan Lun and will quote extensively from late lineage holder Zheng Guanglu’s personal notes on the Shanghan Lun. \nThis is a rare opportunity that should not be missed\, especially considering that this event only visits each continent every 6 years. The next Shanghan Lun Lines Retreat in Europe will not be until 2023! \n\nIf you wish to register for this retreat\, you MUST first register your accommodation with the hotel directly. Please call or email Hotel Splendid with the information below. Please mention the reservation code. \n\nReservation code: ICEAM Conference 17-27.6.2017 (Chinese Medicine)\nReservation phone number: +421 33 775 4999\nReservation email: splendid@spapiestany.sk\n \nFor your convenience\, we have created a form that you may use for your information only. \nDownload as Excel XLS file\nDownload as PDF  \n\nYou may choose the payment option of your choice\, as agreed by the hotel. Cancellation of your accommodation may be requested at the hotel no less than 21 days before the start date\, for a full refund. \nAFTER you have registered with the hotel\, please pay your tuition on the ICEAM site. Please note that the conference room is limited to 46 spots. ICEAM is currently holding an option on about 30 rooms. Feel free to talk to your friends and colleagues in the course to share a room and reduce your lodging cost. \nFor any questions regarding the venue and lodging logistics\, please contact Lars Nilsson at lnilsson@stockholm.iceam.org For any questions regarding the actual seminar\, please contact the ICEAM director Arnaud Versluys at aversluys@iceam.org
URL:https://staging.iceam.org/live-course/2017-shanghan-lun-lines-retreat-europe/
LOCATION:ICEAM Piestany\, Kúpeľný ostrov\, Piešťany\, 921 29\, Slovakia (Slovak Republic)
CATEGORIES:Advanced
GEO:48.5945687;17.8458572
END:VEVENT
END:VCALENDAR