BEGIN:VCALENDAR
VERSION:2.0
PRODID:-//ICEAM - ECPv6.15.20//NONSGML v1.0//EN
CALSCALE:GREGORIAN
METHOD:PUBLISH
X-WR-CALNAME:ICEAM
X-ORIGINAL-URL:https://staging.iceam.org
X-WR-CALDESC:Events for ICEAM
REFRESH-INTERVAL;VALUE=DURATION:PT1H
X-Robots-Tag:noindex
X-PUBLISHED-TTL:PT1H
BEGIN:VTIMEZONE
TZID:America/Chicago
BEGIN:DAYLIGHT
TZOFFSETFROM:-0600
TZOFFSETTO:-0500
TZNAME:CDT
DTSTART:20150308T080000
END:DAYLIGHT
BEGIN:STANDARD
TZOFFSETFROM:-0500
TZOFFSETTO:-0600
TZNAME:CST
DTSTART:20151101T070000
END:STANDARD
BEGIN:DAYLIGHT
TZOFFSETFROM:-0600
TZOFFSETTO:-0500
TZNAME:CDT
DTSTART:20160313T080000
END:DAYLIGHT
BEGIN:STANDARD
TZOFFSETFROM:-0500
TZOFFSETTO:-0600
TZNAME:CST
DTSTART:20161106T070000
END:STANDARD
BEGIN:DAYLIGHT
TZOFFSETFROM:-0600
TZOFFSETTO:-0500
TZNAME:CDT
DTSTART:20170312T080000
END:DAYLIGHT
BEGIN:STANDARD
TZOFFSETFROM:-0500
TZOFFSETTO:-0600
TZNAME:CST
DTSTART:20171105T070000
END:STANDARD
END:VTIMEZONE
BEGIN:VEVENT
DTSTART;VALUE=DATE:20160627
DTEND;VALUE=DATE:20160628
DTSTAMP:20260420T023140
CREATED:20150822T035554Z
LAST-MODIFIED:20160329T182220Z
UID:1427-1466985600-1467071999@staging.iceam.org
SUMMARY:Melbourne – Clinic Training Day 2
DESCRIPTION:Observe an ICEAM clinical supervisor take pulses and write formulas in clinic. Limited to 14 students per day. Maximum 25 patients per day. Patient contacts count towards fulfillment of clinical certification as Fellow of the Institute of Classics in East Asian Medicine.
URL:https://staging.iceam.org/live-course/melbourne-clinic-training-day-2/
LOCATION:ICEAM Melbourne\, 103 Evans St.\, Brunswick\, Victoria\, 3056\, Australia
GEO:-37.7704642;144.9711139
X-APPLE-STRUCTURED-LOCATION;VALUE=URI;X-ADDRESS=ICEAM Melbourne 103 Evans St. Brunswick Victoria 3056 Australia;X-APPLE-RADIUS=500;X-TITLE=103 Evans St.:geo:144.9711139,-37.7704642
END:VEVENT
BEGIN:VEVENT
DTSTART;VALUE=DATE:20160229
DTEND;VALUE=DATE:20160301
DTSTAMP:20260420T023140
CREATED:20150822T035342Z
LAST-MODIFIED:20160329T180310Z
UID:1424-1456704000-1456790399@staging.iceam.org
SUMMARY:Melbourne – Clinic Training Day 1
DESCRIPTION:Observe clinic with an ICEAM clinical supervisor take pulses and write formulas in clinic. Limited to 12 students per day. Maximum 25 patients per day. Patient contacts count towards fulfillment of clinical certification as Fellow of the Institute of Classics in East Asian Medicine.
URL:https://staging.iceam.org/live-course/melbourne-clinic-training-day-1/
LOCATION:ICEAM Melbourne\, 103 Evans St.\, Brunswick\, Victoria\, 3056\, Australia
GEO:-37.7704642;144.9711139
X-APPLE-STRUCTURED-LOCATION;VALUE=URI;X-ADDRESS=ICEAM Melbourne 103 Evans St. Brunswick Victoria 3056 Australia;X-APPLE-RADIUS=500;X-TITLE=103 Evans St.:geo:144.9711139,-37.7704642
END:VEVENT
END:VCALENDAR