BEGIN:VCALENDAR
VERSION:2.0
PRODID:-//ICEAM - ECPv6.15.20//NONSGML v1.0//EN
CALSCALE:GREGORIAN
METHOD:PUBLISH
X-ORIGINAL-URL:https://staging.iceam.org
X-WR-CALDESC:Events for ICEAM
REFRESH-INTERVAL;VALUE=DURATION:PT1H
X-Robots-Tag:noindex
X-PUBLISHED-TTL:PT1H
BEGIN:VTIMEZONE
TZID:America/Chicago
BEGIN:DAYLIGHT
TZOFFSETFROM:-0600
TZOFFSETTO:-0500
TZNAME:CDT
DTSTART:20180311T080000
END:DAYLIGHT
BEGIN:STANDARD
TZOFFSETFROM:-0500
TZOFFSETTO:-0600
TZNAME:CST
DTSTART:20181104T070000
END:STANDARD
BEGIN:DAYLIGHT
TZOFFSETFROM:-0600
TZOFFSETTO:-0500
TZNAME:CDT
DTSTART:20190310T080000
END:DAYLIGHT
BEGIN:STANDARD
TZOFFSETFROM:-0500
TZOFFSETTO:-0600
TZNAME:CST
DTSTART:20191103T070000
END:STANDARD
BEGIN:DAYLIGHT
TZOFFSETFROM:-0600
TZOFFSETTO:-0500
TZNAME:CDT
DTSTART:20200308T080000
END:DAYLIGHT
BEGIN:STANDARD
TZOFFSETFROM:-0500
TZOFFSETTO:-0600
TZNAME:CST
DTSTART:20201101T070000
END:STANDARD
END:VTIMEZONE
BEGIN:VEVENT
DTSTART;VALUE=DATE:20191116
DTEND;VALUE=DATE:20191118
DTSTAMP:20260419T081759
CREATED:20180911T044722Z
LAST-MODIFIED:20180911T044722Z
UID:7055-1573862400-1574035199@staging.iceam.org
SUMMARY:London - Tian-Lineage Shanghan Lun Pulse Diagnosis
DESCRIPTION:The Treatise on Cold Damage shanghan lun is the oldest surviving clinical handbook in the history of Chinese medicine. Written by Eastern Han dynasty (circa 200 CE) imperial envoy Zhang Zhongjing\, it is an integral part of his collective writings once labeled the Treatise on Cold Damage and Complex Diseases shanghan zabing lun. But the contents of the Shanghan Lun as we know it in current day is far from complete. The present versions studied in Chinese medical schools as well as in the West\, do not include the original first three chapters of Rules for Pulse Differentiation bianmai fa\, Rules on Pulse Assessment pingmai fa and Cold Damage Outline shanghan li. Regardless whatever motivation was behind the historical deletions of these passages\, of the aforementioned chapters\, the chapters on pulse instructions are crucial for anyone desiring to fully grasp Zhang Zhongjing’s clinical instructions. Especially since the pulse patterns maizheng form the core diagnostic parameters in the establishment of the formula patterns fangzheng by which the canonical clinician categorizes disease and therapy. \nNote regarding the Shanghan Lun and Jingui Yaolue Pulse Seminars: due to the proprietary and complex nature of these seminars\, they cannot be registered for individually and can only be taken as part of the total sequence. The pulse seminars are open for individual registration only to Diplomates of Canonical Chinese Medicine already certified by our institute who wish to retake the seminar.
URL:https://staging.iceam.org/live-course/london-tian-lineage-shanghan-lun-pulse-diagnosis/
LOCATION:ICEAM London\, 15 Spa Road\, Bermondsey\, London\, SE16 3SA\, United Kingdom
CATEGORIES:Shanghan Lun
GEO:51.4956757;-0.0745302
X-APPLE-STRUCTURED-LOCATION;VALUE=URI;X-ADDRESS=ICEAM London 15 Spa Road Bermondsey London SE16 3SA United Kingdom;X-APPLE-RADIUS=500;X-TITLE=15 Spa Road:geo:-0.0745302,51.4956757
END:VEVENT
BEGIN:VEVENT
DTSTART;VALUE=DATE:20191005
DTEND;VALUE=DATE:20191007
DTSTAMP:20260419T081759
CREATED:20180911T043358Z
LAST-MODIFIED:20180911T043358Z
UID:7052-1570233600-1570406399@staging.iceam.org
SUMMARY:London - Shanghan Lun Pathophysiology and Basic Patterns
DESCRIPTION:The Treatise on Cold Damage or Shanghan Lun is one of the most prominent Eastern Han-dynasty (circa CE 200) classics in Chinese medicine and the first clinical handbook in China’s medical history. It is also the center of the Canonical Chinese Medicine Training.
URL:https://staging.iceam.org/live-course/london-shanghan-lun-pathophysiology-and-basic-patterns/
LOCATION:ICEAM London\, 15 Spa Road\, Bermondsey\, London\, SE16 3SA\, United Kingdom
CATEGORIES:Shanghan Lun
GEO:51.4956757;-0.0745302
X-APPLE-STRUCTURED-LOCATION;VALUE=URI;X-ADDRESS=ICEAM London 15 Spa Road Bermondsey London SE16 3SA United Kingdom;X-APPLE-RADIUS=500;X-TITLE=15 Spa Road:geo:-0.0745302,51.4956757
END:VEVENT
BEGIN:VEVENT
DTSTART;VALUE=DATE:20190824
DTEND;VALUE=DATE:20190826
DTSTAMP:20260419T081759
CREATED:20180911T041833Z
LAST-MODIFIED:20180911T041833Z
UID:7049-1566604800-1566777599@staging.iceam.org
SUMMARY:London - The Herb and Formula Archetypes: The Outer Circle\, Part Two
DESCRIPTION:This course is the instruction of specialized Materia Medica and formula studies in the service of canonical Chinese medicine as practiced by Zhang Zhongjing in the Shanghan Lun and the Jingui Yaolue.
URL:https://staging.iceam.org/live-course/london-the-herb-and-formula-archetypes-the-outer-circle-part-two/
LOCATION:ICEAM London\, 15 Spa Road\, Bermondsey\, London\, SE16 3SA\, United Kingdom
CATEGORIES:Shanghan Lun
GEO:51.4956757;-0.0745302
X-APPLE-STRUCTURED-LOCATION;VALUE=URI;X-ADDRESS=ICEAM London 15 Spa Road Bermondsey London SE16 3SA United Kingdom;X-APPLE-RADIUS=500;X-TITLE=15 Spa Road:geo:-0.0745302,51.4956757
END:VEVENT
BEGIN:VEVENT
DTSTART;VALUE=DATE:20190720
DTEND;VALUE=DATE:20190722
DTSTAMP:20260419T081759
CREATED:20180911T041527Z
LAST-MODIFIED:20180911T041527Z
UID:7044-1563580800-1563753599@staging.iceam.org
SUMMARY:London - The Herb and Formula Archetypes: The Outer Circle\, Part One
DESCRIPTION:This course is the instruction of specialized Materia Medica and formula studies in the service of canonical Chinese medicine as practiced by Zhang Zhongjing in the Shanghan Lun and the Jingui Yaolue.
URL:https://staging.iceam.org/live-course/london-the-herb-and-formula-archetypes-the-outer-circle-part-one/
LOCATION:ICEAM London\, 15 Spa Road\, Bermondsey\, London\, SE16 3SA\, United Kingdom
CATEGORIES:Shanghan Lun
GEO:51.4956757;-0.0745302
X-APPLE-STRUCTURED-LOCATION;VALUE=URI;X-ADDRESS=ICEAM London 15 Spa Road Bermondsey London SE16 3SA United Kingdom;X-APPLE-RADIUS=500;X-TITLE=15 Spa Road:geo:-0.0745302,51.4956757
END:VEVENT
BEGIN:VEVENT
DTSTART;VALUE=DATE:20190601
DTEND;VALUE=DATE:20190603
DTSTAMP:20260419T081759
CREATED:20180911T033953Z
LAST-MODIFIED:20180911T041444Z
UID:7040-1559347200-1559519999@staging.iceam.org
SUMMARY:London - The Herb and Formula Archetypes: The Inner Circle
DESCRIPTION:This course is the instruction of specialized Materia Medica and formula studies in the service of canonical Chinese medicine as practiced by Zhang Zhongjing in the Shanghan Lun and the Jingui Yaolue.
URL:https://staging.iceam.org/live-course/london-the-herb-and-formula-archetypes-the-inner-circle/
LOCATION:ICEAM London\, 15 Spa Road\, Bermondsey\, London\, SE16 3SA\, United Kingdom
CATEGORIES:Shanghan Lun
GEO:51.4956757;-0.0745302
X-APPLE-STRUCTURED-LOCATION;VALUE=URI;X-ADDRESS=ICEAM London 15 Spa Road Bermondsey London SE16 3SA United Kingdom;X-APPLE-RADIUS=500;X-TITLE=15 Spa Road:geo:-0.0745302,51.4956757
END:VEVENT
BEGIN:VEVENT
DTSTART;VALUE=DATE:20190413
DTEND;VALUE=DATE:20190415
DTSTAMP:20260419T081759
CREATED:20180911T033215Z
LAST-MODIFIED:20180911T033215Z
UID:7036-1555113600-1555286399@staging.iceam.org
SUMMARY:London - Nineteen Lines on Pathology
DESCRIPTION:Chapter seventy-four of the Great Treatise on the Essence of the Utmost Truth zhizhen yaodalun of the Inner Classic of the Yellow Emperor huangdi neijing records the most encompassing and original rules in Chinese medicine pathology. The nineteen patterns\, most commonly known as the Nineteen Lines on Pathology\, are considered to be the most authoritative instructions on classical etio-pathology and the only discourse where a differentiation method based on the five phase energetics is presented. \nThere is great difficulty in understanding these instructions\, because they cannot be researched from merely a more modern Qing dynasty organ differentiation standpoint that we are most accustomed to. As such\, the only path to full understanding of the lines is an evaluation from all possible angles in classical Chinese medicine thinking. This evaluation will be engaged in by cross-referencing other classics like the Classic of Difficulties nan jing\, as well as later commentaries by masters like Zhang Jingyue\, etc.  \nThe lines are structured along a twofold grid: the first outline along the five solid organs; while the second outline is arranged along the six Qi or six climatic influences. During the course\, all Solid Organ patterns will be studied and explained along with the most representative lines on the Six Qi. As such\, this course will provide the participant with a definitive understanding on classical Chinese medicine pathology and an excellent tool for the evaluation of difficult cases in clinic.
URL:https://staging.iceam.org/live-course/london-nineteen-lines-on-pathology/
LOCATION:ICEAM London\, 15 Spa Road\, Bermondsey\, London\, SE16 3SA\, United Kingdom
CATEGORIES:Shanghan Lun
GEO:51.4956757;-0.0745302
X-APPLE-STRUCTURED-LOCATION;VALUE=URI;X-ADDRESS=ICEAM London 15 Spa Road Bermondsey London SE16 3SA United Kingdom;X-APPLE-RADIUS=500;X-TITLE=15 Spa Road:geo:-0.0745302,51.4956757
END:VEVENT
BEGIN:VEVENT
DTSTART;VALUE=DATE:20190209
DTEND;VALUE=DATE:20190211
DTSTAMP:20260419T081759
CREATED:20180911T030729Z
LAST-MODIFIED:20180911T030729Z
UID:7033-1549670400-1549843199@staging.iceam.org
SUMMARY:London - The Energetics of the Five Flavors and Canonical Formulas
DESCRIPTION:Canonical Chinese Medicine is the style of Chinese medicine practiced along the tenets codified in the Western and Eastern Han dynasty (approx. 200 BC- 200 CE) medical classics or canons. It is the foundation of both clinical and theoretical Chinese medicine as we know it. Canonical Chinese medicine is comprised of two main schools being the Yellow Emperor huangdi 黄帝school of Medical Canons yijing pai 醫經派and the Divine Farmer shennong 神农school of Canonical Formulas jingfang pai经方派.
URL:https://staging.iceam.org/live-course/london-the-energetics-of-the-five-flavors-and-canonical-formulas/
LOCATION:ICEAM London\, 15 Spa Road\, Bermondsey\, London\, SE16 3SA\, United Kingdom
CATEGORIES:Shanghan Lun
GEO:51.4956757;-0.0745302
X-APPLE-STRUCTURED-LOCATION;VALUE=URI;X-ADDRESS=ICEAM London 15 Spa Road Bermondsey London SE16 3SA United Kingdom;X-APPLE-RADIUS=500;X-TITLE=15 Spa Road:geo:-0.0745302,51.4956757
END:VEVENT
END:VCALENDAR