BEGIN:VCALENDAR
VERSION:2.0
PRODID:-//ICEAM - ECPv6.15.20//NONSGML v1.0//EN
CALSCALE:GREGORIAN
METHOD:PUBLISH
X-ORIGINAL-URL:https://staging.iceam.org
X-WR-CALDESC:Events for ICEAM
REFRESH-INTERVAL;VALUE=DURATION:PT1H
X-Robots-Tag:noindex
X-PUBLISHED-TTL:PT1H
BEGIN:VTIMEZONE
TZID:America/Chicago
BEGIN:DAYLIGHT
TZOFFSETFROM:-0600
TZOFFSETTO:-0500
TZNAME:CDT
DTSTART:20210314T080000
END:DAYLIGHT
BEGIN:STANDARD
TZOFFSETFROM:-0500
TZOFFSETTO:-0600
TZNAME:CST
DTSTART:20211107T070000
END:STANDARD
BEGIN:DAYLIGHT
TZOFFSETFROM:-0600
TZOFFSETTO:-0500
TZNAME:CDT
DTSTART:20220313T080000
END:DAYLIGHT
BEGIN:STANDARD
TZOFFSETFROM:-0500
TZOFFSETTO:-0600
TZNAME:CST
DTSTART:20221106T070000
END:STANDARD
BEGIN:DAYLIGHT
TZOFFSETFROM:-0600
TZOFFSETTO:-0500
TZNAME:CDT
DTSTART:20230312T080000
END:DAYLIGHT
BEGIN:STANDARD
TZOFFSETFROM:-0500
TZOFFSETTO:-0600
TZNAME:CST
DTSTART:20231105T070000
END:STANDARD
BEGIN:DAYLIGHT
TZOFFSETFROM:-0600
TZOFFSETTO:-0500
TZNAME:CDT
DTSTART:20240310T080000
END:DAYLIGHT
BEGIN:STANDARD
TZOFFSETFROM:-0500
TZOFFSETTO:-0600
TZNAME:CST
DTSTART:20241103T070000
END:STANDARD
BEGIN:DAYLIGHT
TZOFFSETFROM:-0600
TZOFFSETTO:-0500
TZNAME:CDT
DTSTART:20250309T080000
END:DAYLIGHT
BEGIN:STANDARD
TZOFFSETFROM:-0500
TZOFFSETTO:-0600
TZNAME:CST
DTSTART:20251102T070000
END:STANDARD
END:VTIMEZONE
BEGIN:VEVENT
DTSTART;VALUE=DATE:20240113
DTEND;VALUE=DATE:20240115
DTSTAMP:20260419T155524
CREATED:20210219T230834Z
LAST-MODIFIED:20211019T012853Z
UID:14128-1705104000-1705276799@staging.iceam.org
SUMMARY:Online (US) - Tian-Zeng Lineage Jingui Yaolue Case Studies and Clinical Strategies
DESCRIPTION:The Shanghan Zabing Lun is the first historical manual to teach the treatment of both acute and chronic complex diseases that have been triggered externally or have arisen from internal damage. Though a classical work\, it is of great clinical value for modern day practice.
URL:https://staging.iceam.org/live-course/online-tian-zeng-lineage-jingui-yaolue-case-studies-and-clinical-strategies/
LOCATION:Hybrid Training Series (US)\, United States
CATEGORIES:Jingui Yaolue
GEO:29.951061;-90.0812442
END:VEVENT
BEGIN:VEVENT
DTSTART;VALUE=DATE:20230909
DTEND;VALUE=DATE:20230911
DTSTAMP:20260419T155524
CREATED:20210219T230613Z
LAST-MODIFIED:20230615T150810Z
UID:14125-1694217600-1694390399@staging.iceam.org
SUMMARY:Online (US) – Diseases of the Jingui Yaolue\, Part Three
DESCRIPTION:This is the authoritative instruction of the etio-pathology and treatment of over 70 complex diseases recorded in the Essentials of the Golden Cabinet or Jingui Yaolue. During this course\, virtually all illnesses of the original text are discussed in great detail\, allowing the student to gain an ultimate and conclusive insight into the pathomechanisms behind these often chronic\, recalcitrant and debilitating illnesses. The formulas used in the Jingui are taught in their respective clinical contexts.
URL:https://staging.iceam.org/live-course/online-diseases-of-the-jingui-yaolue-part-three/
LOCATION:Hybrid Training Series (US)\, United States
CATEGORIES:Jingui Yaolue
GEO:29.951061;-90.0812442
END:VEVENT
BEGIN:VEVENT
DTSTART;VALUE=DATE:20230729
DTEND;VALUE=DATE:20230731
DTSTAMP:20260419T155524
CREATED:20210219T230540Z
LAST-MODIFIED:20211019T012751Z
UID:14124-1690588800-1690761599@staging.iceam.org
SUMMARY:Online (US) – Diseases of the Jingui Yaolue\, Part Two
DESCRIPTION:This is the authoritative instruction of the etio-pathology and treatment of over 70 complex diseases recorded in the Essentials of the Golden Cabinet or Jingui Yaolue. During these two weekends\, virtually all illnesses of the original text are discussed in great detail\, allowing the student to gain an ultimate and conclusive insight into the pathomechanisms behind these often chronic\, recalcitrant and debilitating illnesses. The formulas used in the Jingui are taught in their respective clinical contexts.
URL:https://staging.iceam.org/live-course/online-diseases-of-the-jingui-yaolue-part-two/
LOCATION:Hybrid Training Series (US)\, United States
CATEGORIES:Jingui Yaolue
GEO:29.951061;-90.0812442
END:VEVENT
BEGIN:VEVENT
DTSTART;VALUE=DATE:20230624
DTEND;VALUE=DATE:20230626
DTSTAMP:20260419T155524
CREATED:20210219T230443Z
LAST-MODIFIED:20211019T012740Z
UID:14123-1687564800-1687737599@staging.iceam.org
SUMMARY:Online (US) - The Diseases of the Jingui Yaolue Part One
DESCRIPTION:This is the authoritative instruction of the etio-pathology and treatment of over 70 complex diseases recorded in the Essentials of the Golden Cabinet or Jingui Yaolue. During these two weekends\, virtually all illnesses of the original text are discussed in great detail\, allowing the student to gain an ultimate and conclusive insight into the pathomechanisms behind these often chronic\, recalcitrant and debilitating illnesses. The formulas used in the Jingui are taught in their respective clinical contexts.
URL:https://staging.iceam.org/live-course/online-the-diseases-of-the-jingui-yaolue-part-one/
LOCATION:Hybrid Training Series (US)\, United States
CATEGORIES:Jingui Yaolue
GEO:29.951061;-90.0812442
END:VEVENT
BEGIN:VEVENT
DTSTART;VALUE=DATE:20230520
DTEND;VALUE=DATE:20230522
DTSTAMP:20260419T155524
CREATED:20210219T222152Z
LAST-MODIFIED:20211019T012728Z
UID:14114-1684540800-1684713599@staging.iceam.org
SUMMARY:Online (US) - Tian-Zeng Lineage Shanghan Lun Case Studies and Clinical Strategies
DESCRIPTION:The Shanghan Zabing Lun is the first historical manual to teach the treatment of both acute and chronic complex diseases that have been triggered externally or have arisen from internal damage. Though a classical work\, it is of great clinical value for modern day practice.
URL:https://staging.iceam.org/live-course/online-tian-zeng-lineage-shanghan-lun-case-studies-and-clinical-strategies/
LOCATION:Hybrid Training Series (US)\, United States
CATEGORIES:Shanghan Lun
GEO:29.951061;-90.0812442
END:VEVENT
BEGIN:VEVENT
DTSTART;VALUE=DATE:20230401
DTEND;VALUE=DATE:20230403
DTSTAMP:20260419T155524
CREATED:20210219T222113Z
LAST-MODIFIED:20211019T012706Z
UID:14113-1680307200-1680479999@staging.iceam.org
SUMMARY:Online (US) - Shanghan Lun Canonical Formula Modification System
DESCRIPTION:During this course\, a strict system of clinical modification will be taught. The system was developed by Dr. Versluys over the course of the last ten years by analyzing both Zhang Zhongjing’s prescriptions as well as the characteristics of the Tian-Zeng lineage’s clinical practice. It is fully grounded and based in the classical writings of the original designer of the formulas\, Zhang Zhongjing. The system is organized along a hierarchical system of formula modifications and provides a failsafe method for modification to adapt to a broader collection of complex clinical manifestations as often encountered in Chinese medicine clinic in the West. A waterproof modification system forms the basis of classical herbal practice and the elimination of random clinical variables which are the greatest cause for failure in clinic.
URL:https://staging.iceam.org/live-course/online-shanghan-lun-canonical-formula-modification-system/
LOCATION:Hybrid Training Series (US)\, United States
CATEGORIES:Shanghan Lun
GEO:29.951061;-90.0812442
END:VEVENT
BEGIN:VEVENT
DTSTART;VALUE=DATE:20230218
DTEND;VALUE=DATE:20230220
DTSTAMP:20260419T155524
CREATED:20210219T222031Z
LAST-MODIFIED:20211019T012654Z
UID:14112-1676678400-1676851199@staging.iceam.org
SUMMARY:Online (US) - Shanghan Zabing Lun Formula Families
DESCRIPTION:The Shanghan Zabing Lun or the Treatise on Cold Damage and Complex Diseases is considered the forefather of all formula books. The original work was lost to the tooth of time\, but most of its contents are preserved in two extant works called the Treatise on Cold Damage shanghan lun and the Concise Essentials of the Golden Cabinet jingui yaolue. The first work primarily addresses externally triggered disorders while the latter work describes the pathology and treatment of complex diseases generated internally. The herbal prescriptions or formulas recorded in this work form the basis for the practice of Chinese herbal medicine. And only in-depth understanding of the architecture of these formulas will ensure their effective and safe use in clinic. Furthermore\, only an encompassing insight in the inter-connectedness of the formulas and their modular nature will allow a practitioner to expand on their clinical application ion modern clinic settings. As such\, when studying these formulas\, it is imperative to cross-reference the aforementioned two works because only cross-reference will allow the practitioner to see the greater picture and reveal the full application context of a prescription. Since complex diseases are often compounded versions of simplex conformation illnesses\, Jingui formulas are often hybrid modifications of the Shanghan formulas and vice-versa. The course will instruct on the architecture of the classical herbal formulas of the Shanghan Lun and the Jingui Yaolue in cross-reference\, demonstrating how they relate to each other and illustrating the full breadth of their clinical indications. The Shanghan Lun and Jingui Yaolue formulas are related like family members and their architectural characteristics will be taught in a modular pedigree fashion. As a starting point\, the formulas will be categorized in formula families which will show their mutual relationships. The very concept of formula families was introduced by Zhang Zhongjing in the taiyin chapter of the Shanghan Lun\, and was greatly expanded upon by two Qing dynasty Shanghan Lun specialists and commentators\, Xu Lingtai in China and Todo Yoshimasu of Japan. \nPractically the course will provide an in-depth discussion on a core selection of formulas\, including both formulas for external invasion\, as well as internal damage\, all categorized along core formula families. The familial affinity of formulas revolves around shared herb methods. Herb methods represent the full spectrum functions of an herb in different formulaic contexts. The course will instruct on the formula families of some of the most central herbs methods of the Zhang Zhongjing universe. The families are: Guizhi family\, Mahuang Family\, Fuling family\, Shigao Family\, Dahuang Family\, Huanglian Family\, Chaihu Family\, Ganjiang Family\, Renshen Family\, Banxia Family\, Fuzi Family\, Shengdihuang Family\, and the Danggui Family\, etc. These are the very herb methods whose diagnostic parameters were taught in the pulse and abdomen seminars. In total around 200+ prescriptions will be discussed\, which is approximately 60% of the Zhang Zhongjing formula collective.
URL:https://staging.iceam.org/live-course/online-shanghan-zabing-lun-formula-families/
LOCATION:Hybrid Training Series (US)\, United States
CATEGORIES:Shanghan Lun
GEO:29.951061;-90.0812442
END:VEVENT
BEGIN:VEVENT
DTSTART;VALUE=DATE:20221001
DTEND;VALUE=DATE:20221002
DTSTAMP:20260419T155524
CREATED:20210219T221708Z
LAST-MODIFIED:20211019T012617Z
UID:14109-1664582400-1664668799@staging.iceam.org
SUMMARY:Online (US) - Shanghan Lun Pathophysiology and Basic Patterns
DESCRIPTION:The Treatise on Cold Damage or Shanghan Lun is one of the most prominent Eastern Han-dynasty (circa CE 200) classics in Chinese medicine and the first clinical handbook in China’s medical history. It is also the center of the Canonical Chinese Medicine Training. \nThe differentiation system and consequent text is outlined along a grid of six channels or confirmations. This course aims to provide an in-depth understanding into the nature of six confirmation pathologies as well as their systematic treatment. The introduction will present the book and its author in the social and geo-political setting of the Eastern Han dynasty. The concept of Cold Damage shanghan will be explained from the Inner Classic of the Yellow Emperor huangdi neijing and the Classic of Difficulties nanjing perspective as a class of externally triggered illnesses of potentially contagious and lethal nature. \nThe second part of the instruction will focus on providing clear insight in the core physiological functioning of the confirmations. Various models from the Neijing will be used to analyze and explain the physiology and consequent pathology of the six conformations. \nFollowing\, the instruction will focus on the understanding of the conformation pathologies at hand. Insight will be acquired into the sequential time-based nature of the confirmation pathologies and their passage patterns including pathological progression and therapeutic regression possibilities. \nThe remainder focuses on the core conformation pathologies. First we will study the standard or straight-up zheng patterns of all six conformations. The collective of these patterns forms the complete outline of the Shanghan Lun and its system of six conformation differentiation. The yang conformation patterns will be presented categorized as surface patterns biaozheng\, conformation or channel patterns jingzheng and bowel or internal hollow organ patterns fuzheng along with their standard treatment scenarios as embodied by the archetypical formulas. The straight-up yin conformation patterns will be categorized according the nature of their presentation. The aforementioned patterns will be taught in the form of formula patterns tangzheng which will correspond to the pulse patterns maizheng as taught in the pulse weekend and the abdominal patterns fuzheng as taught in the abdominal diagnosis weekend. Each pattern will be presented from the perspective of its hallmark symptoms. \nLastly\, the combined diseases hebing and co-existing patterns jianzheng\, often identified as diseases due to mistreatment huaibing will be presented. Regardless of how the illnesses came about\, the combined diseases will be categorized as yang conformation combined patterns\, yin conformation combined patterns\, and lastly yin-yang conformation combined patterns. In total\, the sixty core conformation patterns\, both simplex and complex\, of the whole Shanghan Lun will be covered.
URL:https://staging.iceam.org/live-course/online-shanghan-lun-pathophysiology-and-basic-patterns/
LOCATION:Hybrid Training Series (US)\, United States
CATEGORIES:Shanghan Lun
GEO:29.951061;-90.0812442
END:VEVENT
BEGIN:VEVENT
DTSTART;VALUE=DATE:20220827
DTEND;VALUE=DATE:20220829
DTSTAMP:20260419T155524
CREATED:20210219T220610Z
LAST-MODIFIED:20211019T012603Z
UID:14099-1661558400-1661731199@staging.iceam.org
SUMMARY:Online (US) - The Herb and Formula Archetypes: The Outer Circle\, Part Two
DESCRIPTION:This course is the instruction of specialized Materia Medica and formula studies in the service of canonical Chinese medicine as practiced by Zhang Zhongjing in the Shanghan Lun and the Jingui Yaolue.
URL:https://staging.iceam.org/live-course/online-the-herb-and-formula-archetypes-the-outer-circle-part-two/
LOCATION:Hybrid Training Series (US)\, United States
CATEGORIES:Shanghan Lun
GEO:29.951061;-90.0812442
END:VEVENT
BEGIN:VEVENT
DTSTART;VALUE=DATE:20220730
DTEND;VALUE=DATE:20220801
DTSTAMP:20260419T155524
CREATED:20210219T220720Z
LAST-MODIFIED:20211019T012553Z
UID:14100-1659139200-1659311999@staging.iceam.org
SUMMARY:Online (US) - The Herb and Formula Archetypes: The Outer Circle\, Part One
DESCRIPTION:This course is the instruction of specialized Materia Medica and formula studies in the service of canonical Chinese medicine as practiced by Zhang Zhongjing in the Shanghan Lun and the Jingui Yaolue.
URL:https://staging.iceam.org/live-course/online-the-herb-and-formula-archetypes-the-outer-circle-part-one/
LOCATION:Hybrid Training Series (US)\, United States
CATEGORIES:Shanghan Lun
GEO:29.951061;-90.0812442
END:VEVENT
BEGIN:VEVENT
DTSTART;VALUE=DATE:20220625
DTEND;VALUE=DATE:20220627
DTSTAMP:20260419T155524
CREATED:20210219T220436Z
LAST-MODIFIED:20211019T012520Z
UID:14098-1656115200-1656287999@staging.iceam.org
SUMMARY:Online (US) - The Herb and Formula Archetypes: The Inner Circle
DESCRIPTION:This course is the instruction of specialized Materia Medica and formula studies in the service of canonical Chinese medicine as practiced by Zhang Zhongjing in the Shanghan Lun and the Jingui Yaolue.
URL:https://staging.iceam.org/live-course/online-the-herb-and-formula-archetypes-the-inner-circle/
LOCATION:Hybrid Training Series (US)\, United States
CATEGORIES:Shanghan Lun
GEO:29.951061;-90.0812442
END:VEVENT
BEGIN:VEVENT
DTSTART;VALUE=DATE:20220528
DTEND;VALUE=DATE:20220530
DTSTAMP:20260419T155524
CREATED:20210219T220855Z
LAST-MODIFIED:20211019T012511Z
UID:14097-1653696000-1653868799@staging.iceam.org
SUMMARY:Online (US) - The Energetics of the Five Flavors and Canonical Formulas
DESCRIPTION:Canonical Chinese Medicine is the style of Chinese medicine practiced along the tenets codified in the Western and Eastern Han dynasty (approx. 200 BC- 200 CE) medical classics or canons. It is the foundation of both clinical and theoretical Chinese medicine as we know it. Canonical Chinese medicine is comprised of two main schools being the Yellow Emperor huangdi 黄帝school of Medical Canons yijing pai 醫經派and the Divine Farmer shennong 神农school of Canonical Formulas jingfang pai经方派.
URL:https://staging.iceam.org/live-course/online-the-energetics-of-the-five-flavors-and-canonical-formulas/
LOCATION:Hybrid Training Series (US)\, United States
CATEGORIES:Shanghan Lun
GEO:29.951061;-90.0812442
END:VEVENT
BEGIN:VEVENT
DTSTART;VALUE=DATE:20220430
DTEND;VALUE=DATE:20220502
DTSTAMP:20260419T155524
CREATED:20210119T215751Z
LAST-MODIFIED:20211019T012501Z
UID:14095-1651276800-1651449599@staging.iceam.org
SUMMARY:Online (US) - Nineteen Lines on Pathology
DESCRIPTION:Chapter seventy-four of the Great Treatise on the Essence of the Utmost Truth zhizhen yaodalun of the Inner Classic of the Yellow Emperor huangdi neijing records the most encompassing and original rules in Chinese medicine pathology. The nineteen patterns\, most commonly known as the Nineteen Lines on Pathology\, are considered to be the most authoritative instructions on classical etio-pathology and the only discourse where a differentiation method based on the five phase energetics is presented. \nThere is great difficulty in understanding these instructions\, because they cannot be researched from merely a more modern Qing dynasty organ differentiation standpoint that we are most accustomed to. As such\, the only path to full understanding of the lines is an evaluation from all possible angles in classical Chinese medicine thinking. This evaluation will be engaged in by cross-referencing other classics like the Classic of Difficulties nan jing\, as well as later commentaries by masters like Zhang Jingyue\, etc. \nThe lines are structured along a twofold grid: the first outline along the five solid organs; while the second outline is arranged along the six Qi or six climatic influences. During the course\, all Solid Organ patterns will be studied and explained along with the most representative lines on the Six Qi. As such\, this course will provide the participant with a definitive understanding on classical Chinese medicine pathology and an excellent tool for the evaluation of difficult cases in clinic.
URL:https://staging.iceam.org/live-course/online-nineteen-lines-on-pathology/
LOCATION:Hybrid Training Series (US)\, United States
CATEGORIES:Shanghan Lun
GEO:29.951061;-90.0812442
END:VEVENT
END:VCALENDAR