BEGIN:VCALENDAR
VERSION:2.0
PRODID:-//ICEAM - ECPv6.15.20//NONSGML v1.0//EN
CALSCALE:GREGORIAN
METHOD:PUBLISH
X-ORIGINAL-URL:https://staging.iceam.org
X-WR-CALDESC:Events for ICEAM
REFRESH-INTERVAL;VALUE=DURATION:PT1H
X-Robots-Tag:noindex
X-PUBLISHED-TTL:PT1H
BEGIN:VTIMEZONE
TZID:America/Chicago
BEGIN:DAYLIGHT
TZOFFSETFROM:-0600
TZOFFSETTO:-0500
TZNAME:CDT
DTSTART:20210314T080000
END:DAYLIGHT
BEGIN:STANDARD
TZOFFSETFROM:-0500
TZOFFSETTO:-0600
TZNAME:CST
DTSTART:20211107T070000
END:STANDARD
BEGIN:DAYLIGHT
TZOFFSETFROM:-0600
TZOFFSETTO:-0500
TZNAME:CDT
DTSTART:20220313T080000
END:DAYLIGHT
BEGIN:STANDARD
TZOFFSETFROM:-0500
TZOFFSETTO:-0600
TZNAME:CST
DTSTART:20221106T070000
END:STANDARD
BEGIN:DAYLIGHT
TZOFFSETFROM:-0600
TZOFFSETTO:-0500
TZNAME:CDT
DTSTART:20230312T080000
END:DAYLIGHT
BEGIN:STANDARD
TZOFFSETFROM:-0500
TZOFFSETTO:-0600
TZNAME:CST
DTSTART:20231105T070000
END:STANDARD
END:VTIMEZONE
BEGIN:VEVENT
DTSTART;VALUE=DATE:20221008
DTEND;VALUE=DATE:20221009
DTSTAMP:20260419T172343
CREATED:20210225T190744Z
LAST-MODIFIED:20230202T155700Z
UID:14191-1665187200-1665273599@staging.iceam.org
SUMMARY:Online (Europe) - Shanghan Lun Pathophysiology and Basic Patterns
DESCRIPTION:The Treatise on Cold Damage or Shanghan Lun is one of the most prominent Eastern Han-dynasty (circa CE 200) classics in Chinese medicine and the first clinical handbook in China’s medical history. It is also the center of the Canonical Chinese Medicine Training. \nThe differentiation system and consequent text is outlined along a grid of six channels or confirmations. This course aims to provide an in-depth understanding into the nature of six confirmation pathologies as well as their systematic treatment. The introduction will present the book and its author in the social and geo-political setting of the Eastern Han dynasty. The concept of Cold Damage shanghan will be explained from the Inner Classic of the Yellow Emperor huangdi neijing and the Classic of Difficulties nanjing perspective as a class of externally triggered illnesses of potentially contagious and lethal nature. \nThe second part of the instruction will focus on providing clear insight in the core physiological functioning of the confirmations. Various models from the Neijing will be used to analyze and explain the physiology and consequent pathology of the six conformations. \nFollowing\, the instruction will focus on the understanding of the conformation pathologies at hand. Insight will be acquired into the sequential time-based nature of the confirmation pathologies and their passage patterns including pathological progression and therapeutic regression possibilities. \nThe remainder focuses on the core conformation pathologies. First we will study the standard or straight-up zheng patterns of all six conformations. The collective of these patterns forms the complete outline of the Shanghan Lun and its system of six conformation differentiation. The yang conformation patterns will be presented categorized as surface patterns biaozheng\, conformation or channel patterns jingzheng and bowel or internal hollow organ patterns fuzheng along with their standard treatment scenarios as embodied by the archetypical formulas. The straight-up yin conformation patterns will be categorized according the nature of their presentation. The aforementioned patterns will be taught in the form of formula patterns tangzheng which will correspond to the pulse patterns maizheng as taught in the pulse weekend and the abdominal patterns fuzheng as taught in the abdominal diagnosis weekend. Each pattern will be presented from the perspective of its hallmark symptoms. \nLastly\, the combined diseases hebing and co-existing patterns jianzheng\, often identified as diseases due to mistreatment huaibing will be presented. Regardless of how the illnesses came about\, the combined diseases will be categorized as yang conformation combined patterns\, yin conformation combined patterns\, and lastly yin-yang conformation combined patterns. In total\, the sixty core conformation patterns\, both simplex and complex\, of the whole Shanghan Lun will be covered. \nTo sign up\, email ldewit@utrecht.iceam.org
URL:https://staging.iceam.org/live-course/online-europe-shanghan-lun-pathophysiology-and-basic-patterns/
LOCATION:Hybrid Training Series (EU)\, Netherlands
CATEGORIES:Shanghan Lun
GEO:52.132633;5.291266
END:VEVENT
END:VCALENDAR