BEGIN:VCALENDAR
VERSION:2.0
PRODID:-//ICEAM - ECPv6.15.20//NONSGML v1.0//EN
CALSCALE:GREGORIAN
METHOD:PUBLISH
X-ORIGINAL-URL:https://staging.iceam.org
X-WR-CALDESC:Events for ICEAM
REFRESH-INTERVAL;VALUE=DURATION:PT1H
X-Robots-Tag:noindex
X-PUBLISHED-TTL:PT1H
BEGIN:VTIMEZONE
TZID:America/Chicago
BEGIN:DAYLIGHT
TZOFFSETFROM:-0600
TZOFFSETTO:-0500
TZNAME:CDT
DTSTART:20140309T080000
END:DAYLIGHT
BEGIN:STANDARD
TZOFFSETFROM:-0500
TZOFFSETTO:-0600
TZNAME:CST
DTSTART:20141102T070000
END:STANDARD
BEGIN:DAYLIGHT
TZOFFSETFROM:-0600
TZOFFSETTO:-0500
TZNAME:CDT
DTSTART:20150308T080000
END:DAYLIGHT
BEGIN:STANDARD
TZOFFSETFROM:-0500
TZOFFSETTO:-0600
TZNAME:CST
DTSTART:20151101T070000
END:STANDARD
BEGIN:DAYLIGHT
TZOFFSETFROM:-0600
TZOFFSETTO:-0500
TZNAME:CDT
DTSTART:20160313T080000
END:DAYLIGHT
BEGIN:STANDARD
TZOFFSETFROM:-0500
TZOFFSETTO:-0600
TZNAME:CST
DTSTART:20161106T070000
END:STANDARD
BEGIN:DAYLIGHT
TZOFFSETFROM:-0600
TZOFFSETTO:-0500
TZNAME:CDT
DTSTART:20170312T080000
END:DAYLIGHT
BEGIN:STANDARD
TZOFFSETFROM:-0500
TZOFFSETTO:-0600
TZNAME:CST
DTSTART:20171105T070000
END:STANDARD
BEGIN:DAYLIGHT
TZOFFSETFROM:-0600
TZOFFSETTO:-0500
TZNAME:CDT
DTSTART:20180311T080000
END:DAYLIGHT
BEGIN:STANDARD
TZOFFSETFROM:-0500
TZOFFSETTO:-0600
TZNAME:CST
DTSTART:20181104T070000
END:STANDARD
BEGIN:DAYLIGHT
TZOFFSETFROM:-0600
TZOFFSETTO:-0500
TZNAME:CDT
DTSTART:20190310T080000
END:DAYLIGHT
BEGIN:STANDARD
TZOFFSETFROM:-0500
TZOFFSETTO:-0600
TZNAME:CST
DTSTART:20191103T070000
END:STANDARD
BEGIN:DAYLIGHT
TZOFFSETFROM:-0600
TZOFFSETTO:-0500
TZNAME:CDT
DTSTART:20200308T080000
END:DAYLIGHT
BEGIN:STANDARD
TZOFFSETFROM:-0500
TZOFFSETTO:-0600
TZNAME:CST
DTSTART:20201101T070000
END:STANDARD
END:VTIMEZONE
BEGIN:VEVENT
DTSTART;VALUE=DATE:20190523
DTEND;VALUE=DATE:20190527
DTSTAMP:20260419T154623
CREATED:20150430T054300Z
LAST-MODIFIED:20170518T173112Z
UID:80-1558569600-1558915199@staging.iceam.org
SUMMARY:Gdansk- Tian-Lineage Shanghan Lun Pulse Diagnosis
DESCRIPTION:The Treatise on Cold Damage shanghan lun is the oldest surviving clinical handbook in the history of Chinese medicine. Written by Eastern Han dynasty (circa 200 CE) imperial envoy Zhang Zhongjing\, it is an integral part of his collective writings once labeled the Treatise on Cold Damage and Complex Diseases shanghan zabing lun. But the contents of the Shanghan Lun as we know it in current day is far from complete. The present versions studied in Chinese medical schools as well as in the West\, do not include the original first three chapters of Rules for Pulse Differentiation bianmai fa\, Rules on Pulse Assessment pingmai fa and Cold Damage Outline shanghan li. Regardless whatever motivation was behind the historical deletions of these passages\, of the aforementioned chapters\, the chapters on pulse instructions are crucial for anyone desiring to fully grasp Zhang Zhongjing’s clinical instructions. Especially since the pulse patterns maizheng form the core diagnostic parameters in the establishment of the formula patterns fangzheng by which the canonical clinician categorizes disease and therapy. \nNote regarding the Shanghan Lun and Jingui Yaolue Pulse Seminars: due to the proprietary and complex nature of these seminars\, they cannot be registered for individually and can only be taken as part of the total sequence. The pulse seminars are open for individual registration only to Diplomates of Canonical Chinese Medicine already certified by our institute who wish to retake the seminar.
URL:https://staging.iceam.org/live-course/gdansk-tian-lineage-shanghan-lun-pulse-diagnosis/
LOCATION:ICEAM Gdansk
CATEGORIES:Shanghan Lun
ORGANIZER;CN="Arnaud Versluys":MAILTO:aversluys@iceam.org
GEO:54.4152357;18.574909
END:VEVENT
BEGIN:VEVENT
DTSTART;VALUE=DATE:20160818
DTEND;VALUE=DATE:20160822
DTSTAMP:20260419T154623
CREATED:20150715T031314Z
LAST-MODIFIED:20170518T172817Z
UID:878-1471478400-1471823999@staging.iceam.org
SUMMARY:Frankfurt - Tian-Lineage Shanghan Lun Pulse Diagnosis
DESCRIPTION:The Treatise on Cold Damage shanghan lun is the oldest surviving clinical handbook in the history of Chinese medicine. Written by Eastern Han dynasty (circa 200 CE) imperial envoy Zhang Zhongjing\, it is an integral part of his collective writings once labeled the Treatise on Cold Damage and Complex Diseases shanghan zabing lun. But the contents of the Shanghan Lun as we know it in current day is far from complete. The present versions studied in Chinese medical schools as well as in the West\, do not include the original first three chapters of Rules for Pulse Differentiation bianmai fa\, Rules on Pulse Assessment pingmai fa and Cold Damage Outline shanghan li. Regardless whatever motivation was behind the historical deletions of these passages\, of the aforementioned chapters\, the chapters on pulse instructions are crucial for anyone desiring to fully grasp Zhang Zhongjing’s clinical instructions. Especially since the pulse patterns maizheng form the core diagnostic parameters in the establishment of the formula patterns fangzheng by which the canonical clinician categorizes disease and therapy. \nNote regarding the Shanghan Lun and Jingui Yaolue Pulse Seminars: due to the proprietary and complex nature of these seminars\, they cannot be registered for individually and can only be taken as part of the total sequence. The pulse seminars are open for individual registration only to Diplomates of Canonical Chinese Medicine already certified by our institute who wish to retake the seminar.
URL:https://staging.iceam.org/live-course/frankfurt-tian-lineage-shanghan-lun-pulse-diagnosis/
LOCATION:ICEAM Frankfurt\, Frankfurter Straße 59\, Offenbach\, 63067\, Germany
CATEGORIES:Shanghan Lun
ORGANIZER;CN="Arnaud Versluys":MAILTO:aversluys@iceam.org
GEO:50.1048381;8.7579497
X-APPLE-STRUCTURED-LOCATION;VALUE=URI;X-ADDRESS=ICEAM Frankfurt Frankfurter Straße 59 Offenbach 63067 Germany;X-APPLE-RADIUS=500;X-TITLE=Frankfurter Straße 59:geo:8.7579497,50.1048381
END:VEVENT
BEGIN:VEVENT
DTSTART;VALUE=DATE:20151205
DTEND;VALUE=DATE:20151207
DTSTAMP:20260419T154623
CREATED:20150715T104719Z
LAST-MODIFIED:20170518T172758Z
UID:1041-1449273600-1449446399@staging.iceam.org
SUMMARY:Amsterdam - Tian-Lineage Shanghan Lun Pulse Diagnosis
DESCRIPTION:The Treatise on Cold Damage shanghan lun is the oldest surviving clinical handbook in the history of Chinese medicine. Written by Eastern Han dynasty (circa 200 CE) imperial envoy Zhang Zhongjing\, it is an integral part of his collective writings once labeled the Treatise on Cold Damage and Complex Diseases shanghan zabing lun. But the contents of the Shanghan Lun as we know it in current day is far from complete. The present versions studied in Chinese medical schools as well as in the West\, do not include the original first three chapters of Rules for Pulse Differentiation bianmai fa\, Rules on Pulse Assessment pingmai fa and Cold Damage Outline shanghan li. Regardless whatever motivation was behind the historical deletions of these passages\, of the aforementioned chapters\, the chapters on pulse instructions are crucial for anyone desiring to fully grasp Zhang Zhongjing’s clinical instructions. Especially since the pulse patterns maizheng form the core diagnostic parameters in the establishment of the formula patterns fangzheng by which the canonical clinician categorizes disease and therapy. \nNote regarding the Shanghan Lun and Jingui Yaolue Pulse Seminars: due to the proprietary and complex nature of these seminars\, they cannot be registered for individually and can only be taken as part of the total sequence. The pulse seminars are open for individual registration only to Diplomates of Canonical Chinese Medicine already certified by our institute who wish to retake the seminar.
URL:https://staging.iceam.org/live-course/amsterdam-tian-lineage-shanghan-lun-pulse-diagnosis/
LOCATION:ICEAM Amsterdam\, Academie voor Chinese Geneeswijzen Qing-Bai\, Postbus 31412\, Amsterdam\, CK Nijmegen\, 6503\, Netherlands
CATEGORIES:Shanghan Lun
ORGANIZER;CN="Arnaud Versluys":MAILTO:aversluys@iceam.org
GEO:52.3702157;4.8951679
X-APPLE-STRUCTURED-LOCATION;VALUE=URI;X-ADDRESS=ICEAM Amsterdam Academie voor Chinese Geneeswijzen Qing-Bai Postbus 31412 Amsterdam CK Nijmegen 6503 Netherlands;X-APPLE-RADIUS=500;X-TITLE=Academie voor Chinese Geneeswijzen Qing-Bai\, Postbus 31412:geo:4.8951679,52.3702157
END:VEVENT
END:VCALENDAR