BEGIN:VCALENDAR
VERSION:2.0
PRODID:-//ICEAM - ECPv6.15.20//NONSGML v1.0//EN
CALSCALE:GREGORIAN
METHOD:PUBLISH
X-ORIGINAL-URL:https://staging.iceam.org
X-WR-CALDESC:Events for ICEAM
REFRESH-INTERVAL;VALUE=DURATION:PT1H
X-Robots-Tag:noindex
X-PUBLISHED-TTL:PT1H
BEGIN:VTIMEZONE
TZID:America/New_York
BEGIN:DAYLIGHT
TZOFFSETFROM:-0500
TZOFFSETTO:-0400
TZNAME:EDT
DTSTART:20270314T070000
END:DAYLIGHT
BEGIN:STANDARD
TZOFFSETFROM:-0400
TZOFFSETTO:-0500
TZNAME:EST
DTSTART:20271107T060000
END:STANDARD
BEGIN:DAYLIGHT
TZOFFSETFROM:-0500
TZOFFSETTO:-0400
TZNAME:EDT
DTSTART:20280312T070000
END:DAYLIGHT
BEGIN:STANDARD
TZOFFSETFROM:-0400
TZOFFSETTO:-0500
TZNAME:EST
DTSTART:20281105T060000
END:STANDARD
BEGIN:DAYLIGHT
TZOFFSETFROM:-0500
TZOFFSETTO:-0400
TZNAME:EDT
DTSTART:20290311T070000
END:DAYLIGHT
BEGIN:STANDARD
TZOFFSETFROM:-0400
TZOFFSETTO:-0500
TZNAME:EST
DTSTART:20291104T060000
END:STANDARD
END:VTIMEZONE
BEGIN:VEVENT
DTSTART;VALUE=DATE:20280603
DTEND;VALUE=DATE:20280605
DTSTAMP:20260420T231722
CREATED:20251209T172813Z
LAST-MODIFIED:20251218T212613Z
UID:22812-1843603200-1843775999@staging.iceam.org
SUMMARY:Jin Gui Pulse (LIVE IN-PERSON\, Marseille)
DESCRIPTION:Diagnosis in Han-dynasty was primarily done by taking the pulse. Every formula can be identified through one or more pulse patterns presenting in the patient. Though many pulses are mentioned in the Jingui Yaolue\, crucial detail is often hidden\, and it is as if this knowledge is merely implicitly present\, as if it were embedded… \nLearn More
URL:https://staging.iceam.org/live-course/jin-gui-pulse/
LOCATION:ICEAM Marseille\, Marseille\, France
ORGANIZER;CN="ICEAM Marseille":MAILTO:sanbentun@protonmail.com
GEO:40.7087931;-74.0068363
END:VEVENT
END:VCALENDAR