BEGIN:VCALENDAR
VERSION:2.0
PRODID:-//ICEAM - ECPv6.15.20//NONSGML v1.0//EN
CALSCALE:GREGORIAN
METHOD:PUBLISH
X-ORIGINAL-URL:https://staging.iceam.org
X-WR-CALDESC:Events for ICEAM
REFRESH-INTERVAL;VALUE=DURATION:PT1H
X-Robots-Tag:noindex
X-PUBLISHED-TTL:PT1H
BEGIN:VTIMEZONE
TZID:America/New_York
BEGIN:DAYLIGHT
TZOFFSETFROM:-0500
TZOFFSETTO:-0400
TZNAME:EDT
DTSTART:20260308T070000
END:DAYLIGHT
BEGIN:STANDARD
TZOFFSETFROM:-0400
TZOFFSETTO:-0500
TZNAME:EST
DTSTART:20261101T060000
END:STANDARD
BEGIN:DAYLIGHT
TZOFFSETFROM:-0500
TZOFFSETTO:-0400
TZNAME:EDT
DTSTART:20270314T070000
END:DAYLIGHT
BEGIN:STANDARD
TZOFFSETFROM:-0400
TZOFFSETTO:-0500
TZNAME:EST
DTSTART:20271107T060000
END:STANDARD
BEGIN:DAYLIGHT
TZOFFSETFROM:-0500
TZOFFSETTO:-0400
TZNAME:EDT
DTSTART:20280312T070000
END:DAYLIGHT
BEGIN:STANDARD
TZOFFSETFROM:-0400
TZOFFSETTO:-0500
TZNAME:EST
DTSTART:20281105T060000
END:STANDARD
END:VTIMEZONE
BEGIN:VEVENT
DTSTART;VALUE=DATE:20270710
DTEND;VALUE=DATE:20270712
DTSTAMP:20260420T062158
CREATED:20251209T172117Z
LAST-MODIFIED:20251218T212352Z
UID:22793-1815177600-1815350399@staging.iceam.org
SUMMARY:Formula Families (LIVE Webinar\, Online)
DESCRIPTION:The Shanghan Zabing Lun or the Treatise on Cold Damage and Complex Diseases is considered the forefather of all formula books. The original work was lost to the tooth of time\, but most of its contents are preserved in two extant works called the Treatise on Cold Damage shanghan lun and the Concise Essentials of the Golden Cabinet jingui yaolue… \nLearn More
URL:https://staging.iceam.org/live-course/formula-families/
LOCATION:ICEAM Marseille\, Marseille\, France
ORGANIZER;CN="ICEAM Marseille":MAILTO:sanbentun@protonmail.com
GEO:40.7087931;-74.0068363
END:VEVENT
END:VCALENDAR