BEGIN:VCALENDAR
VERSION:2.0
PRODID:-//ICEAM - ECPv6.15.20//NONSGML v1.0//EN
CALSCALE:GREGORIAN
METHOD:PUBLISH
X-ORIGINAL-URL:https://staging.iceam.org
X-WR-CALDESC:Events for ICEAM
REFRESH-INTERVAL;VALUE=DURATION:PT1H
X-Robots-Tag:noindex
X-PUBLISHED-TTL:PT1H
BEGIN:VTIMEZONE
TZID:Australia/Brisbane
BEGIN:STANDARD
TZOFFSETFROM:+1000
TZOFFSETTO:+1000
TZNAME:AEST
DTSTART:20240101T000000
END:STANDARD
END:VTIMEZONE
BEGIN:VTIMEZONE
TZID:America/New_York
BEGIN:DAYLIGHT
TZOFFSETFROM:-0500
TZOFFSETTO:-0400
TZNAME:EDT
DTSTART:20240310T070000
END:DAYLIGHT
BEGIN:STANDARD
TZOFFSETFROM:-0400
TZOFFSETTO:-0500
TZNAME:EST
DTSTART:20241103T060000
END:STANDARD
BEGIN:DAYLIGHT
TZOFFSETFROM:-0500
TZOFFSETTO:-0400
TZNAME:EDT
DTSTART:20250309T070000
END:DAYLIGHT
BEGIN:STANDARD
TZOFFSETFROM:-0400
TZOFFSETTO:-0500
TZNAME:EST
DTSTART:20251102T060000
END:STANDARD
BEGIN:DAYLIGHT
TZOFFSETFROM:-0500
TZOFFSETTO:-0400
TZNAME:EDT
DTSTART:20260308T070000
END:DAYLIGHT
BEGIN:STANDARD
TZOFFSETFROM:-0400
TZOFFSETTO:-0500
TZNAME:EST
DTSTART:20261101T060000
END:STANDARD
END:VTIMEZONE
BEGIN:VEVENT
DTSTART;VALUE=DATE:20250131
DTEND;VALUE=DATE:20250203
DTSTAMP:20260420T040417
CREATED:20231116T200445Z
LAST-MODIFIED:20240419T104400Z
UID:18787-1738281600-1738540799@staging.iceam.org
SUMMARY:Online (Brisbane) - Shanghan Lun Canonical Formula Modification System
DESCRIPTION:DETAILS\nNote: This webinar will be held live on Zoom\nInstructor: Jean-Paul Staats\nStart: January 31\, 2025\nEnd: February 2\, 2025\nTimes: 4 – 8:30pm Brisbane Australia time zone each day\nPricing: USD 600\nPricing (early bird): USD 540 – ends January 10th\, 2025! \nDuring this course\, a strict system of clinical modification will be taught. The system was developed by Dr. Versluys over the course of the last ten years by analyzing both Zhang Zhongjing’s prescriptions as well as the characteristics of the Tian-Zeng lineage’s clinical practice. It is fully grounded and based in the classical writings of the original designer of the formulas\, Zhang Zhongjing. The system is organized along a hierarchical system of formula modifications and provides a failsafe method for modification to adapt to a broader collection of complex clinical manifestations as often encountered in Chinese medicine clinic in the West. A waterproof modification system forms the basis of classical herbal practice and the elimination of random clinical variables which are the greatest cause for failure in clinic.
URL:https://staging.iceam.org/live-course/online-brisbane-shanghan-lun-canonical-formula-modification-system/
LOCATION:ICEAM Brisbane\, 23 Victoria St.\, Clayfield\, Queensland\, 4011\, Australia
CATEGORIES:Shanghan Lun
GEO:-27.3900494;153.0500364
X-APPLE-STRUCTURED-LOCATION;VALUE=URI;X-ADDRESS=ICEAM Brisbane 23 Victoria St. Clayfield Queensland 4011 Australia;X-APPLE-RADIUS=500;X-TITLE=23 Victoria St.:geo:153.0500364,-27.3900494
END:VEVENT
BEGIN:VEVENT
DTSTART;VALUE=DATE:20250208
DTEND;VALUE=DATE:20250210
DTSTAMP:20260420T040417
CREATED:20240812T125340Z
LAST-MODIFIED:20240812T125340Z
UID:20583-1738972800-1739145599@staging.iceam.org
SUMMARY:The Herb and Formula Archetypes: The Inner Circle (Online)
DESCRIPTION:Instructor(s): Collin Campbell \nRegister for full Diplomate of Canonical Chinese Medicine® program at https://www.canonicalchinesemedicine.org/
URL:https://staging.iceam.org/live-course/the-herb-and-formula-archetypes-the-inner-circle-online/
END:VEVENT
END:VCALENDAR