BEGIN:VCALENDAR
VERSION:2.0
PRODID:-//ICEAM - ECPv6.15.20//NONSGML v1.0//EN
CALSCALE:GREGORIAN
METHOD:PUBLISH
X-ORIGINAL-URL:https://staging.iceam.org
X-WR-CALDESC:Events for ICEAM
REFRESH-INTERVAL;VALUE=DURATION:PT1H
X-Robots-Tag:noindex
X-PUBLISHED-TTL:PT1H
BEGIN:VTIMEZONE
TZID:Europe/Berlin
BEGIN:DAYLIGHT
TZOFFSETFROM:+0100
TZOFFSETTO:+0200
TZNAME:CEST
DTSTART:20230326T010000
END:DAYLIGHT
BEGIN:STANDARD
TZOFFSETFROM:+0200
TZOFFSETTO:+0100
TZNAME:CET
DTSTART:20231029T010000
END:STANDARD
BEGIN:DAYLIGHT
TZOFFSETFROM:+0100
TZOFFSETTO:+0200
TZNAME:CEST
DTSTART:20240331T010000
END:DAYLIGHT
BEGIN:STANDARD
TZOFFSETFROM:+0200
TZOFFSETTO:+0100
TZNAME:CET
DTSTART:20241027T010000
END:STANDARD
BEGIN:DAYLIGHT
TZOFFSETFROM:+0100
TZOFFSETTO:+0200
TZNAME:CEST
DTSTART:20250330T010000
END:DAYLIGHT
BEGIN:STANDARD
TZOFFSETFROM:+0200
TZOFFSETTO:+0100
TZNAME:CET
DTSTART:20251026T010000
END:STANDARD
END:VTIMEZONE
BEGIN:VTIMEZONE
TZID:Australia/Brisbane
BEGIN:STANDARD
TZOFFSETFROM:+1000
TZOFFSETTO:+1000
TZNAME:AEST
DTSTART:20230101T000000
END:STANDARD
END:VTIMEZONE
BEGIN:VTIMEZONE
TZID:Europe/London
BEGIN:DAYLIGHT
TZOFFSETFROM:+0000
TZOFFSETTO:+0100
TZNAME:BST
DTSTART:20230326T010000
END:DAYLIGHT
BEGIN:STANDARD
TZOFFSETFROM:+0100
TZOFFSETTO:+0000
TZNAME:GMT
DTSTART:20231029T010000
END:STANDARD
BEGIN:DAYLIGHT
TZOFFSETFROM:+0000
TZOFFSETTO:+0100
TZNAME:BST
DTSTART:20240331T010000
END:DAYLIGHT
BEGIN:STANDARD
TZOFFSETFROM:+0100
TZOFFSETTO:+0000
TZNAME:GMT
DTSTART:20241027T010000
END:STANDARD
BEGIN:DAYLIGHT
TZOFFSETFROM:+0000
TZOFFSETTO:+0100
TZNAME:BST
DTSTART:20250330T010000
END:DAYLIGHT
BEGIN:STANDARD
TZOFFSETFROM:+0100
TZOFFSETTO:+0000
TZNAME:GMT
DTSTART:20251026T010000
END:STANDARD
END:VTIMEZONE
BEGIN:VEVENT
DTSTART;TZID=Europe/Berlin:20241109T090000
DTEND;TZID=Europe/Berlin:20241109T170000
DTSTAMP:20260420T083617
CREATED:20240318T173008Z
LAST-MODIFIED:20240318T173211Z
UID:19895-1731142800-1731171600@staging.iceam.org
SUMMARY:Bonn Clinical Training Day (11/9)
DESCRIPTION:Name: Bonn Clinical Training Day\nDates: November 9th 2024\nTimes: 9am – 5pm Central European Time\nInstructor: Laurie Ayres\nSummary: Observe an ICEAM clinical supervisor take pulses and write formulas in clinic. Limited to 15 students per day. Maximum 25 patients per day. Patient contacts count towards fulfillment of clinical certification as Fellow of the Institute of Classics in East Asian Medicine. \nPlease contact becker.in@t-online.de to register.
URL:https://staging.iceam.org/live-course/bonn-clinical-training-day-11-9/
LOCATION:ICEAM Bonn\, Bonn\, Germany
GEO:50.73743;7.0982068
END:VEVENT
BEGIN:VEVENT
DTSTART;TZID=Europe/Berlin:20241110T090000
DTEND;TZID=Europe/Berlin:20241110T170000
DTSTAMP:20260420T083617
CREATED:20240318T172904Z
LAST-MODIFIED:20240920T171416Z
UID:19889-1731229200-1731258000@staging.iceam.org
SUMMARY:Bonn Clinical Training Day (11/10)
DESCRIPTION:Name: Bonn Clinical Training Day\nDates: November 10th 2024\nTimes: 9am – 5pm Central European Time\nInstructor: Laurie Ayres\nSummary: Observe an ICEAM clinical supervisor take pulses and write formulas in clinic. Limited to 15 students per day. Maximum 25 patients per day. Patient contacts count towards fulfillment of clinical certification as Fellow of the Institute of Classics in East Asian Medicine. \nPlease contact becker.in@t-online.de to register.
URL:https://staging.iceam.org/live-course/bonn-clinical-training-day-11-10/
LOCATION:ICEAM Bonn\, Bonn\, Germany
GEO:50.73743;7.0982068
END:VEVENT
BEGIN:VEVENT
DTSTART;TZID=Australia/Brisbane:20241113T090000
DTEND;TZID=Australia/Brisbane:20241113T170000
DTSTAMP:20260420T083617
CREATED:20240307T170233Z
LAST-MODIFIED:20240317T172604Z
UID:19799-1731488400-1731517200@staging.iceam.org
SUMMARY:Gdansk Clinical Training Day (11/13)
DESCRIPTION:Name: Gdansk Clinical Training Day\nDates: November 13th 2024\nTimes: 9am – 5pm Central European time\nSummary: Observe an ICEAM clinical supervisor take pulses and write formulas in clinic. Limited to 15 students per day. Maximum 25 patients per day. Patient contacts count towards fulfillment of clinical certification as Fellow of the Institute of Classics in East Asian Medicine. \nPlease contact dszymula@gdansk.iceam.org to register.
URL:https://staging.iceam.org/live-course/gdansk-clinical-training-day-11-13/
LOCATION:ICEAM Gdansk
GEO:54.4152357;18.574909
END:VEVENT
BEGIN:VEVENT
DTSTART;TZID=Australia/Brisbane:20241118T090000
DTEND;TZID=Australia/Brisbane:20241118T170000
DTSTAMP:20260420T083617
CREATED:20240307T170355Z
LAST-MODIFIED:20240317T172555Z
UID:19804-1731920400-1731949200@staging.iceam.org
SUMMARY:Gdansk Clinical Training Day (11/18)
DESCRIPTION:Name: Gdansk Clinical Training Day\nDates: November 18th 2024\nTimes: 9am – 5pm Central European time\nSummary: Observe an ICEAM clinical supervisor take pulses and write formulas in clinic. Limited to 15 students per day. Maximum 25 patients per day. Patient contacts count towards fulfillment of clinical certification as Fellow of the Institute of Classics in East Asian Medicine. \nPlease contact dszymula@gdansk.iceam.org to register.
URL:https://staging.iceam.org/live-course/gdansk-clinical-training-day-11-18/
LOCATION:ICEAM Gdansk
GEO:54.4152357;18.574909
END:VEVENT
BEGIN:VEVENT
DTSTART;TZID=Australia/Brisbane:20241119T090000
DTEND;TZID=Australia/Brisbane:20241119T170000
DTSTAMP:20260420T083617
CREATED:20240307T170411Z
LAST-MODIFIED:20240317T172545Z
UID:19805-1732006800-1732035600@staging.iceam.org
SUMMARY:Gdansk Clinical Training Day (11/19)
DESCRIPTION:Name: Gdansk Clinical Training Day\nDates: November 19th 2024\nTimes: 9am – 5pm Central European time\nSummary: Observe an ICEAM clinical supervisor take pulses and write formulas in clinic. Limited to 15 students per day. Maximum 25 patients per day. Patient contacts count towards fulfillment of clinical certification as Fellow of the Institute of Classics in East Asian Medicine. \nPlease contact dszymula@gdansk.iceam.org to register.
URL:https://staging.iceam.org/live-course/gdansk-clinical-training-day-11-19/
LOCATION:ICEAM Gdansk
GEO:54.4152357;18.574909
END:VEVENT
BEGIN:VEVENT
DTSTART;VALUE=DATE:20241123
DTEND;VALUE=DATE:20241125
DTSTAMP:20260420T083617
CREATED:20210225T190742Z
LAST-MODIFIED:20230202T155845Z
UID:14184-1732320000-1732492799@staging.iceam.org
SUMMARY:Online  (Europe)– Diseases of the Jingui Yaolue\, Part Two
DESCRIPTION:This is the authoritative instruction of the etio-pathology and treatment of over 70 complex diseases recorded in the Essentials of the Golden Cabinet or Jingui Yaolue. During these two weekends\, virtually all illnesses of the original text are discussed in great detail\, allowing the student to gain an ultimate and conclusive insight into the pathomechanisms behind these often chronic\, recalcitrant and debilitating illnesses. The formulas used in the Jingui are taught in their respective clinical contexts. \nTo sign up\, email ldewit@utrecht.iceam.org
URL:https://staging.iceam.org/live-course/online-europe-diseases-of-the-jingui-yaolue-part-two/
LOCATION:Hybrid Training Series (EU)\, Netherlands
CATEGORIES:Jingui Yaolue
GEO:52.132633;5.291266
END:VEVENT
BEGIN:VEVENT
DTSTART;VALUE=DATE:20241129
DTEND;VALUE=DATE:20241202
DTSTAMP:20260420T083617
CREATED:20231116T200437Z
LAST-MODIFIED:20240419T104338Z
UID:18786-1732838400-1733097599@staging.iceam.org
SUMMARY:Online (Brisbane) - Shanghan Zabing Lun Formula Families
DESCRIPTION:DETAILS\nNote: This webinar will be held live on Zoom\nStart: November 29\, 2024\nEnd: December 1\, 2024\nTimes: 4 – 8:30pm Brisbane Australia time zone each day\nPricing: USD 600\nPricing (early bird): USD 540 – ends November 8th\, 2024! \nThe Shanghan Zabing Lun or the Treatise on Cold Damage and Complex Diseases is considered the forefather of all formula books. The original work was lost to the tooth of time\, but most of its contents are preserved in two extant works called the Treatise on Cold Damage shanghan lun and the Concise Essentials of the Golden Cabinet jingui yaolue. The first work primarily addresses externally triggered disorders while the latter work describes the pathology and treatment of complex diseases generated internally. \nThe herbal prescriptions or formulas recorded in this work form the basis for the practice of Chinese herbal medicine. And only in-depth understanding of the architecture of these formulas will ensure their effective and safe use in clinic. Furthermore\, only an encompassing insight in the inter-connectedness of the formulas and their modular nature will allow a practitioner to expand on their clinical application ion modern clinic settings. As such\, when studying these formulas\, it is imperative to cross-reference the aforementioned two works because only cross-reference will allow the practitioner to see the greater picture and reveal the full application context of a prescription. Since complex diseases are often compounded versions of simplex conformation illnesses\, Jingui formulas are often hybrid modifications of the Shanghan formulas and vice-versa. \nThe course will instruct on the architecture of the classical herbal formulas of the Shanghan Lun and the Jingui Yaolue in cross-reference\, demonstrating how they relate to each other and illustrating the full breadth of their clinical indications. The Shanghan Lun and Jingui Yaolue formulas are related like family members and their architectural characteristics will be taught in a modular pedigree fashion. As a starting point\, the formulas will be categorized in formula families which will show their mutual relationships. The very concept of formula families was introduced by Zhang Zhongjing in the taiyin chapter of the Shanghan Lun\, and was greatly expanded upon by two Qing dynasty Shanghan Lun specialists and commentators\, Xu Lingtai in China and Todo Yoshimasu of Japan. \nPractically the course will provide an in-depth discussion on a core selection of formulas\, including both formulas for external invasion\, as well as internal damage\, all categorized along core formula families. The familial affinity of formulas revolves around shared herb methods. Herb methods represent the full spectrum functions of an herb in different formulaic contexts. The course will instruct on the formula families of some of the most central herbs methods of the Zhang Zhongjing universe. The families are: Guizhi family\, Mahuang Family\, Fuling family\, Shigao Family\, Dahuang Family\, Huanglian Family\, Chaihu Family\, Ganjiang Family\, Renshen Family\, Banxia Family\, Fuzi Family\, Shengdihuang Family\, and the Danggui Family\, etc. These are the very herb methods whose diagnostic parameters were taught in the pulse and abdomen seminars. In total around 200+ prescriptions will be discussed\, which is approximately 60% of the Zhang Zhongjing formula collective.
URL:https://staging.iceam.org/live-course/online-brisbane-shanghan-zabing-lun-formula-families/
LOCATION:ICEAM Brisbane\, 23 Victoria St.\, Clayfield\, Queensland\, 4011\, Australia
CATEGORIES:Shanghan Lun
GEO:-27.3900494;153.0500364
X-APPLE-STRUCTURED-LOCATION;VALUE=URI;X-ADDRESS=ICEAM Brisbane 23 Victoria St. Clayfield Queensland 4011 Australia;X-APPLE-RADIUS=500;X-TITLE=23 Victoria St.:geo:153.0500364,-27.3900494
END:VEVENT
END:VCALENDAR