BEGIN:VCALENDAR
VERSION:2.0
PRODID:-//ICEAM - ECPv6.15.20//NONSGML v1.0//EN
CALSCALE:GREGORIAN
METHOD:PUBLISH
X-WR-CALNAME:ICEAM
X-ORIGINAL-URL:https://staging.iceam.org
X-WR-CALDESC:Events for ICEAM
REFRESH-INTERVAL;VALUE=DURATION:PT1H
X-Robots-Tag:noindex
X-PUBLISHED-TTL:PT1H
BEGIN:VTIMEZONE
TZID:America/Chicago
BEGIN:DAYLIGHT
TZOFFSETFROM:-0600
TZOFFSETTO:-0500
TZNAME:CDT
DTSTART:20230312T080000
END:DAYLIGHT
BEGIN:STANDARD
TZOFFSETFROM:-0500
TZOFFSETTO:-0600
TZNAME:CST
DTSTART:20231105T070000
END:STANDARD
BEGIN:DAYLIGHT
TZOFFSETFROM:-0600
TZOFFSETTO:-0500
TZNAME:CDT
DTSTART:20240310T080000
END:DAYLIGHT
BEGIN:STANDARD
TZOFFSETFROM:-0500
TZOFFSETTO:-0600
TZNAME:CST
DTSTART:20241103T070000
END:STANDARD
BEGIN:DAYLIGHT
TZOFFSETFROM:-0600
TZOFFSETTO:-0500
TZNAME:CDT
DTSTART:20250309T080000
END:DAYLIGHT
BEGIN:STANDARD
TZOFFSETFROM:-0500
TZOFFSETTO:-0600
TZNAME:CST
DTSTART:20251102T070000
END:STANDARD
END:VTIMEZONE
BEGIN:VTIMEZONE
TZID:Europe/London
BEGIN:DAYLIGHT
TZOFFSETFROM:+0000
TZOFFSETTO:+0100
TZNAME:BST
DTSTART:20230326T010000
END:DAYLIGHT
BEGIN:STANDARD
TZOFFSETFROM:+0100
TZOFFSETTO:+0000
TZNAME:GMT
DTSTART:20231029T010000
END:STANDARD
BEGIN:DAYLIGHT
TZOFFSETFROM:+0000
TZOFFSETTO:+0100
TZNAME:BST
DTSTART:20240331T010000
END:DAYLIGHT
BEGIN:STANDARD
TZOFFSETFROM:+0100
TZOFFSETTO:+0000
TZNAME:GMT
DTSTART:20241027T010000
END:STANDARD
BEGIN:DAYLIGHT
TZOFFSETFROM:+0000
TZOFFSETTO:+0100
TZNAME:BST
DTSTART:20250330T010000
END:DAYLIGHT
BEGIN:STANDARD
TZOFFSETFROM:+0100
TZOFFSETTO:+0000
TZNAME:GMT
DTSTART:20251026T010000
END:STANDARD
END:VTIMEZONE
BEGIN:VEVENT
DTSTART;VALUE=DATE:20241012
DTEND;VALUE=DATE:20241017
DTSTAMP:20260420T095822
CREATED:20240717T162658Z
LAST-MODIFIED:20241002T083852Z
UID:20425-1728691200-1729123199@staging.iceam.org
SUMMARY:2024 New Orleans ICEAM Advanced Seminar
DESCRIPTION:Title: Tian Lineage© Shanghan Lun Pulse Diagnosis™ Intensive\nDetails:\nPresenter: Arnaud Versluys\, PhD\, MD (China)\, LAc \nLocation: Audubon Zoo Nature Institute\, 6500 Magazine St\, New Orleans\, LA 70118 \nCEUs: 30 NCCAOM Credits (pending) 30 California PDA (approved) \nFor whom: Diplomates\, and any student who has already taken SHL Pulses \nCourse Description:\nThis advanced seminar builds on the Shanghan Lun Pulse Diagnosis seminar that is part of the Diplomate training. The basic pulse diagnosis seminar provides the student with a selection of relevant instructions on Han dynasty pulse theory\, as well the basic primary and sometimes secondary pulse presentations for a core selection of Shanghan Lun formulas. This advanced seminar subsequently provides a greater depth of theoretical understanding\, along with the FULL list of primary\, secondary and\, if applicable\, tertiary pulses for ALL Shanghan Lun formulas\, including the most obscure and never-discussed prescriptions. \nThe transmission of the pulses will be given in the same order in which Dr. Tian transmitted them to his disciples in 1970\, the last time he ever did so. This allows us to follow along with his train of thought. Furthermore\, the seminar is replete with direct quotes from Dr. Tian on the meaning of the pulses for each formula. It is as if Dr. Tian is talking to us directly! Included in the seminar are Dr. Tian’s pulse-only based modification instructions for each formula. These were not included in the Tian Modification seminar before. \nThe general outline of the course is first an integral line-by-line instruction of the Pulse Differentiation Methods (bianmai fa) chapter of the original Shanghan Lun\, followed by Dr. Tian’s specific pulse theory\, including the pulse poems recorded in the Zeng family notebooks. Lastly\, every pulse for every Shanghan Lun formula will be instructed. \nThe seminar is open to Diplomates and any student who has successfully completed the Shanghan Lun pulse diagnosis seminar. Diplomates can sign up for the seminar online. For students who have not yet graduated but are eligible to attend\, please email aversluys@iceam.org to register manually. \nThis is the most in-depth and most complete Tian Lineage Shanghan Lun pulse diagnosis seminar\, offered ever. There is nothing to be learned beyond this. The seminar has been many years in development\, and it is finally being delivered live. It will not be made available as a recording. The Shanghan Lun Pulse Advanced is the first part and will be followed by the Jingui Pulse Advanced in the coming years. The seminar is being offered in the US first and we welcome everybody to attend. In case you cannot make it to New Orleans\, we also intend to offer it live in Australia and Europe in the coming years. \nRegistration Officially Closed
URL:https://staging.iceam.org/live-course/2024-new-orleans-iceam-advanced-seminar/
LOCATION:ICEAM New Orleans\, Audubon Nature Institute\, 6500 Magazine St\, New Orleans\, LA\, 70118\, United States
CATEGORIES:Advanced
GEO:29.923394;-90.12961
X-APPLE-STRUCTURED-LOCATION;VALUE=URI;X-ADDRESS=ICEAM New Orleans Audubon Nature Institute 6500 Magazine St New Orleans LA 70118 United States;X-APPLE-RADIUS=500;X-TITLE=Audubon Nature Institute\, 6500 Magazine St:geo:-90.12961,29.923394
END:VEVENT
BEGIN:VEVENT
DTSTART;TZID=America/Chicago:20241012T090000
DTEND;TZID=America/Chicago:20241012T170000
DTSTAMP:20260420T095822
CREATED:20240318T171918Z
LAST-MODIFIED:20240318T172139Z
UID:19867-1728723600-1728752400@staging.iceam.org
SUMMARY:Chicago Clinical Training Day (10/12)
DESCRIPTION:Name: Chicago Clinical Training Day\nDates: October 12th 2024\nTimes: 9am – 5pm Central Time\nInstructor: Stephen Bonzak\nSummary: Observe an ICEAM clinical supervisor take pulses and write formulas in clinic. Limited to 15 students per day. Maximum 25 patients per day. Patient contacts count towards fulfillment of clinical certification as Fellow of the Institute of Classics in East Asian Medicine. \nPlease contact sbonzak@chicago.iceam.org to register.
URL:https://staging.iceam.org/live-course/chicago-clinical-training-day-10-12/
LOCATION:ICEAM Chicago\, 65 E. Wacker Pl.\, Chicago\, IL\, 60601\, United States
GEO:41.8865275;-87.6255408
X-APPLE-STRUCTURED-LOCATION;VALUE=URI;X-ADDRESS=ICEAM Chicago 65 E. Wacker Pl. Chicago IL 60601 United States;X-APPLE-RADIUS=500;X-TITLE=65 E. Wacker Pl.:geo:-87.6255408,41.8865275
END:VEVENT
BEGIN:VEVENT
DTSTART;TZID=America/Chicago:20241013T090000
DTEND;TZID=America/Chicago:20241013T170000
DTSTAMP:20260420T095822
CREATED:20240318T171945Z
LAST-MODIFIED:20240318T172144Z
UID:19869-1728810000-1728838800@staging.iceam.org
SUMMARY:Chicago Clinical Training Day (10/13)
DESCRIPTION:Name: Chicago Clinical Training Day\nDates: October 13th 2024\nTimes: 9am – 5pm Central Time\nInstructor: Stephen Bonzak\nSummary: Observe an ICEAM clinical supervisor take pulses and write formulas in clinic. Limited to 15 students per day. Maximum 25 patients per day. Patient contacts count towards fulfillment of clinical certification as Fellow of the Institute of Classics in East Asian Medicine. \nPlease contact sbonzak@chicago.iceam.org to register.
URL:https://staging.iceam.org/live-course/chicago-clinical-training-day-10-13/
LOCATION:ICEAM Chicago\, 65 E. Wacker Pl.\, Chicago\, IL\, 60601\, United States
GEO:41.8865275;-87.6255408
X-APPLE-STRUCTURED-LOCATION;VALUE=URI;X-ADDRESS=ICEAM Chicago 65 E. Wacker Pl. Chicago IL 60601 United States;X-APPLE-RADIUS=500;X-TITLE=65 E. Wacker Pl.:geo:-87.6255408,41.8865275
END:VEVENT
BEGIN:VEVENT
DTSTART;TZID=America/Chicago:20241014T090000
DTEND;TZID=America/Chicago:20241014T170000
DTSTAMP:20260420T095822
CREATED:20240318T172152Z
LAST-MODIFIED:20240318T172152Z
UID:19873-1728896400-1728925200@staging.iceam.org
SUMMARY:Chicago Clinical Training Day (10/14)
DESCRIPTION:Name: Chicago Clinical Training Day\nDates: October 14th 2024\nTimes: 9am – 5pm Central Time\nInstructor: Stephen Bonzak\nSummary: Observe an ICEAM clinical supervisor take pulses and write formulas in clinic. Limited to 15 students per day. Maximum 25 patients per day. Patient contacts count towards fulfillment of clinical certification as Fellow of the Institute of Classics in East Asian Medicine. \nPlease contact sbonzak@chicago.iceam.org to register.
URL:https://staging.iceam.org/live-course/chicago-clinical-training-day-10-14/
LOCATION:ICEAM Chicago\, 65 E. Wacker Pl.\, Chicago\, IL\, 60601\, United States
GEO:41.8865275;-87.6255408
X-APPLE-STRUCTURED-LOCATION;VALUE=URI;X-ADDRESS=ICEAM Chicago 65 E. Wacker Pl. Chicago IL 60601 United States;X-APPLE-RADIUS=500;X-TITLE=65 E. Wacker Pl.:geo:-87.6255408,41.8865275
END:VEVENT
BEGIN:VEVENT
DTSTART;VALUE=DATE:20241026
DTEND;VALUE=DATE:20241028
DTSTAMP:20260420T095822
CREATED:20210225T190742Z
LAST-MODIFIED:20230202T155832Z
UID:14185-1729900800-1730073599@staging.iceam.org
SUMMARY:Online (Europe) - The Diseases of the Jingui Yaolue Part One
DESCRIPTION:This is the authoritative instruction of the etio-pathology and treatment of over 70 complex diseases recorded in the Essentials of the Golden Cabinet or Jingui Yaolue. During these two weekends\, virtually all illnesses of the original text are discussed in great detail\, allowing the student to gain an ultimate and conclusive insight into the pathomechanisms behind these often chronic\, recalcitrant and debilitating illnesses. The formulas used in the Jingui are taught in their respective clinical contexts. \nTo sign up\, email ldewit@utrecht.iceam.org
URL:https://staging.iceam.org/live-course/online-europe-the-diseases-of-the-jingui-yaolue-part-one/
LOCATION:Hybrid Training Series (EU)\, Netherlands
CATEGORIES:Jingui Yaolue
GEO:52.132633;5.291266
END:VEVENT
BEGIN:VEVENT
DTSTART;TZID=America/Chicago:20241027T090000
DTEND;TZID=America/Chicago:20241027T170000
DTSTAMP:20260420T095822
CREATED:20240318T172502Z
LAST-MODIFIED:20240318T172502Z
UID:19883-1730019600-1730048400@staging.iceam.org
SUMMARY:San Diego Clinical Training Day (10/27)
DESCRIPTION:Name: San Diego Clinical Training Day\nDates: October 27th 2024\nTimes: 9am – 5pm Pacific Time\nInstructor: Stephen Bonzak\nSummary: Observe an ICEAM clinical supervisor take pulses and write formulas in clinic. Limited to 15 students per day. Maximum 25 patients per day. Patient contacts count towards fulfillment of clinical certification as Fellow of the Institute of Classics in East Asian Medicine. \nPlease contact bvallarta@sandiego.iceam.org to register.
URL:https://staging.iceam.org/live-course/san-diego-clinical-training-day-10-27/
LOCATION:ICEAM San Diego\, San Diego\, CA\, United States
GEO:32.715738;-117.1610838
END:VEVENT
BEGIN:VEVENT
DTSTART;TZID=America/Chicago:20241028T090000
DTEND;TZID=America/Chicago:20241028T170000
DTSTAMP:20260420T095822
CREATED:20240318T172526Z
LAST-MODIFIED:20240318T172526Z
UID:19884-1730106000-1730134800@staging.iceam.org
SUMMARY:San Diego Clinical Training Day (10/28)
DESCRIPTION:Name: San Diego Clinical Training Day\nDates: October 28th 2024\nTimes: 9am – 5pm Pacific Time\nInstructor: Stephen Bonzak\nSummary: Observe an ICEAM clinical supervisor take pulses and write formulas in clinic. Limited to 15 students per day. Maximum 25 patients per day. Patient contacts count towards fulfillment of clinical certification as Fellow of the Institute of Classics in East Asian Medicine. \nPlease contact bvallarta@sandiego.iceam.org to register.
URL:https://staging.iceam.org/live-course/san-diego-clinical-training-day-10-28/
LOCATION:ICEAM San Diego\, San Diego\, CA\, United States
GEO:32.715738;-117.1610838
END:VEVENT
END:VCALENDAR