BEGIN:VCALENDAR
VERSION:2.0
PRODID:-//ICEAM - ECPv6.15.20//NONSGML v1.0//EN
CALSCALE:GREGORIAN
METHOD:PUBLISH
X-ORIGINAL-URL:https://staging.iceam.org
X-WR-CALDESC:Events for ICEAM
REFRESH-INTERVAL;VALUE=DURATION:PT1H
X-Robots-Tag:noindex
X-PUBLISHED-TTL:PT1H
BEGIN:VTIMEZONE
TZID:Europe/London
BEGIN:DAYLIGHT
TZOFFSETFROM:+0000
TZOFFSETTO:+0100
TZNAME:BST
DTSTART:20230326T010000
END:DAYLIGHT
BEGIN:STANDARD
TZOFFSETFROM:+0100
TZOFFSETTO:+0000
TZNAME:GMT
DTSTART:20231029T010000
END:STANDARD
BEGIN:DAYLIGHT
TZOFFSETFROM:+0000
TZOFFSETTO:+0100
TZNAME:BST
DTSTART:20240331T010000
END:DAYLIGHT
BEGIN:STANDARD
TZOFFSETFROM:+0100
TZOFFSETTO:+0000
TZNAME:GMT
DTSTART:20241027T010000
END:STANDARD
BEGIN:DAYLIGHT
TZOFFSETFROM:+0000
TZOFFSETTO:+0100
TZNAME:BST
DTSTART:20250330T010000
END:DAYLIGHT
BEGIN:STANDARD
TZOFFSETFROM:+0100
TZOFFSETTO:+0000
TZNAME:GMT
DTSTART:20251026T010000
END:STANDARD
END:VTIMEZONE
BEGIN:VTIMEZONE
TZID:Australia/Brisbane
BEGIN:STANDARD
TZOFFSETFROM:+1000
TZOFFSETTO:+1000
TZNAME:AEST
DTSTART:20230101T000000
END:STANDARD
END:VTIMEZONE
BEGIN:VEVENT
DTSTART;VALUE=DATE:20240302
DTEND;VALUE=DATE:20240304
DTSTAMP:20260420T203400
CREATED:20210225T190744Z
LAST-MODIFIED:20230202T155714Z
UID:14190-1709337600-1709510399@staging.iceam.org
SUMMARY:Utrecht - Tian-Lineage Shanghan Lun Pulse Diagnosis
DESCRIPTION:The Treatise on Cold Damage shanghan lun is the oldest surviving clinical handbook in the history of Chinese medicine. Written by Eastern Han dynasty (circa 200 CE) imperial envoy Zhang Zhongjing\, it is an integral part of his collective writings once labeled the Treatise on Cold Damage and Complex Diseases shanghan zabing lun. But the contents of the Shanghan Lun as we know it in current day is far from complete. The present versions studied in Chinese medical schools as well as in the West\, do not include the original first three chapters of Rules for Pulse Differentiation bianmai fa\, Rules on Pulse Assessment pingmai fa and Cold Damage Outline shanghan li. Regardless whatever motivation was behind the historical deletions of these passages\, of the aforementioned chapters\, the chapters on pulse instructions are crucial for anyone desiring to fully grasp Zhang Zhongjing’s clinical instructions. Especially since the pulse patterns maizheng form the core diagnostic parameters in the establishment of the formula patterns fangzheng by which the canonical clinician categorizes disease and therapy. \nNote regarding the Shanghan Lun and Jingui Yaolue Pulse Seminars: due to the proprietary and complex nature of these seminars\, they cannot be registered for individually and can only be taken as part of the total sequence. The pulse seminars are open for individual registration only to Diplomates of Canonical Chinese Medicine already certified by our institute who wish to retake the seminar. \nTo sign up\, email ldewit@utrecht.iceam.org
URL:https://staging.iceam.org/live-course/utrecht-tian-lineage-shanghan-lun-pulse-diagnosis/
LOCATION:ICEAM Utrecht\, Onderdoor 5\, 3995 DW\, Houten\, Netherlands
CATEGORIES:Shanghan Lun
GEO:52.0348263;5.1683265
X-APPLE-STRUCTURED-LOCATION;VALUE=URI;X-ADDRESS=ICEAM Utrecht Onderdoor 5 3995 DW Houten Netherlands;X-APPLE-RADIUS=500;X-TITLE=Onderdoor 5\, 3995 DW:geo:5.1683265,52.0348263
END:VEVENT
BEGIN:VEVENT
DTSTART;VALUE=DATE:20240322
DTEND;VALUE=DATE:20240325
DTSTAMP:20260420T203400
CREATED:20231116T200400Z
LAST-MODIFIED:20240322T105259Z
UID:18784-1711065600-1711324799@staging.iceam.org
SUMMARY:Online (Brisbane) - The Herb and Formula Archetypes: The Outer Circle\, Part Two
DESCRIPTION:DETAILS\nNote: This webinar will be held live on Zoom\nInstructor: Jean-Paul Staats\nStart: March 22\, 2024\nEnd: March 24\, 2024\nTimes: 4 – 8:30pm Brisbane Australia time zone each day\nPricing: AUD 895\nPricing (early bird): AUD 795 – ends March 8th\, 2024! \nThis course continues instruction of specialized Materia Medica and formula studies in the service of canonical Chinese medicine as practiced by Zhang Zhongjing in the Shanghan Lun and the Jingui Yaolue. \nThe Treatise on Cold Damage shanghan lun and the Essentials of the Golden Cabinet jingui yaolue are considered the ancestral books on formulaic science in Chinese medicine. The books written in Han dynasty (approx. 200 CE) by Zhang Zhongjing are the foundation of Chinese herbal medicine and the first clinical handbooks in the history of human medicine. \nCanonical herbal medicine is practiced according the rules of the Yellow Emperor’s Inner Classic huangdi neijing\, the Divine Farmer’s Materia Medica Classic shennong bencao jing and the Yiyin Decoction Classic yiyin tangye jing. They still function to this day as the foundation of all herbal formulas. It is widely considered that every herbal prescription to date can be traced back to its roots in one of these classics. As such\, the importance of these single herb ingredients and the formulaic science of these prescriptions are to this day unrivalled.  \nZhang Zhongjing did not use large amounts of different ingredients but rather employed a core selection of very simple and plain herbs\, combined with the greatest scientific perfection to design the most efficacious and safe herbal prescriptions existing. The herbs used were all based on profound insights into the nature of our cosmos and showed explicit and implicit correlations with both nature and the universe. Both single herbs and formulas were seen as stars and constellations at an imaginary firmament and were often even named as such\, thus producing the famous names of prescriptions such as the Black Warrior Decoction\, or the Blue-green Dragon Decoction\, to name but a few. \nSources referenced include the commanding Han dynasty Divine Farmer’s Materia Medica shennong bencao jing\, the Jin dynasty Records by Famous Physicians mingyi bielu\, and Japanese Shanghan Lun and Kampo master Yoshimasu Todo’s Herb Types yakucho\, to name but a few. \nBoth for beginners of herbal medicine as for advanced and seasoned practitioners\, this seminar is the gateway into herbal medicine practiced along the tenets of the Han dynasty classics and doorway into canonical Chinese herbal medicine as practiced by Zhang Zhongjing in the Shanghan Lun and Jingui Yaolue. This course continues instruction of The Outer Circle of Zhang Zhongjing’s Herb and Formula Archetypes which is a selection of another 75 of the most important secondary herbs of the Zhang Zhongjing universe.
URL:https://staging.iceam.org/live-course/online-brisbane-the-herb-and-formula-archetypes-the-outer-circle-part-two/
LOCATION:ICEAM Brisbane\, 23 Victoria St.\, Clayfield\, Queensland\, 4011\, Australia
CATEGORIES:Shanghan Lun
GEO:-27.3900494;153.0500364
X-APPLE-STRUCTURED-LOCATION;VALUE=URI;X-ADDRESS=ICEAM Brisbane 23 Victoria St. Clayfield Queensland 4011 Australia;X-APPLE-RADIUS=500;X-TITLE=23 Victoria St.:geo:153.0500364,-27.3900494
END:VEVENT
END:VCALENDAR