BEGIN:VCALENDAR
VERSION:2.0
PRODID:-//ICEAM - ECPv6.15.20//NONSGML v1.0//EN
CALSCALE:GREGORIAN
METHOD:PUBLISH
X-ORIGINAL-URL:https://staging.iceam.org
X-WR-CALDESC:Events for ICEAM
REFRESH-INTERVAL;VALUE=DURATION:PT1H
X-Robots-Tag:noindex
X-PUBLISHED-TTL:PT1H
BEGIN:VTIMEZONE
TZID:America/Chicago
BEGIN:DAYLIGHT
TZOFFSETFROM:-0600
TZOFFSETTO:-0500
TZNAME:CDT
DTSTART:20220313T080000
END:DAYLIGHT
BEGIN:STANDARD
TZOFFSETFROM:-0500
TZOFFSETTO:-0600
TZNAME:CST
DTSTART:20221106T070000
END:STANDARD
BEGIN:DAYLIGHT
TZOFFSETFROM:-0600
TZOFFSETTO:-0500
TZNAME:CDT
DTSTART:20230312T080000
END:DAYLIGHT
BEGIN:STANDARD
TZOFFSETFROM:-0500
TZOFFSETTO:-0600
TZNAME:CST
DTSTART:20231105T070000
END:STANDARD
BEGIN:DAYLIGHT
TZOFFSETFROM:-0600
TZOFFSETTO:-0500
TZNAME:CDT
DTSTART:20240310T080000
END:DAYLIGHT
BEGIN:STANDARD
TZOFFSETFROM:-0500
TZOFFSETTO:-0600
TZNAME:CST
DTSTART:20241103T070000
END:STANDARD
END:VTIMEZONE
BEGIN:VTIMEZONE
TZID:Europe/London
BEGIN:DAYLIGHT
TZOFFSETFROM:+0000
TZOFFSETTO:+0100
TZNAME:BST
DTSTART:20220327T010000
END:DAYLIGHT
BEGIN:STANDARD
TZOFFSETFROM:+0100
TZOFFSETTO:+0000
TZNAME:GMT
DTSTART:20221030T010000
END:STANDARD
BEGIN:DAYLIGHT
TZOFFSETFROM:+0000
TZOFFSETTO:+0100
TZNAME:BST
DTSTART:20230326T010000
END:DAYLIGHT
BEGIN:STANDARD
TZOFFSETFROM:+0100
TZOFFSETTO:+0000
TZNAME:GMT
DTSTART:20231029T010000
END:STANDARD
BEGIN:DAYLIGHT
TZOFFSETFROM:+0000
TZOFFSETTO:+0100
TZNAME:BST
DTSTART:20240331T010000
END:DAYLIGHT
BEGIN:STANDARD
TZOFFSETFROM:+0100
TZOFFSETTO:+0000
TZNAME:GMT
DTSTART:20241027T010000
END:STANDARD
END:VTIMEZONE
BEGIN:VEVENT
DTSTART;VALUE=DATE:20231117
DTEND;VALUE=DATE:20231127
DTSTAMP:20260421T022957
CREATED:20200629T211957Z
LAST-MODIFIED:20230421T151806Z
UID:13076-1700179200-1701043199@staging.iceam.org
SUMMARY:2023 Shanghan Lun Lines Transmission Retreat in Byron Bay\, NSW\, Australia
DESCRIPTION:Due to continued covid-related travel restrictions on travelers entering Australia we have been forced to postpone the SHL Lines Retreat one more time. The new dates will now be November 17 – 26\, 2023. We will stay at the same venue\, and all other arrangements such as catering (lunch and coffee breaks) will remain the same. If you are ok with these new dates\, there is nothing you need to do. If you wish to cancel your attendance\, and process your refund\, please contact Arnaud at aversluys@iceam.org. In case you wish to\, or have already applied some of your Lines Retreat tuition towards the Yunqi Seminar with Tyler and Arnaud in October\, you will receive a final invoice for the remainder of the Retreat tuition via Paypal. We sincerely hope you can make it! \n\nTuition details: \nEarly-Bird Price: US $2\,755 Tuition + US $498.83 Catering= US $3\,273.83 (pay before July 31\, 2023)\nFull Price: US $3\,300 + US $498.83 catering= US $3\,798.83 \n\nEvent Details: \nThe Shanghan Lun Lines Retreat concludes your many years study of the Shanghan Lun based on the Tian Family tradition. We will study each line of the text with a detailed commentary and discussion by your instructor Arnaud Versluys\, PhD. The instruction is based on Dr. Versluys’ almost two decades of research of the Shanghan Lun–he will quote extensively from late lineage holder Zheng Guanglu’s personal notes on the Shanghan Lun. \nThis is a rare opportunity that should not be missed\, especially considering that this event only visits each continent every 6 years. Furthermore\, considering Dr. Versluys’ recent announcement to pause lecturing and focus on writing\, this will be your last chance for a long time. The seminar is only open to Diplomates. \n\nSchedule: \nThe seminar consists of 6 hours of seminars\, for ten days straight\, totaling 60 hours of professional development. The seminar schedule is as following; \n\n9am-12pm: lecture\n12pm- 3pm: long lunch break\n3pm- 6pm: lecture\n\nVenue: \nThis year’s retreat will be held in beautiful Byron Bay\, NSW\, Australia. The venue will be: \nByron Theatre and Community Centre\n69 Jonson Street\,\nByron Bay\, New South Wales 2481\nAustralia \nWe have chosen to not organize group lodging to allow students to book their own accommodations in Byron Bay or environs\, based on personal preference. Your tuition includes tea and coffee breaks\, as well as buffet lunch every day at the center. You are responsible for your own breakfast and dinner. \nCancel before 7/31/2023: full refund\, minus US $250 administrative fee\nCancel before 9/22/2022: 50% refund\nCancel after 10/22/2022: no refund\nIf cancelled by ICEAM: full refund
URL:https://staging.iceam.org/live-course/2023-shanghan-lun-lines-transmission-retreat-in-byron-bay-nsw-australia/
LOCATION:ICEAM Byron Bay\, 69 Jonson Street\, Byron Bay\, New South Wales\, 2481\, Australia
GEO:-28.6445005;153.6128417
X-APPLE-STRUCTURED-LOCATION;VALUE=URI;X-ADDRESS=ICEAM Byron Bay 69 Jonson Street Byron Bay New South Wales 2481 Australia;X-APPLE-RADIUS=500;X-TITLE=69 Jonson Street:geo:153.6128417,-28.6445005
END:VEVENT
BEGIN:VEVENT
DTSTART;VALUE=DATE:20231125
DTEND;VALUE=DATE:20231127
DTSTAMP:20260421T022957
CREATED:20210225T190745Z
LAST-MODIFIED:20230202T155649Z
UID:14192-1700870400-1701043199@staging.iceam.org
SUMMARY:Online (Europe) - The Herb and Formula Archetypes: The Outer Circle\, Part Two
DESCRIPTION:This course is the instruction of specialized Materia Medica and formula studies in the service of canonical Chinese medicine as practiced by Zhang Zhongjing in the Shanghan Lun and the Jingui Yaolue. \nTo sign up\, email ldewit@utrecht.iceam.org
URL:https://staging.iceam.org/live-course/online-europe-the-herb-and-formula-archetypes-the-outer-circle-part-two/
LOCATION:Hybrid Training Series (EU)\, Netherlands
CATEGORIES:Shanghan Lun
GEO:52.132633;5.291266
END:VEVENT
END:VCALENDAR