BEGIN:VCALENDAR
VERSION:2.0
PRODID:-//ICEAM - ECPv6.15.20//NONSGML v1.0//EN
CALSCALE:GREGORIAN
METHOD:PUBLISH
X-ORIGINAL-URL:https://staging.iceam.org
X-WR-CALDESC:Events for ICEAM
REFRESH-INTERVAL;VALUE=DURATION:PT1H
X-Robots-Tag:noindex
X-PUBLISHED-TTL:PT1H
BEGIN:VTIMEZONE
TZID:Europe/London
BEGIN:DAYLIGHT
TZOFFSETFROM:+0000
TZOFFSETTO:+0100
TZNAME:BST
DTSTART:20220327T010000
END:DAYLIGHT
BEGIN:STANDARD
TZOFFSETFROM:+0100
TZOFFSETTO:+0000
TZNAME:GMT
DTSTART:20221030T010000
END:STANDARD
BEGIN:DAYLIGHT
TZOFFSETFROM:+0000
TZOFFSETTO:+0100
TZNAME:BST
DTSTART:20230326T010000
END:DAYLIGHT
BEGIN:STANDARD
TZOFFSETFROM:+0100
TZOFFSETTO:+0000
TZNAME:GMT
DTSTART:20231029T010000
END:STANDARD
BEGIN:DAYLIGHT
TZOFFSETFROM:+0000
TZOFFSETTO:+0100
TZNAME:BST
DTSTART:20240331T010000
END:DAYLIGHT
BEGIN:STANDARD
TZOFFSETFROM:+0100
TZOFFSETTO:+0000
TZNAME:GMT
DTSTART:20241027T010000
END:STANDARD
END:VTIMEZONE
BEGIN:VTIMEZONE
TZID:America/Chicago
BEGIN:DAYLIGHT
TZOFFSETFROM:-0600
TZOFFSETTO:-0500
TZNAME:CDT
DTSTART:20220313T080000
END:DAYLIGHT
BEGIN:STANDARD
TZOFFSETFROM:-0500
TZOFFSETTO:-0600
TZNAME:CST
DTSTART:20221106T070000
END:STANDARD
BEGIN:DAYLIGHT
TZOFFSETFROM:-0600
TZOFFSETTO:-0500
TZNAME:CDT
DTSTART:20230312T080000
END:DAYLIGHT
BEGIN:STANDARD
TZOFFSETFROM:-0500
TZOFFSETTO:-0600
TZNAME:CST
DTSTART:20231105T070000
END:STANDARD
BEGIN:DAYLIGHT
TZOFFSETFROM:-0600
TZOFFSETTO:-0500
TZNAME:CDT
DTSTART:20240310T080000
END:DAYLIGHT
BEGIN:STANDARD
TZOFFSETFROM:-0500
TZOFFSETTO:-0600
TZNAME:CST
DTSTART:20241103T070000
END:STANDARD
END:VTIMEZONE
BEGIN:VEVENT
DTSTART;VALUE=DATE:20231007
DTEND;VALUE=DATE:20231009
DTSTAMP:20260421T035505
CREATED:20210225T190745Z
LAST-MODIFIED:20230202T155638Z
UID:14193-1696636800-1696809599@staging.iceam.org
SUMMARY:Online (Europe) - The Herb and Formula Archetypes: The Outer Circle\, Part One
DESCRIPTION:This course is the instruction of specialized Materia Medica and formula studies in the service of canonical Chinese medicine as practiced by Zhang Zhongjing in the Shanghan Lun and the Jingui Yaolue. \nTo sign up\, email ldewit@utrecht.iceam.org
URL:https://staging.iceam.org/live-course/online-europe-the-herb-and-formula-archetypes-the-outer-circle-part-one/
LOCATION:Hybrid Training Series (EU)\, Netherlands
CATEGORIES:Shanghan Lun
GEO:52.132633;5.291266
END:VEVENT
BEGIN:VEVENT
DTSTART;VALUE=DATE:20231013
DTEND;VALUE=DATE:20231016
DTSTAMP:20260421T035505
CREATED:20230801T202341Z
LAST-MODIFIED:20230801T202341Z
UID:18040-1697155200-1697414399@staging.iceam.org
SUMMARY:Brisbane (Webinar) - The Physiology & Pathology of the Water Element\, & the Treatment of Urinary Diseases
DESCRIPTION:Webinar details\nThis will be a live and interactive Webinar \nDates: October 13th – 15th\, 2023\nTimes: 4pm – 8:30pm Brisbane Australia time. 2 hours of lectures with a 30 minute break followed by another 2 hours of lectures.\nLecturer: Laurie Ayres\nEarly bird pricing: AUD$770 (includes GST) (ends October 6th\, 2023)\nFull price: AUD$880\nVenue format: Live and interactive webinar held over three days. If you miss one of the three days you can receive that one as a recording which has a time limit on it. \nWebinar description \nThis lecture will outline the physiology\, pathology & treatment of the water element & urinary pathology. \nWe will establish the key herb methods & formula structures for the restoration of water & urinary physiology\, define clear diagnostic differentiation of specific formulas & modifications\, & outline a clear methodical approach to the treatment of numerous diseases of the water element & urinary system including both acute & chronic recurrent UTI’s/cystitis\, acute & chronic kidney failure & under-functioning pathologies\, & oedema.
URL:https://staging.iceam.org/live-course/brisbane-webinar-the-physiology-pathology-of-the-water-element-the-treatment-of-urinary-diseases/
LOCATION:ICEAM Brisbane\, 23 Victoria St.\, Clayfield\, Queensland\, 4011\, Australia
CATEGORIES:Shanghan Lun
GEO:-27.3900494;153.0500364
X-APPLE-STRUCTURED-LOCATION;VALUE=URI;X-ADDRESS=ICEAM Brisbane 23 Victoria St. Clayfield Queensland 4011 Australia;X-APPLE-RADIUS=500;X-TITLE=23 Victoria St.:geo:153.0500364,-27.3900494
END:VEVENT
BEGIN:VEVENT
DTSTART;VALUE=DATE:20231020
DTEND;VALUE=DATE:20231023
DTSTAMP:20260421T035505
CREATED:20230801T200510Z
LAST-MODIFIED:20230807T214904Z
UID:18036-1697760000-1698019199@staging.iceam.org
SUMMARY:Brisbane (Webinar) - Herb and Formula Archetypes: The Inner Circle
DESCRIPTION:Webinar details\nThis will be a live and interactive Webinar \nDates: October 20th – 22nd\, 2023\nTimes: 4pm – 8:30pm Brisbane Australia time\nLecturer: Tyler Rowe\nEarly bird pricing: AUD$770 (includes GST) (ends October 13th\, 2023)\nFull price: AUD$880 \nWebinar description \nThis course is the instruction of specialized Materia Medica and formula studies in the service of canonical Chinese medicine as practiced by Zhang Zhongjing in the Shanghan Lun and the Jingui Yaolue. \nThe Treatise on Cold Damage shanghan lun and the Essentials of the Golden Cabinet jingui yaolue are considered the ancestral books on formulaic science in Chinese medicine. The books written in Han dynasty (approx. 200 CE) by Zhang Zhongjing are the foundation of Chinese herbal medicine and the first clinical handbooks in the history of human medicine. \nCanonical herbal medicine is practiced according the rules of the Yellow Emperor’s Inner Classic huangdi neijing\, the Divine Farmer’s Materia Medica Classic shennong bencao jing and the Yiyin Decoction Classic yiyin tangye jing. They still function to this day as the foundation of all herbal formulas. It is widely considered that every herbal prescription to date can be traced back to its roots in one of these classics. As such\, the importance of these single herb ingredients and the formulaic science of these prescriptions are to this day unrivalled. \nZhang Zhongjing did not use large amounts of different ingredients but rather employed a core selection of very simple and plain herbs\, combined with the greatest scientific perfection to design the most efficacious and safe herbal prescriptions existing. The herbs used were all based on profound insights into the nature of our cosmos and showed explicit and implicit correlations with both nature and the universe. Both single herbs and formulas were seen as stars and constellations in an imaginary firmament and were often even named as such\, thus producing the famous names of prescriptions such as the Black Warrior Decoction\, or the Blue-green Dragon Decoction\, to name but a few. \nThis is the authoritative introduction to the inner circle of Zhang Zhongjing’s herbal world and introduces the participant to the core cabinet of the archetypical twenty-five single herbs and their representative prescriptions. The herbs and prescriptions will be introduced in a format of canonical monographs presenting much more than the conventional pieces of information of actions and indications. A monograph will instruct on the symbolism and star constellations related to the herb\, the signature of the plant\, its qi and flavors and their respective density\, movement directionality and organ and channel affinity\, herb actions and dosages\, possible acupuncture point equivalents\, disease indications and lastly representative formulas with their common modifications. \nSources referenced include the commanding Han dynasty Divine Farmer’s Materia Medica shennong bencao jing\, the Jin dynasty Records by Famous Physicians mingyi bielu\, and Japanese Shanghan Lun and Kampo master Yoshimasu Todo’s Herb Types yakucho\, to name but a few. \nBoth for beginners of herbal medicine as for advanced and seasoned practitioners\, this seminar is the gateway into herbal medicine practiced along the tenets of the Han dynasty classics and doorway into canonical Chinese herbal medicine as practiced by Zhang Zhongjing in the Shanghan Lun and Jingui Yaolue. The seminar introduces the participant to Zhang Zhongjing’s inner circle of herbs.
URL:https://staging.iceam.org/live-course/brisbane-webinar-herb-and-formula-archetypes-the-inner-circle-2/
LOCATION:ICEAM Brisbane\, 23 Victoria St.\, Clayfield\, Queensland\, 4011\, Australia
CATEGORIES:Shanghan Lun
GEO:-27.3900494;153.0500364
X-APPLE-STRUCTURED-LOCATION;VALUE=URI;X-ADDRESS=ICEAM Brisbane 23 Victoria St. Clayfield Queensland 4011 Australia;X-APPLE-RADIUS=500;X-TITLE=23 Victoria St.:geo:153.0500364,-27.3900494
END:VEVENT
BEGIN:VEVENT
DTSTART;VALUE=DATE:20231021
DTEND;VALUE=DATE:20231023
DTSTAMP:20260421T035505
CREATED:20210219T230701Z
LAST-MODIFIED:20211019T012827Z
UID:14126-1697846400-1698019199@staging.iceam.org
SUMMARY:Chicago – Tian-Lineage Jingui Yaolue Pulse Diagnosis
DESCRIPTION:Diagnosis in Han-dynasty was primarily done by taking the pulse. Every formula can be identified through one or more pulse patterns presenting in the patient. Though many pulses are mentioned in the Jingui Yaolue\, crucial detail is often hidden\, and it is as if this knowledge is merely implicitly present\, as if it were embedded. Therefore\, the Tian Heming Canonical Formula lineage’s main strength and contribution to the field of Chinese medicine to have made this advanced knowledge on pulse diagnosis crystal clear and evident. This knowledge has never been recorded in any book\, but was rather transmitted orally from Dr. Tian Heming through Dr. Zeng Rongxiu to Dr. Arnaud Versluys. The latter of which has been teaching this material around the world in more systematized and structured format since a few years. \nNote regarding the Shanghan Lun and Jingui Yaolue Pulse Seminars: due to the proprietary and complex nature of these seminars\, they cannot be registered for individually and can only be taken as part of the total sequence. The pulse seminars are open for individual registration only to Diplomates of Canonical Chinese Medicine already certified by our institute who wish to retake the seminar.
URL:https://staging.iceam.org/live-course/chicago-tian-lineage-jingui-yaolue-pulse-diagnosis-2/
LOCATION:ICEAM Chicago\, 65 E. Wacker Pl.\, Chicago\, IL\, 60601\, United States
CATEGORIES:Jingui Yaolue
GEO:41.8865275;-87.6255408
X-APPLE-STRUCTURED-LOCATION;VALUE=URI;X-ADDRESS=ICEAM Chicago 65 E. Wacker Pl. Chicago IL 60601 United States;X-APPLE-RADIUS=500;X-TITLE=65 E. Wacker Pl.:geo:-87.6255408,41.8865275
END:VEVENT
END:VCALENDAR