BEGIN:VCALENDAR
VERSION:2.0
PRODID:-//ICEAM - ECPv6.15.20//NONSGML v1.0//EN
CALSCALE:GREGORIAN
METHOD:PUBLISH
X-WR-CALNAME:ICEAM
X-ORIGINAL-URL:https://staging.iceam.org
X-WR-CALDESC:Events for ICEAM
REFRESH-INTERVAL;VALUE=DURATION:PT1H
X-Robots-Tag:noindex
X-PUBLISHED-TTL:PT1H
BEGIN:VTIMEZONE
TZID:Europe/London
BEGIN:DAYLIGHT
TZOFFSETFROM:+0000
TZOFFSETTO:+0100
TZNAME:BST
DTSTART:20220327T010000
END:DAYLIGHT
BEGIN:STANDARD
TZOFFSETFROM:+0100
TZOFFSETTO:+0000
TZNAME:GMT
DTSTART:20221030T010000
END:STANDARD
BEGIN:DAYLIGHT
TZOFFSETFROM:+0000
TZOFFSETTO:+0100
TZNAME:BST
DTSTART:20230326T010000
END:DAYLIGHT
BEGIN:STANDARD
TZOFFSETFROM:+0100
TZOFFSETTO:+0000
TZNAME:GMT
DTSTART:20231029T010000
END:STANDARD
BEGIN:DAYLIGHT
TZOFFSETFROM:+0000
TZOFFSETTO:+0100
TZNAME:BST
DTSTART:20240331T010000
END:DAYLIGHT
BEGIN:STANDARD
TZOFFSETFROM:+0100
TZOFFSETTO:+0000
TZNAME:GMT
DTSTART:20241027T010000
END:STANDARD
END:VTIMEZONE
BEGIN:VTIMEZONE
TZID:America/Chicago
BEGIN:DAYLIGHT
TZOFFSETFROM:-0600
TZOFFSETTO:-0500
TZNAME:CDT
DTSTART:20220313T080000
END:DAYLIGHT
BEGIN:STANDARD
TZOFFSETFROM:-0500
TZOFFSETTO:-0600
TZNAME:CST
DTSTART:20221106T070000
END:STANDARD
BEGIN:DAYLIGHT
TZOFFSETFROM:-0600
TZOFFSETTO:-0500
TZNAME:CDT
DTSTART:20230312T080000
END:DAYLIGHT
BEGIN:STANDARD
TZOFFSETFROM:-0500
TZOFFSETTO:-0600
TZNAME:CST
DTSTART:20231105T070000
END:STANDARD
BEGIN:DAYLIGHT
TZOFFSETFROM:-0600
TZOFFSETTO:-0500
TZNAME:CDT
DTSTART:20240310T080000
END:DAYLIGHT
BEGIN:STANDARD
TZOFFSETFROM:-0500
TZOFFSETTO:-0600
TZNAME:CST
DTSTART:20241103T070000
END:STANDARD
END:VTIMEZONE
BEGIN:VEVENT
DTSTART;VALUE=DATE:20230701
DTEND;VALUE=DATE:20230703
DTSTAMP:20260421T081031
CREATED:20210225T190746Z
LAST-MODIFIED:20230202T155616Z
UID:14196-1688169600-1688342399@staging.iceam.org
SUMMARY:Online (Europe) - Nineteen Lines on Pathology
DESCRIPTION:Chapter seventy-four of the Great Treatise on the Essence of the Utmost Truth zhizhen yaodalun of the Inner Classic of the Yellow Emperor huangdi neijing records the most encompassing and original rules in Chinese medicine pathology. The nineteen patterns\, most commonly known as the Nineteen Lines on Pathology\, are considered to be the most authoritative instructions on classical etio-pathology and the only discourse where a differentiation method based on the five phase energetics is presented. \nThere is great difficulty in understanding these instructions\, because they cannot be researched from merely a more modern Qing dynasty organ differentiation standpoint that we are most accustomed to. As such\, the only path to full understanding of the lines is an evaluation from all possible angles in classical Chinese medicine thinking. This evaluation will be engaged in by cross-referencing other classics like the Classic of Difficulties nan jing\, as well as later commentaries by masters like Zhang Jingyue\, etc. \nThe lines are structured along a twofold grid: the first outline along the five solid organs; while the second outline is arranged along the six Qi or six climatic influences. During the course\, all Solid Organ patterns will be studied and explained along with the most representative lines on the Six Qi. As such\, this course will provide the participant with a definitive understanding on classical Chinese medicine pathology and an excellent tool for the evaluation of difficult cases in clinic. \nTo sign up\, email ldewit@utrecht.iceam.org
URL:https://staging.iceam.org/live-course/online-europe-nineteen-lines-on-pathology/
LOCATION:Hybrid Training Series (EU)\, Netherlands
CATEGORIES:Shanghan Lun
GEO:52.132633;5.291266
END:VEVENT
BEGIN:VEVENT
DTSTART;VALUE=DATE:20230729
DTEND;VALUE=DATE:20230731
DTSTAMP:20260421T081031
CREATED:20210219T230540Z
LAST-MODIFIED:20211019T012751Z
UID:14124-1690588800-1690761599@staging.iceam.org
SUMMARY:Online (US) – Diseases of the Jingui Yaolue\, Part Two
DESCRIPTION:This is the authoritative instruction of the etio-pathology and treatment of over 70 complex diseases recorded in the Essentials of the Golden Cabinet or Jingui Yaolue. During these two weekends\, virtually all illnesses of the original text are discussed in great detail\, allowing the student to gain an ultimate and conclusive insight into the pathomechanisms behind these often chronic\, recalcitrant and debilitating illnesses. The formulas used in the Jingui are taught in their respective clinical contexts.
URL:https://staging.iceam.org/live-course/online-diseases-of-the-jingui-yaolue-part-two/
LOCATION:Hybrid Training Series (US)\, United States
CATEGORIES:Jingui Yaolue
GEO:29.951061;-90.0812442
END:VEVENT
END:VCALENDAR