BEGIN:VCALENDAR
VERSION:2.0
PRODID:-//ICEAM - ECPv6.15.20//NONSGML v1.0//EN
CALSCALE:GREGORIAN
METHOD:PUBLISH
X-ORIGINAL-URL:https://staging.iceam.org
X-WR-CALDESC:Events for ICEAM
REFRESH-INTERVAL;VALUE=DURATION:PT1H
X-Robots-Tag:noindex
X-PUBLISHED-TTL:PT1H
BEGIN:VTIMEZONE
TZID:America/Chicago
BEGIN:DAYLIGHT
TZOFFSETFROM:-0600
TZOFFSETTO:-0500
TZNAME:CDT
DTSTART:20220313T080000
END:DAYLIGHT
BEGIN:STANDARD
TZOFFSETFROM:-0500
TZOFFSETTO:-0600
TZNAME:CST
DTSTART:20221106T070000
END:STANDARD
BEGIN:DAYLIGHT
TZOFFSETFROM:-0600
TZOFFSETTO:-0500
TZNAME:CDT
DTSTART:20230312T080000
END:DAYLIGHT
BEGIN:STANDARD
TZOFFSETFROM:-0500
TZOFFSETTO:-0600
TZNAME:CST
DTSTART:20231105T070000
END:STANDARD
BEGIN:DAYLIGHT
TZOFFSETFROM:-0600
TZOFFSETTO:-0500
TZNAME:CDT
DTSTART:20240310T080000
END:DAYLIGHT
BEGIN:STANDARD
TZOFFSETFROM:-0500
TZOFFSETTO:-0600
TZNAME:CST
DTSTART:20241103T070000
END:STANDARD
END:VTIMEZONE
BEGIN:VTIMEZONE
TZID:Australia/Brisbane
BEGIN:STANDARD
TZOFFSETFROM:+1000
TZOFFSETTO:+1000
TZNAME:AEST
DTSTART:20220101T000000
END:STANDARD
END:VTIMEZONE
BEGIN:VEVENT
DTSTART;VALUE=DATE:20230401
DTEND;VALUE=DATE:20230403
DTSTAMP:20260421T123907
CREATED:20210219T222113Z
LAST-MODIFIED:20211019T012706Z
UID:14113-1680307200-1680479999@staging.iceam.org
SUMMARY:Online (US) - Shanghan Lun Canonical Formula Modification System
DESCRIPTION:During this course\, a strict system of clinical modification will be taught. The system was developed by Dr. Versluys over the course of the last ten years by analyzing both Zhang Zhongjing’s prescriptions as well as the characteristics of the Tian-Zeng lineage’s clinical practice. It is fully grounded and based in the classical writings of the original designer of the formulas\, Zhang Zhongjing. The system is organized along a hierarchical system of formula modifications and provides a failsafe method for modification to adapt to a broader collection of complex clinical manifestations as often encountered in Chinese medicine clinic in the West. A waterproof modification system forms the basis of classical herbal practice and the elimination of random clinical variables which are the greatest cause for failure in clinic.
URL:https://staging.iceam.org/live-course/online-shanghan-lun-canonical-formula-modification-system/
LOCATION:Hybrid Training Series (US)\, United States
CATEGORIES:Shanghan Lun
GEO:29.951061;-90.0812442
END:VEVENT
BEGIN:VEVENT
DTSTART;VALUE=DATE:20230414
DTEND;VALUE=DATE:20230417
DTSTAMP:20260421T123907
CREATED:20230203T221539Z
LAST-MODIFIED:20230203T221941Z
UID:17256-1681430400-1681689599@staging.iceam.org
SUMMARY:Webinar - The Physiology\, Pathology & Treatment of TaiYin Lung and the Respiratory System
DESCRIPTION:Course Details\nDates: 14-16th April 2023\nTimes: 4pm – 8.30pm Brisbane Australia time zone\nPresenter: Laurie Ayres\nFormat: Virtual live an interactive Webinar \nStudents will be able to receive 1 of the 3 days as a recording if they are unable to attend all three days. \nPricing\nFull price: AUD $880\nEarly bird price: AUD$770 (ends 17th March 2023) \nCourse Description\nThis lecture will outline the physiology\, pathology & treatment of the respiratory system. \nWe will establish the key herb methods & formula structures for the restoration of respiratory physiology\, define clear diagnostic differentiation of specific formulas & modifications\, & outline a clear methodical approach to the treatment of numerous diseases of the respiratory tract including rhinitis\, sinusitis\, respiratory tract infections\, cough\, shortness of breath\, lung distention\, asthma\, lung abscess\, COPD & superficial oedema.
URL:https://staging.iceam.org/live-course/brisbane-the-physiology-pathology-treatment-of-taiyin-lung-and-the-respiratory-system/
END:VEVENT
BEGIN:VEVENT
DTSTART;VALUE=DATE:20230429
DTEND;VALUE=DATE:20230501
DTSTAMP:20260421T123907
CREATED:20230203T221107Z
LAST-MODIFIED:20230216T233210Z
UID:17253-1682726400-1682899199@staging.iceam.org
SUMMARY:Brisbane - Elementary Aspects of Canonical Chinese Medicine
DESCRIPTION:Course Details\nDates: 29-30th April\nLocation: 23 Victoria St\, Clayfield Queensland 4011\, Australia\nTimes: 9-5pm\nLecturer: Tyler Rowe \nThis is a live and in person event to launch the Shang Han Lun in Australia series. \nPricing\nFull price: AUD $880\nEarly bird price: AUD$770 (includes GST\, ends 8th April) \nCourse Description\n“The Shanghan Zabing Lun as the Clinical Application of Neijing Theory\, Bencao Jing Herbs and Tangye Jing Formulas\, and Its Application by the Tian Lineage® of Canonical Formulas.” \nCanonical Chinese Medicine is the style of Chinese medicine practiced along the tenets codified in the Western and Eastern Han dynasty (approx. 200 BC- 200 CE) medical classics or canons. It is the foundation of both clinical and theoretical Chinese medicine as we know it. Canonical Chinese medicine is comprised of two main schools being the Yellow Emperor huangdi 黄帝school of Medical Canons yijing pai 醫經派and the Divine Farmer shennong 神农school of Canonical Formulas jingfang pai经方派. \nAs an exemplary work of canonical Chinese medicine\, study of the Treatise on Cold Damage and Complex Diseases shanghan zabing lun (Shanghan Lun and Jingui Yaolue) reveals the original identity of our clinical medicine\, and displays all aspects of Han and pre-Han medical science in high density. It is the forefather book of all herbal medicine works. And for the discerning eye\, it reveals the origins of all styles of Chinese medicine later to develop throughout consequent history. Investigation of some of the characteristics of Zhang Zhongjing’s work hence allows the modern academic and clinician alike\, to understand both the past and future of Chinese medicine and to illuminate both its theoretical foundations and clinical application. \nThe seminar introduces multiple foundational aspects of Canonical Chinese Medicine by investigating the Shanghan Lun and its relationship to the Yellow Emperor’s Inner Canon huangdi neijing\, the Canon of Difficulties nanjing\, the Divine Farmer’s Canon of Materia Medica shennong bencao jing\, and the Yiyin Decoction Canon yiyin tangye jing. \nTopics that will be discussed include: \n\nIntroduction to the original lineages of Chinese Medicine\nShanghan Zabing Lun as the fusion of theoretical and clinical medicine\nHistory and background of Zhang Zhongjing and his writings\nEvolution from shamanic medicine to pharmaceutical medicine\nConfucian influences in herbal medicine\nHuangdi Neijing views on the importance of herbal medicine\nThe Seven Formulas of the Neijing and their relationship to the Shanghan formulas\nShanghan Zabing Lun as a primer on acupuncture-herb integration\nOrigins and importance of pulse diagnosis in the Shanghan Lun\nRelationship of the Shennong Bencao Jing and the Shanghan Lun\nRelationship of the Yiyin Tangye Jing and the Shanghan Lun\nHerb Classes and Formula Classes\nTangye Jing Five Phase Flavor Dynamics and Shanghan Lun formula analysis\nTangye Jing Constellational Formulas and Shanghan Lun formulas\nShanghan Lun Formula-Pulse Patterns and Clinical Work Flow Algorithm\nSurvey of Shanghan Lineages\nIntroduction to the Tian-Zeng Canonical Formula Lineage\nExamples of Tian-style Pulse Diagnosis\nExamples of Tian-style Formula Modifications\nExamples of Tian-style Case Studies\nEtc.\n\nThe training instructs in the crucial facets of canonical medicine and provides the participant a more accurate and deeper understanding of the application of Chinese clinical herbal medicine. The strength of the training is that it not only uses scholastic means of research and instruction\, but also integrates a purely clinical and pragmatic tradition’s approach of the Tian-Zeng Shanghan Lun lineage of clinicians.
URL:https://staging.iceam.org/live-course/brisbane-elementary-aspects-of-canonical-chinese-medicine/
LOCATION:ICEAM Brisbane\, 23 Victoria St.\, Clayfield\, Queensland\, 4011\, Australia
GEO:-27.3900494;153.0500364
X-APPLE-STRUCTURED-LOCATION;VALUE=URI;X-ADDRESS=ICEAM Brisbane 23 Victoria St. Clayfield Queensland 4011 Australia;X-APPLE-RADIUS=500;X-TITLE=23 Victoria St.:geo:153.0500364,-27.3900494
END:VEVENT
END:VCALENDAR