BEGIN:VCALENDAR
VERSION:2.0
PRODID:-//ICEAM - ECPv6.15.20//NONSGML v1.0//EN
CALSCALE:GREGORIAN
METHOD:PUBLISH
X-WR-CALNAME:ICEAM
X-ORIGINAL-URL:https://staging.iceam.org
X-WR-CALDESC:Events for ICEAM
REFRESH-INTERVAL;VALUE=DURATION:PT1H
X-Robots-Tag:noindex
X-PUBLISHED-TTL:PT1H
BEGIN:VTIMEZONE
TZID:America/Chicago
BEGIN:DAYLIGHT
TZOFFSETFROM:-0600
TZOFFSETTO:-0500
TZNAME:CDT
DTSTART:20210314T080000
END:DAYLIGHT
BEGIN:STANDARD
TZOFFSETFROM:-0500
TZOFFSETTO:-0600
TZNAME:CST
DTSTART:20211107T070000
END:STANDARD
BEGIN:DAYLIGHT
TZOFFSETFROM:-0600
TZOFFSETTO:-0500
TZNAME:CDT
DTSTART:20220313T080000
END:DAYLIGHT
BEGIN:STANDARD
TZOFFSETFROM:-0500
TZOFFSETTO:-0600
TZNAME:CST
DTSTART:20221106T070000
END:STANDARD
BEGIN:DAYLIGHT
TZOFFSETFROM:-0600
TZOFFSETTO:-0500
TZNAME:CDT
DTSTART:20230312T080000
END:DAYLIGHT
BEGIN:STANDARD
TZOFFSETFROM:-0500
TZOFFSETTO:-0600
TZNAME:CST
DTSTART:20231105T070000
END:STANDARD
END:VTIMEZONE
BEGIN:VEVENT
DTSTART;VALUE=DATE:20220902
DTEND;VALUE=DATE:20220905
DTSTAMP:20260421T225914
CREATED:20220711T143601Z
LAST-MODIFIED:20220808T141123Z
UID:16529-1662076800-1662335999@staging.iceam.org
SUMMARY:The Pathophysiology of the San Jiao\, Shao Yang and Ministerial Fire Disease in the Shang Han Za Bing Lun
DESCRIPTION:(this course is a Webinar and will be conducted online) \nAs the pathway through which ministerial fire and fluids circulate throughout the body the san jiao is the essential link between all aspects of function in human physiology\, and as such it is involved to varying degrees in most pathologies one will encounter in clinic. \nThis course involves an in-depth exploration of the physiology\, pathology and treatment of the san jiao\, the shao yang conformation\, and ministerial fire pathologies\, enabling one to better understand and treat pathologies of this vital aspect of human physiology. \nAn understanding of san jiao physiology and the treatment of shao yang disease is especially important in addressing patients with chronic diseases\, long term viral or bacterial conditions\, patients who seem to need warming treatments but don’t respond positively to warm herbs\, & those patients where one can’t seem to clear the excess to progress to a stage where you can effectively treat their deficiencies. \nDates: \nFriday 2nd – Sunday 4th September 2022 \n4pm-8.30pm Brisbane Australia time \nPrices:  \nAUD$660 (early bird discount – ends August 12th\, 2022)\nAUD$880
URL:https://staging.iceam.org/live-course/the-pathophysiology-of-the-san-jiao-shao-yang-and-ministerial-fire-disease-in-the-shang-han-za-bing-lun/
LOCATION:ICEAM Brisbane\, 23 Victoria St.\, Clayfield\, Queensland\, 4011\, Australia
GEO:-27.3900494;153.0500364
X-APPLE-STRUCTURED-LOCATION;VALUE=URI;X-ADDRESS=ICEAM Brisbane 23 Victoria St. Clayfield Queensland 4011 Australia;X-APPLE-RADIUS=500;X-TITLE=23 Victoria St.:geo:153.0500364,-27.3900494
END:VEVENT
END:VCALENDAR