BEGIN:VCALENDAR
VERSION:2.0
PRODID:-//ICEAM - ECPv6.15.20//NONSGML v1.0//EN
CALSCALE:GREGORIAN
METHOD:PUBLISH
X-WR-CALNAME:ICEAM
X-ORIGINAL-URL:https://staging.iceam.org
X-WR-CALDESC:Events for ICEAM
REFRESH-INTERVAL;VALUE=DURATION:PT1H
X-Robots-Tag:noindex
X-PUBLISHED-TTL:PT1H
BEGIN:VTIMEZONE
TZID:America/Chicago
BEGIN:DAYLIGHT
TZOFFSETFROM:-0600
TZOFFSETTO:-0500
TZNAME:CDT
DTSTART:20210314T080000
END:DAYLIGHT
BEGIN:STANDARD
TZOFFSETFROM:-0500
TZOFFSETTO:-0600
TZNAME:CST
DTSTART:20211107T070000
END:STANDARD
BEGIN:DAYLIGHT
TZOFFSETFROM:-0600
TZOFFSETTO:-0500
TZNAME:CDT
DTSTART:20220313T080000
END:DAYLIGHT
BEGIN:STANDARD
TZOFFSETFROM:-0500
TZOFFSETTO:-0600
TZNAME:CST
DTSTART:20221106T070000
END:STANDARD
BEGIN:DAYLIGHT
TZOFFSETFROM:-0600
TZOFFSETTO:-0500
TZNAME:CDT
DTSTART:20230312T080000
END:DAYLIGHT
BEGIN:STANDARD
TZOFFSETFROM:-0500
TZOFFSETTO:-0600
TZNAME:CST
DTSTART:20231105T070000
END:STANDARD
END:VTIMEZONE
BEGIN:VEVENT
DTSTART;VALUE=DATE:20220318
DTEND;VALUE=DATE:20220321
DTSTAMP:20260422T080233
CREATED:20220218T141842Z
LAST-MODIFIED:20220218T142208Z
UID:15991-1647561600-1647820799@staging.iceam.org
SUMMARY:The Classical Approach to Supporting Patients Suffering with Cancer Part 2
DESCRIPTION:The aim of this lecture is to help the participant better use their Chinese medical knowledge to assist in the of support patients suffering with various forms of cancer. \nTo form an effective integrative approach to support or treat patients with any disease we must first understand our system to the greatest possible degree\, so the highest level of understanding and practice can form part of that integration. \nAs such\, this lecture will focus purely on the classical Chinese medical practice of the Tian lineage style of Shang Han Za Bing Lun (Shang Han Lun & Jin Gui Yao Lue) practice. \nIt will include a thorough exploration of the classical understanding of numerous forms of cancer and the processes behind them. We will also study a wide range of common clinical presentations for a number of cancers that are frequently encountered. This theoretical understanding will then be used to show how we can best help support individual patients suffering with cancer\, and how this can effectively be achieved alongside other treatments. \nNote: The event will be a live event with the possibility of missing only one of the three and receiving it as a recording. \nDates and Times\nMarch 18th-20th 2022\n4pm-8.30pm AEST (Brisbane) \nPricing\nAUD$770 early bird price (Early bird pricing ends March 4th)\nAUD$880 non early bird price
URL:https://staging.iceam.org/live-course/the-classical-approach-to-supporting-patients-suffering-with-cancer-part-2/
LOCATION:ICEAM Brisbane\, 23 Victoria St.\, Clayfield\, Queensland\, 4011\, Australia
GEO:-27.3900494;153.0500364
X-APPLE-STRUCTURED-LOCATION;VALUE=URI;X-ADDRESS=ICEAM Brisbane 23 Victoria St. Clayfield Queensland 4011 Australia;X-APPLE-RADIUS=500;X-TITLE=23 Victoria St.:geo:153.0500364,-27.3900494
END:VEVENT
END:VCALENDAR