BEGIN:VCALENDAR
VERSION:2.0
PRODID:-//ICEAM - ECPv6.15.20//NONSGML v1.0//EN
CALSCALE:GREGORIAN
METHOD:PUBLISH
X-WR-CALNAME:ICEAM
X-ORIGINAL-URL:https://staging.iceam.org
X-WR-CALDESC:Events for ICEAM
REFRESH-INTERVAL;VALUE=DURATION:PT1H
X-Robots-Tag:noindex
X-PUBLISHED-TTL:PT1H
BEGIN:VTIMEZONE
TZID:America/Chicago
BEGIN:DAYLIGHT
TZOFFSETFROM:-0600
TZOFFSETTO:-0500
TZNAME:CDT
DTSTART:20200308T080000
END:DAYLIGHT
BEGIN:STANDARD
TZOFFSETFROM:-0500
TZOFFSETTO:-0600
TZNAME:CST
DTSTART:20201101T070000
END:STANDARD
BEGIN:DAYLIGHT
TZOFFSETFROM:-0600
TZOFFSETTO:-0500
TZNAME:CDT
DTSTART:20210314T080000
END:DAYLIGHT
BEGIN:STANDARD
TZOFFSETFROM:-0500
TZOFFSETTO:-0600
TZNAME:CST
DTSTART:20211107T070000
END:STANDARD
BEGIN:DAYLIGHT
TZOFFSETFROM:-0600
TZOFFSETTO:-0500
TZNAME:CDT
DTSTART:20220313T080000
END:DAYLIGHT
BEGIN:STANDARD
TZOFFSETFROM:-0500
TZOFFSETTO:-0600
TZNAME:CST
DTSTART:20221106T070000
END:STANDARD
END:VTIMEZONE
BEGIN:VEVENT
DTSTART;VALUE=DATE:20211015
DTEND;VALUE=DATE:20211018
DTSTAMP:20260422T153734
CREATED:20210730T204205Z
LAST-MODIFIED:20210913T215720Z
UID:15171-1634256000-1634515199@staging.iceam.org
SUMMARY:Treating Autoimmune Conditions through the Classical Chinese Medicine Model
DESCRIPTION:Using the Shang Han Za Bing Lun to Treat and Understand Autoimmune Conditions in our Modern Clinical Setting\nInstructor: Laurie Ayres\nNote: This is a VIRTUAL EVENT and will be held online via “Zoom”\n1pm – 5:30pm CST \n\nApplication of the Shang Han Za Bing Lun through the Tian lineage in autoimmune diseases\nOverview of 6 conformation theory and the febrile response and its importance in autoimmune disease\nGeneral principles in treat autoimmune disease\nTreatments of specific diseases\n\nThis lecture will focus on the understanding and treatment of autoimmune diseases the Shang Han Za Bing Lun within the Tian Lineage system. We will begin with a brief review of the basics of 6 conformation theory and the febrile response and its importance in autoimmune disease. \nDuring this lecture we will examine the classical understanding of the immune response\, and how this can be used to understand acute flares of autoimmune diseases and their progression to chronic pathologies. We will explore the key principles of managing acute flares\, the long-term treatment of the underlying chronic state\, and the important transition between the two when moving out of a flare and back into the long-term treatment \nWe will then discuss common treatments and progressions in a number of the most commonly seen autoimmune diseases\, including rheumatoid arthritis\, crohns disease and ulcerative colitis\, autoimmune thyroid issues\, multiple sclerosis\, among others. \nThe aim of this lecture is not to merely give protocols for certain diseases\, but to help the practitioner understand the principles of treating autoimmune diseases so they are better able to analyze\, understand and treat the multitude of presentations that will come their way in clinic. \nNote: The event will be a live event with the possibility of missing only one of the three and receiving it as a recording. \nNote: Early bird pricing will be offered until 9/24.
URL:https://staging.iceam.org/live-course/treating-autoimmune-conditions-through-the-classical-chinese-medicine-model-2021/
LOCATION:ICEAM Sydney\, 826 George St\, Chippendale\, New South Wales\, 2008\, Australia
GEO:-33.884186;151.202517
X-APPLE-STRUCTURED-LOCATION;VALUE=URI;X-ADDRESS=ICEAM Sydney 826 George St Chippendale New South Wales 2008 Australia;X-APPLE-RADIUS=500;X-TITLE=826 George St:geo:151.202517,-33.884186
END:VEVENT
END:VCALENDAR