BEGIN:VCALENDAR
VERSION:2.0
PRODID:-//ICEAM - ECPv6.15.20//NONSGML v1.0//EN
CALSCALE:GREGORIAN
METHOD:PUBLISH
X-ORIGINAL-URL:https://staging.iceam.org
X-WR-CALDESC:Events for ICEAM
REFRESH-INTERVAL;VALUE=DURATION:PT1H
X-Robots-Tag:noindex
X-PUBLISHED-TTL:PT1H
BEGIN:VTIMEZONE
TZID:America/Chicago
BEGIN:DAYLIGHT
TZOFFSETFROM:-0600
TZOFFSETTO:-0500
TZNAME:CDT
DTSTART:20200308T080000
END:DAYLIGHT
BEGIN:STANDARD
TZOFFSETFROM:-0500
TZOFFSETTO:-0600
TZNAME:CST
DTSTART:20201101T070000
END:STANDARD
BEGIN:DAYLIGHT
TZOFFSETFROM:-0600
TZOFFSETTO:-0500
TZNAME:CDT
DTSTART:20210314T080000
END:DAYLIGHT
BEGIN:STANDARD
TZOFFSETFROM:-0500
TZOFFSETTO:-0600
TZNAME:CST
DTSTART:20211107T070000
END:STANDARD
BEGIN:DAYLIGHT
TZOFFSETFROM:-0600
TZOFFSETTO:-0500
TZNAME:CDT
DTSTART:20220313T080000
END:DAYLIGHT
BEGIN:STANDARD
TZOFFSETFROM:-0500
TZOFFSETTO:-0600
TZNAME:CST
DTSTART:20221106T070000
END:STANDARD
END:VTIMEZONE
BEGIN:VEVENT
DTSTART;VALUE=DATE:20210611
DTEND;VALUE=DATE:20210614
DTSTAMP:20260422T212924
CREATED:20210125T233136Z
LAST-MODIFIED:20210201T153835Z
UID:13894-1623369600-1623628799@staging.iceam.org
SUMMARY:Webinar: The Classical Treatment of Gynaecological Issues & Male Fertility
DESCRIPTION:Chapters 20-22 of the Jin Gui Yao Lue comprise the first treatise written on the treatment of women’s diseases\, and it remains as complete and relevant a work now as it was then. \nThis lecture will explore the modern application of this classical work\, along with additional relevant strategies included elsewhere in the cannon of the Shang Han Za Bing Lun\, so the modern practitioner can learn to apply classical knowledge in the treatment of such conditions as endometriosis\, fibroids\, ovarian cysts\, and other menstrual\, menopausal and fertility issues. We will also explore how male fertility issues can be addressed with a classical approach \nPricing\nNotice: Early bird pricing (ends on 5/21) \nEarly bird price: $660 AUD \nRegular price: $770 AUD \nDetails\nThe seminar will held from 4pm-8.30pm Brisbane Australia time each day. \nWebinar will be held over Zoom. If you miss one of the three sessions you will be able to get it as a recording.
URL:https://staging.iceam.org/live-course/webinar-the-classical-treatment-of-gynaecological-issues-male-fertility/
LOCATION:ICEAM Brisbane\, 23 Victoria St.\, Clayfield\, Queensland\, 4011\, Australia
GEO:-27.3900494;153.0500364
X-APPLE-STRUCTURED-LOCATION;VALUE=URI;X-ADDRESS=ICEAM Brisbane 23 Victoria St. Clayfield Queensland 4011 Australia;X-APPLE-RADIUS=500;X-TITLE=23 Victoria St.:geo:153.0500364,-27.3900494
END:VEVENT
END:VCALENDAR