BEGIN:VCALENDAR
VERSION:2.0
PRODID:-//ICEAM - ECPv6.15.20//NONSGML v1.0//EN
CALSCALE:GREGORIAN
METHOD:PUBLISH
X-WR-CALNAME:ICEAM
X-ORIGINAL-URL:https://staging.iceam.org
X-WR-CALDESC:Events for ICEAM
REFRESH-INTERVAL;VALUE=DURATION:PT1H
X-Robots-Tag:noindex
X-PUBLISHED-TTL:PT1H
BEGIN:VTIMEZONE
TZID:America/Chicago
BEGIN:DAYLIGHT
TZOFFSETFROM:-0600
TZOFFSETTO:-0500
TZNAME:CDT
DTSTART:20190310T080000
END:DAYLIGHT
BEGIN:STANDARD
TZOFFSETFROM:-0500
TZOFFSETTO:-0600
TZNAME:CST
DTSTART:20191103T070000
END:STANDARD
BEGIN:DAYLIGHT
TZOFFSETFROM:-0600
TZOFFSETTO:-0500
TZNAME:CDT
DTSTART:20200308T080000
END:DAYLIGHT
BEGIN:STANDARD
TZOFFSETFROM:-0500
TZOFFSETTO:-0600
TZNAME:CST
DTSTART:20201101T070000
END:STANDARD
BEGIN:DAYLIGHT
TZOFFSETFROM:-0600
TZOFFSETTO:-0500
TZNAME:CDT
DTSTART:20210314T080000
END:DAYLIGHT
BEGIN:STANDARD
TZOFFSETFROM:-0500
TZOFFSETTO:-0600
TZNAME:CST
DTSTART:20211107T070000
END:STANDARD
END:VTIMEZONE
BEGIN:VEVENT
DTSTART;VALUE=DATE:20201010
DTEND;VALUE=DATE:20201012
DTSTAMP:20260423T094438
CREATED:20181028T220908Z
LAST-MODIFIED:20200420T012808Z
UID:8477-1602288000-1602460799@staging.iceam.org
SUMMARY:London – Diseases of the Jingui Yaolue\, Part Three
DESCRIPTION:This is the authoritative instruction of the etio-pathology and treatment of over 70 complex diseases recorded in the Essentials of the Golden Cabinet or Jingui Yaolue. During this course\, virtually all illnesses of the original text are discussed in great detail\, allowing the student to gain an ultimate and conclusive insight into the pathomechanisms behind these often chronic\, recalcitrant and debilitating illnesses. The formulas used in the Jingui are taught in their respective clinical contexts.
URL:https://staging.iceam.org/live-course/london-diseases-of-the-jingui-yaolue-part-three/
LOCATION:ICEAM London\, 15 Spa Road\, Bermondsey\, London\, SE16 3SA\, United Kingdom
CATEGORIES:Jingui Yaolue
GEO:51.4956757;-0.0745302
X-APPLE-STRUCTURED-LOCATION;VALUE=URI;X-ADDRESS=ICEAM London 15 Spa Road Bermondsey London SE16 3SA United Kingdom;X-APPLE-RADIUS=500;X-TITLE=15 Spa Road:geo:-0.0745302,51.4956757
END:VEVENT
BEGIN:VEVENT
DTSTART;VALUE=DATE:20201016
DTEND;VALUE=DATE:20201019
DTSTAMP:20260423T094438
CREATED:20200826T010241Z
LAST-MODIFIED:20200903T214549Z
UID:13191-1602806400-1603065599@staging.iceam.org
SUMMARY:Treating Autoimmune Conditions through the Classical Chinese Medicine Model
DESCRIPTION:4pm – 8:30pm Australia Eastern Time – Brisbane (GMT+10) \nUsing the Shang Han Za Bing Lun to Treat and Understand Autoimmune Conditions in our Modern Clinical Setting\nInstructor: Laurie Ayres\nNote: This is a VIRTUAL EVENT and will be held online via “Zoom” \n\nApplication of the Shang Han Za Bing Lun through the Tian lineage in autoimmune diseases\nOverview of 6 conformation theory and the febrile response and its importance in autoimmune disease\nGeneral principles in treat autoimmune disease\nTreatments of specific diseases\n\nThis lecture will focus on the understanding and treatment of autoimmune diseases the Shang Han Za Bing Lun within the Tian Lineage system. We will begin with a brief review of the basics of 6 conformation theory and the febrile response and its importance in autoimmune disease. \nDuring this lecture we will examine the classical understanding of the immune response\, and how this can be used to understand acute flares of autoimmune diseases and their progression to chronic pathologies. We will explore the key principles of managing acute flares\, the long-term treatment of the underlying chronic state\, and the important transition between the two when moving out of a flare and back into the long-term treatment \nWe will then discuss common treatments and progressions in a number of the most commonly seen autoimmune diseases\, including rheumatoid arthritis\, crohns disease and ulcerative colitis\, autoimmune thyroid issues\, multiple sclerosis\, among others. \nThe aim of this lecture is not to merely give protocols for certain diseases\, but to help the practitioner understand the principles of treating autoimmune diseases so they are better able to analyze\, understand and treat the multitude of presentations that will come their way in clinic.
URL:https://staging.iceam.org/live-course/treating-autoimmune-conditions-through-the-classical-chinese-medicine-model/
LOCATION:ICEAM Brisbane\, 23 Victoria St.\, Clayfield\, Queensland\, 4011\, Australia
GEO:-27.3900494;153.0500364
X-APPLE-STRUCTURED-LOCATION;VALUE=URI;X-ADDRESS=ICEAM Brisbane 23 Victoria St. Clayfield Queensland 4011 Australia;X-APPLE-RADIUS=500;X-TITLE=23 Victoria St.:geo:153.0500364,-27.3900494
END:VEVENT
BEGIN:VEVENT
DTSTART;VALUE=DATE:20201017
DTEND;VALUE=DATE:20201019
DTSTAMP:20260423T094438
CREATED:20191025T174240Z
LAST-MODIFIED:20191025T183810Z
UID:11068-1602892800-1603065599@staging.iceam.org
SUMMARY:Chicago - Tian-Lineage Shanghan Lun Pulse Diagnosis
DESCRIPTION:The Treatise on Cold Damage shanghan lun is the oldest surviving clinical handbook in the history of Chinese medicine. Written by Eastern Han dynasty (circa 200 CE) imperial envoy Zhang Zhongjing\, it is an integral part of his collective writings once labeled the Treatise on Cold Damage and Complex Diseases shanghan zabing lun. But the contents of the Shanghan Lun as we know it in current day is far from complete. The present versions studied in Chinese medical schools as well as in the West\, do not include the original first three chapters of Rules for Pulse Differentiation bianmai fa\, Rules on Pulse Assessment pingmai fa and Cold Damage Outline shanghan li. Regardless whatever motivation was behind the historical deletions of these passages\, of the aforementioned chapters\, the chapters on pulse instructions are crucial for anyone desiring to fully grasp Zhang Zhongjing’s clinical instructions. Especially since the pulse patterns maizheng form the core diagnostic parameters in the establishment of the formula patterns fangzheng by which the canonical clinician categorizes disease and therapy. \nNote regarding the Shanghan Lun and Jingui Yaolue Pulse Seminars: due to the proprietary and complex nature of these seminars\, they cannot be registered for individually and can only be taken as part of the total sequence. The pulse seminars are open for individual registration only to Diplomates of Canonical Chinese Medicine already certified by our institute who wish to retake the seminar.
URL:https://staging.iceam.org/live-course/chicago-tian-lineage-shanghan-lun-pulse-diagnosis-2020/
LOCATION:ICEAM Chicago\, 65 E. Wacker Pl.\, Chicago\, IL\, 60601\, United States
CATEGORIES:Shanghan Lun
GEO:41.8865275;-87.6255408
X-APPLE-STRUCTURED-LOCATION;VALUE=URI;X-ADDRESS=ICEAM Chicago 65 E. Wacker Pl. Chicago IL 60601 United States;X-APPLE-RADIUS=500;X-TITLE=65 E. Wacker Pl.:geo:-87.6255408,41.8865275
END:VEVENT
BEGIN:VEVENT
DTSTART;VALUE=DATE:20201031
DTEND;VALUE=DATE:20201102
DTSTAMP:20260423T094438
CREATED:20181014T170349Z
LAST-MODIFIED:20181018T185432Z
UID:8390-1604102400-1604275199@staging.iceam.org
SUMMARY:Portland - Tian-Lineage Jingui Yaolue Pulse Diagnosis
DESCRIPTION:Diagnosis in Han-dynasty was primarily done by taking the pulse. Every formula can be identified through one or more pulse patterns presenting in the patient. Though many pulses are mentioned in the Jingui Yaolue\, crucial detail is often hidden\, and it is as if this knowledge is merely implicitly present\, as if it were embedded. Therefore\, the Tian Heming Canonical Formula lineage’s main strength and contribution to the field of Chinese medicine to have made this advanced knowledge on pulse diagnosis crystal clear and evident. This knowledge has never been recorded in any book\, but was rather transmitted orally from Dr. Tian Heming through Dr. Zeng Rongxiu to Dr. Arnaud Versluys. The latter of which has been teaching this material around the world in more systematized and structured format since a few years. \nNote regarding the Shanghan Lun and Jingui Yaolue Pulse Seminars: due to the proprietary and complex nature of these seminars\, they cannot be registered for individually and can only be taken as part of the total sequence. The pulse seminars are open for individual registration only to Diplomates of Canonical Chinese Medicine already certified by our institute who wish to retake the seminar.
URL:https://staging.iceam.org/live-course/portland-tian-lineage-jingui-yaolue-pulse-diagnosis/
LOCATION:ICEAM Portland\, 506 Southwest 6th\, Portland\, OR\, 97204\, United States
CATEGORIES:Jingui Yaolue
GEO:45.413914;-122.7201232
X-APPLE-STRUCTURED-LOCATION;VALUE=URI;X-ADDRESS=ICEAM Portland 506 Southwest 6th Portland OR 97204 United States;X-APPLE-RADIUS=500;X-TITLE=506 Southwest 6th:geo:-122.7201232,45.413914
END:VEVENT
END:VCALENDAR