BEGIN:VCALENDAR
VERSION:2.0
PRODID:-//ICEAM - ECPv6.15.20//NONSGML v1.0//EN
CALSCALE:GREGORIAN
METHOD:PUBLISH
X-ORIGINAL-URL:https://staging.iceam.org
X-WR-CALDESC:Events for ICEAM
REFRESH-INTERVAL;VALUE=DURATION:PT1H
X-Robots-Tag:noindex
X-PUBLISHED-TTL:PT1H
BEGIN:VTIMEZONE
TZID:America/Chicago
BEGIN:DAYLIGHT
TZOFFSETFROM:-0600
TZOFFSETTO:-0500
TZNAME:CDT
DTSTART:20190310T080000
END:DAYLIGHT
BEGIN:STANDARD
TZOFFSETFROM:-0500
TZOFFSETTO:-0600
TZNAME:CST
DTSTART:20191103T070000
END:STANDARD
BEGIN:DAYLIGHT
TZOFFSETFROM:-0600
TZOFFSETTO:-0500
TZNAME:CDT
DTSTART:20200308T080000
END:DAYLIGHT
BEGIN:STANDARD
TZOFFSETFROM:-0500
TZOFFSETTO:-0600
TZNAME:CST
DTSTART:20201101T070000
END:STANDARD
BEGIN:DAYLIGHT
TZOFFSETFROM:-0600
TZOFFSETTO:-0500
TZNAME:CDT
DTSTART:20210314T080000
END:DAYLIGHT
BEGIN:STANDARD
TZOFFSETFROM:-0500
TZOFFSETTO:-0600
TZNAME:CST
DTSTART:20211107T070000
END:STANDARD
END:VTIMEZONE
BEGIN:VEVENT
DTSTART;VALUE=DATE:20200903
DTEND;VALUE=DATE:20200907
DTSTAMP:20260423T151959
CREATED:20150430T055631Z
LAST-MODIFIED:20161114T021006Z
UID:94-1599091200-1599436799@staging.iceam.org
SUMMARY:Gdansk - Jingui Yaolue Abdominal Diagnosis Fukushin
DESCRIPTION:Japanese abdominal diagnosis or Fukushin is the diagnostic art developed in medieval Japan based on the canonical writings by Zhang Zhongjing. Careful inspection of the Shanghan Zabing Lun reveals countless references to abdominal conditions that could only have been diagnosed by actual palpation of the abdomen. The skill however never fully developed in China but flourished in Japan. Fukushin 腹診 refers specifically to the style of abdominal diagnosis developed by Japanese scholars during the Edo period (1603-1867 CE) for the purpose of prescribing the Han dynasty formulas of Zhang Zhongjing.
URL:https://staging.iceam.org/live-course/gdansk-jingui-yaolue-abdominal-diagnosis-fukushin/
LOCATION:ICEAM Gdansk
CATEGORIES:Jingui Yaolue
GEO:54.4152357;18.574909
END:VEVENT
BEGIN:VEVENT
DTSTART;VALUE=DATE:20200919
DTEND;VALUE=DATE:20200921
DTSTAMP:20260423T151959
CREATED:20191025T174240Z
LAST-MODIFIED:20191025T183715Z
UID:11069-1600473600-1600646399@staging.iceam.org
SUMMARY:Chicago - Shanghan Lun Pathophysiology and Basic Patterns
DESCRIPTION:The Treatise on Cold Damage or Shanghan Lun is one of the most prominent Eastern Han-dynasty (circa CE 200) classics in Chinese medicine and the first clinical handbook in China’s medical history. It is also the center of the Canonical Chinese Medicine Training.
URL:https://staging.iceam.org/live-course/chicago-shanghan-lun-pathophysiology-and-basic-patterns-2020/
LOCATION:ICEAM Chicago\, 65 E. Wacker Pl.\, Chicago\, IL\, 60601\, United States
CATEGORIES:Shanghan Lun
GEO:41.8865275;-87.6255408
X-APPLE-STRUCTURED-LOCATION;VALUE=URI;X-ADDRESS=ICEAM Chicago 65 E. Wacker Pl. Chicago IL 60601 United States;X-APPLE-RADIUS=500;X-TITLE=65 E. Wacker Pl.:geo:-87.6255408,41.8865275
END:VEVENT
BEGIN:VEVENT
DTSTART;VALUE=DATE:20200926
DTEND;VALUE=DATE:20200928
DTSTAMP:20260423T151959
CREATED:20181014T165953Z
LAST-MODIFIED:20181018T185420Z
UID:8380-1601078400-1601251199@staging.iceam.org
SUMMARY:Portland - Diseases of the Jingui Yaolue\, Part Three
DESCRIPTION:This is the authoritative instruction of the etio-pathology and treatment of over 70 complex diseases recorded in the Essentials of the Golden Cabinet or Jingui Yaolue. During this course\, virtually all illnesses of the original text are discussed in great detail\, allowing the student to gain an ultimate and conclusive insight into the pathomechanisms behind these often chronic\, recalcitrant and debilitating illnesses. The formulas used in the Jingui are taught in their respective clinical contexts.
URL:https://staging.iceam.org/live-course/portland-diseases-of-the-jingui-yaolue-part-three/
LOCATION:ICEAM Portland\, 506 Southwest 6th\, Portland\, OR\, 97204\, United States
CATEGORIES:Jingui Yaolue
GEO:45.413914;-122.7201232
X-APPLE-STRUCTURED-LOCATION;VALUE=URI;X-ADDRESS=ICEAM Portland 506 Southwest 6th Portland OR 97204 United States;X-APPLE-RADIUS=500;X-TITLE=506 Southwest 6th:geo:-122.7201232,45.413914
END:VEVENT
END:VCALENDAR