BEGIN:VCALENDAR
VERSION:2.0
PRODID:-//ICEAM - ECPv6.15.20//NONSGML v1.0//EN
CALSCALE:GREGORIAN
METHOD:PUBLISH
X-WR-CALNAME:ICEAM
X-ORIGINAL-URL:https://staging.iceam.org
X-WR-CALDESC:Events for ICEAM
REFRESH-INTERVAL;VALUE=DURATION:PT1H
X-Robots-Tag:noindex
X-PUBLISHED-TTL:PT1H
BEGIN:VTIMEZONE
TZID:America/Chicago
BEGIN:DAYLIGHT
TZOFFSETFROM:-0600
TZOFFSETTO:-0500
TZNAME:CDT
DTSTART:20190310T080000
END:DAYLIGHT
BEGIN:STANDARD
TZOFFSETFROM:-0500
TZOFFSETTO:-0600
TZNAME:CST
DTSTART:20191103T070000
END:STANDARD
BEGIN:DAYLIGHT
TZOFFSETFROM:-0600
TZOFFSETTO:-0500
TZNAME:CDT
DTSTART:20200308T080000
END:DAYLIGHT
BEGIN:STANDARD
TZOFFSETFROM:-0500
TZOFFSETTO:-0600
TZNAME:CST
DTSTART:20201101T070000
END:STANDARD
BEGIN:DAYLIGHT
TZOFFSETFROM:-0600
TZOFFSETTO:-0500
TZNAME:CDT
DTSTART:20210314T080000
END:DAYLIGHT
BEGIN:STANDARD
TZOFFSETFROM:-0500
TZOFFSETTO:-0600
TZNAME:CST
DTSTART:20211107T070000
END:STANDARD
END:VTIMEZONE
BEGIN:VEVENT
DTSTART;VALUE=DATE:20200801
DTEND;VALUE=DATE:20200803
DTSTAMP:20260423T164759
CREATED:20191025T174240Z
LAST-MODIFIED:20191025T183616Z
UID:11070-1596240000-1596412799@staging.iceam.org
SUMMARY:Chicago - The Herb and Formula Archetypes: The Outer Circle\, Part Two
DESCRIPTION:This course is the instruction of specialized Materia Medica and formula studies in the service of canonical Chinese medicine as practiced by Zhang Zhongjing in the Shanghan Lun and the Jingui Yaolue.
URL:https://staging.iceam.org/live-course/chicago-the-herb-and-formula-archetypes-the-outer-circle-part-two-2020/
LOCATION:ICEAM Chicago\, 65 E. Wacker Pl.\, Chicago\, IL\, 60601\, United States
CATEGORIES:Shanghan Lun
GEO:41.8865275;-87.6255408
X-APPLE-STRUCTURED-LOCATION;VALUE=URI;X-ADDRESS=ICEAM Chicago 65 E. Wacker Pl. Chicago IL 60601 United States;X-APPLE-RADIUS=500;X-TITLE=65 E. Wacker Pl.:geo:-87.6255408,41.8865275
END:VEVENT
BEGIN:VEVENT
DTSTART;VALUE=DATE:20200822
DTEND;VALUE=DATE:20200824
DTSTAMP:20260423T164759
CREATED:20181028T220734Z
LAST-MODIFIED:20200420T002203Z
UID:8473-1598054400-1598227199@staging.iceam.org
SUMMARY:London – Diseases of the Jingui Yaolue\, Part Two
DESCRIPTION:This is the authoritative instruction of the etio-pathology and treatment of over 70 complex diseases recorded in the Essentials of the Golden Cabinet or Jingui Yaolue. During these two weekends\, virtually all illnesses of the original text are discussed in great detail\, allowing the student to gain an ultimate and conclusive insight into the pathomechanisms behind these often chronic\, recalcitrant and debilitating illnesses. The formulas used in the Jingui are taught in their respective clinical contexts.
URL:https://staging.iceam.org/live-course/london-diseases-of-the-jingui-yaolue-part-two/
LOCATION:ICEAM London\, 15 Spa Road\, Bermondsey\, London\, SE16 3SA\, United Kingdom
CATEGORIES:Jingui Yaolue
GEO:51.4956757;-0.0745302
X-APPLE-STRUCTURED-LOCATION;VALUE=URI;X-ADDRESS=ICEAM London 15 Spa Road Bermondsey London SE16 3SA United Kingdom;X-APPLE-RADIUS=500;X-TITLE=15 Spa Road:geo:-0.0745302,51.4956757
END:VEVENT
BEGIN:VEVENT
DTSTART;VALUE=DATE:20200829
DTEND;VALUE=DATE:20200831
DTSTAMP:20260423T164759
CREATED:20181014T165950Z
LAST-MODIFIED:20181018T185412Z
UID:8379-1598659200-1598831999@staging.iceam.org
SUMMARY:Portland - Diseases of the Jingui Yaolue\, Part Two
DESCRIPTION:This is the authoritative instruction of the etio-pathology and treatment of over 70 complex diseases recorded in the Essentials of the Golden Cabinet or Jingui Yaolue. During these two weekends\, virtually all illnesses of the original text are discussed in great detail\, allowing the student to gain an ultimate and conclusive insight into the pathomechanisms behind these often chronic\, recalcitrant and debilitating illnesses. The formulas used in the Jingui are taught in their respective clinical contexts.
URL:https://staging.iceam.org/live-course/portland-diseases-of-the-jingui-yaolue-part-two/
LOCATION:ICEAM Portland\, 506 Southwest 6th\, Portland\, OR\, 97204\, United States
CATEGORIES:Jingui Yaolue
GEO:45.413914;-122.7201232
X-APPLE-STRUCTURED-LOCATION;VALUE=URI;X-ADDRESS=ICEAM Portland 506 Southwest 6th Portland OR 97204 United States;X-APPLE-RADIUS=500;X-TITLE=506 Southwest 6th:geo:-122.7201232,45.413914
END:VEVENT
END:VCALENDAR