BEGIN:VCALENDAR
VERSION:2.0
PRODID:-//ICEAM - ECPv6.15.20//NONSGML v1.0//EN
CALSCALE:GREGORIAN
METHOD:PUBLISH
X-ORIGINAL-URL:https://staging.iceam.org
X-WR-CALDESC:Events for ICEAM
REFRESH-INTERVAL;VALUE=DURATION:PT1H
X-Robots-Tag:noindex
X-PUBLISHED-TTL:PT1H
BEGIN:VTIMEZONE
TZID:America/Chicago
BEGIN:DAYLIGHT
TZOFFSETFROM:-0600
TZOFFSETTO:-0500
TZNAME:CDT
DTSTART:20190310T080000
END:DAYLIGHT
BEGIN:STANDARD
TZOFFSETFROM:-0500
TZOFFSETTO:-0600
TZNAME:CST
DTSTART:20191103T070000
END:STANDARD
BEGIN:DAYLIGHT
TZOFFSETFROM:-0600
TZOFFSETTO:-0500
TZNAME:CDT
DTSTART:20200308T080000
END:DAYLIGHT
BEGIN:STANDARD
TZOFFSETFROM:-0500
TZOFFSETTO:-0600
TZNAME:CST
DTSTART:20201101T070000
END:STANDARD
BEGIN:DAYLIGHT
TZOFFSETFROM:-0600
TZOFFSETTO:-0500
TZNAME:CDT
DTSTART:20210314T080000
END:DAYLIGHT
BEGIN:STANDARD
TZOFFSETFROM:-0500
TZOFFSETTO:-0600
TZNAME:CST
DTSTART:20211107T070000
END:STANDARD
END:VTIMEZONE
BEGIN:VEVENT
DTSTART;VALUE=DATE:20200604
DTEND;VALUE=DATE:20200608
DTSTAMP:20260423T193618
CREATED:20150715T021205Z
LAST-MODIFIED:20161114T020945Z
UID:861-1591228800-1591574399@staging.iceam.org
SUMMARY:Gdansk - Diseases of the Jingui Yaolue\, Part Three
DESCRIPTION:This is the authoritative instruction of the etio-pathology and treatment of over 70 complex diseases recorded in the Essentials of the Golden Cabinet or Jingui Yaolue. During this course\, virtually all illnesses of the original text are discussed in great detail\, allowing the student to gain an ultimate and conclusive insight into the pathomechanisms behind these often chronic\, recalcitrant and debilitating illnesses. The formulas used in the Jingui are taught in their respective clinical contexts.
URL:https://staging.iceam.org/live-course/gdansk-diseases-of-the-jingui-yaolue-part-three/
LOCATION:ICEAM Gdansk
CATEGORIES:Jingui Yaolue
GEO:54.4152357;18.574909
END:VEVENT
BEGIN:VEVENT
DTSTART;VALUE=DATE:20200618
DTEND;VALUE=DATE:20200619
DTSTAMP:20260423T193618
CREATED:20200129T205907Z
LAST-MODIFIED:20200129T215530Z
UID:11919-1592438400-1592524799@staging.iceam.org
SUMMARY:Brisbane - Clinic Training Day - June 18th
DESCRIPTION:Observe an ICEAM clinical supervisor take pulses and write formulas in clinic. Limited to 10 students per day. Maximum 10 patients per day. Patient contacts count towards fulfillment of clinical certification as Fellow of the Institute of Classics in East Asian Medicine. \nPrice includes GST \n 
URL:https://staging.iceam.org/live-course/brisbane-clinic-training-day-2020-1/
LOCATION:ICEAM Brisbane\, 23 Victoria St.\, Clayfield\, Queensland\, 4011\, Australia
GEO:-27.3900494;153.0500364
X-APPLE-STRUCTURED-LOCATION;VALUE=URI;X-ADDRESS=ICEAM Brisbane 23 Victoria St. Clayfield Queensland 4011 Australia;X-APPLE-RADIUS=500;X-TITLE=23 Victoria St.:geo:153.0500364,-27.3900494
END:VEVENT
BEGIN:VEVENT
DTSTART;VALUE=DATE:20200619
DTEND;VALUE=DATE:20200620
DTSTAMP:20260423T193618
CREATED:20200129T212742Z
LAST-MODIFIED:20200129T215534Z
UID:11924-1592524800-1592611199@staging.iceam.org
SUMMARY:Brisbane - Clinic Training Day - June 19th
DESCRIPTION:Observe an ICEAM clinical supervisor take pulses and write formulas in clinic. Limited to 10 students per day. Maximum 10 patients per day. Patient contacts count towards fulfillment of clinical certification as Fellow of the Institute of Classics in East Asian Medicine. \nPrice includes GST \n 
URL:https://staging.iceam.org/live-course/brisbane-clinic-training-day-2020-2/
LOCATION:ICEAM Brisbane\, 23 Victoria St.\, Clayfield\, Queensland\, 4011\, Australia
GEO:-27.3900494;153.0500364
X-APPLE-STRUCTURED-LOCATION;VALUE=URI;X-ADDRESS=ICEAM Brisbane 23 Victoria St. Clayfield Queensland 4011 Australia;X-APPLE-RADIUS=500;X-TITLE=23 Victoria St.:geo:153.0500364,-27.3900494
END:VEVENT
BEGIN:VEVENT
DTSTART;VALUE=DATE:20200620
DTEND;VALUE=DATE:20200622
DTSTAMP:20260423T193618
CREATED:20200129T213857Z
LAST-MODIFIED:20200616T173726Z
UID:11935-1592611200-1592783999@staging.iceam.org
SUMMARY:Brisbane – Understanding the Tian-Zeng pulse system through the lens of 5 Element Theory
DESCRIPTION:This lecture will be an exploration of pulses from a five element perspective. We will examine the tools we already possess from the intricate Tian lineage pulse system from a purely five element angle to gain a deeper understanding of these methods. This will involve plotting herb methods on a five flavour/five element and 19 lines model\, and then expanding this to include formulas of the Shang Han Za Bing Lun\, and in some cases Tang Ye Jing. This should not only help deepen one’s theoretical understanding of the system\, but also aid in clinic when presented with those few complex patients who don’t fit as clearly into the herb/formulas pulses and some stirring of the brain tendon is required to analyse their presentations. \nThis lecture serves as a follow on of last year’s clarification of the basics of the pulse by putting those qualities into a clinical context\, but is also perfectly accessible to those who didn’t attend that lecture. \nPrice includes GST \n\nPlease note: These lectures are intended only for ICEAM diplomates or students who have completed the pulse seminars. \nSeminar location: \nThe Ministry Centre\,\n23 Victoria Street.\nClayfield\, Queensland 4011 Australia \n+ Google Map \n\nSign up for ICEAM Brisbane Clinics here! \nJune 18th Clinic\nJune 19th Clinic\nJune 22nd Clinic\nJune 23rd Clinic \nNote: These lectures will be held at a different venue than their corresponding clinics.
URL:https://staging.iceam.org/live-course/brisbane-understanding-the-tian-zeng-pulse-system-through-the-lens-of-5-element-theory/
LOCATION:ICEAM Brisbane\, 23 Victoria St.\, Clayfield\, Queensland\, 4011\, Australia
GEO:-27.3900494;153.0500364
X-APPLE-STRUCTURED-LOCATION;VALUE=URI;X-ADDRESS=ICEAM Brisbane 23 Victoria St. Clayfield Queensland 4011 Australia;X-APPLE-RADIUS=500;X-TITLE=23 Victoria St.:geo:153.0500364,-27.3900494
END:VEVENT
BEGIN:VEVENT
DTSTART;VALUE=DATE:20200620
DTEND;VALUE=DATE:20200622
DTSTAMP:20260423T193618
CREATED:20191025T174240Z
LAST-MODIFIED:20191025T183524Z
UID:11071-1592611200-1592783999@staging.iceam.org
SUMMARY:Chicago - The Herb and Formula Archetypes: The Outer Circle\, Part One
DESCRIPTION:This course is the instruction of specialized Materia Medica and formula studies in the service of canonical Chinese medicine as practiced by Zhang Zhongjing in the Shanghan Lun and the Jingui Yaolue.
URL:https://staging.iceam.org/live-course/chicago-the-herb-and-formula-archetypes-the-outer-circle-part-one-2020/
LOCATION:ICEAM Chicago\, 65 E. Wacker Pl.\, Chicago\, IL\, 60601\, United States
CATEGORIES:Shanghan Lun
GEO:41.8865275;-87.6255408
X-APPLE-STRUCTURED-LOCATION;VALUE=URI;X-ADDRESS=ICEAM Chicago 65 E. Wacker Pl. Chicago IL 60601 United States;X-APPLE-RADIUS=500;X-TITLE=65 E. Wacker Pl.:geo:-87.6255408,41.8865275
END:VEVENT
BEGIN:VEVENT
DTSTART;VALUE=DATE:20200622
DTEND;VALUE=DATE:20200623
DTSTAMP:20260423T193618
CREATED:20200129T212914Z
LAST-MODIFIED:20200129T215535Z
UID:11928-1592784000-1592870399@staging.iceam.org
SUMMARY:Brisbane - Clinic Training Day - June 22nd
DESCRIPTION:Observe an ICEAM clinical supervisor take pulses and write formulas in clinic. Limited to 10 students per day. Maximum 10 patients per day. Patient contacts count towards fulfillment of clinical certification as Fellow of the Institute of Classics in East Asian Medicine. \nPrice includes GST \n 
URL:https://staging.iceam.org/live-course/brisbane-clinic-training-day-2020-3/
LOCATION:ICEAM Brisbane\, 23 Victoria St.\, Clayfield\, Queensland\, 4011\, Australia
GEO:-27.3900494;153.0500364
X-APPLE-STRUCTURED-LOCATION;VALUE=URI;X-ADDRESS=ICEAM Brisbane 23 Victoria St. Clayfield Queensland 4011 Australia;X-APPLE-RADIUS=500;X-TITLE=23 Victoria St.:geo:153.0500364,-27.3900494
END:VEVENT
BEGIN:VEVENT
DTSTART;VALUE=DATE:20200623
DTEND;VALUE=DATE:20200624
DTSTAMP:20260423T193618
CREATED:20200129T212915Z
LAST-MODIFIED:20200129T215539Z
UID:11929-1592870400-1592956799@staging.iceam.org
SUMMARY:Brisbane - Clinic Training Day - June 23rd
DESCRIPTION:Observe an ICEAM clinical supervisor take pulses and write formulas in clinic. Limited to 10 students per day. Maximum 10 patients per day. Patient contacts count towards fulfillment of clinical certification as Fellow of the Institute of Classics in East Asian Medicine. \nPrice includes GST \n 
URL:https://staging.iceam.org/live-course/brisbane-clinic-training-day-2020-4/
LOCATION:ICEAM Brisbane\, 23 Victoria St.\, Clayfield\, Queensland\, 4011\, Australia
GEO:-27.3900494;153.0500364
X-APPLE-STRUCTURED-LOCATION;VALUE=URI;X-ADDRESS=ICEAM Brisbane 23 Victoria St. Clayfield Queensland 4011 Australia;X-APPLE-RADIUS=500;X-TITLE=23 Victoria St.:geo:153.0500364,-27.3900494
END:VEVENT
END:VCALENDAR