BEGIN:VCALENDAR
VERSION:2.0
PRODID:-//ICEAM - ECPv6.15.20//NONSGML v1.0//EN
CALSCALE:GREGORIAN
METHOD:PUBLISH
X-ORIGINAL-URL:https://staging.iceam.org
X-WR-CALDESC:Events for ICEAM
REFRESH-INTERVAL;VALUE=DURATION:PT1H
X-Robots-Tag:noindex
X-PUBLISHED-TTL:PT1H
BEGIN:VTIMEZONE
TZID:America/Chicago
BEGIN:DAYLIGHT
TZOFFSETFROM:-0600
TZOFFSETTO:-0500
TZNAME:CDT
DTSTART:20190310T080000
END:DAYLIGHT
BEGIN:STANDARD
TZOFFSETFROM:-0500
TZOFFSETTO:-0600
TZNAME:CST
DTSTART:20191103T070000
END:STANDARD
BEGIN:DAYLIGHT
TZOFFSETFROM:-0600
TZOFFSETTO:-0500
TZNAME:CDT
DTSTART:20200308T080000
END:DAYLIGHT
BEGIN:STANDARD
TZOFFSETFROM:-0500
TZOFFSETTO:-0600
TZNAME:CST
DTSTART:20201101T070000
END:STANDARD
BEGIN:DAYLIGHT
TZOFFSETFROM:-0600
TZOFFSETTO:-0500
TZNAME:CDT
DTSTART:20210314T080000
END:DAYLIGHT
BEGIN:STANDARD
TZOFFSETFROM:-0500
TZOFFSETTO:-0600
TZNAME:CST
DTSTART:20211107T070000
END:STANDARD
END:VTIMEZONE
BEGIN:VEVENT
DTSTART;VALUE=DATE:20200404
DTEND;VALUE=DATE:20200406
DTSTAMP:20260423T221434
CREATED:20181014T165128Z
LAST-MODIFIED:20181015T212602Z
UID:8366-1585958400-1586131199@staging.iceam.org
SUMMARY:Portland - Shanghan Lun Canonical Formula Modification System
DESCRIPTION:During this course\, a strict system of clinical modification will be taught. The system was developed by Dr. Versluys over the course of the last ten years by analyzing both Zhang Zhongjing’s prescriptions as well as the characteristics of the Tian-Zeng lineage’s clinical practice. It is fully grounded and based in the classical writings of the original designer of the formulas\, Zhang Zhongjing. The system is organized along a hierarchical system of formula modifications and provides a failsafe method for modification to adapt to a broader collection of complex clinical manifestations as often encountered in Chinese medicine clinic in the West. A waterproof modification system forms the basis of classical herbal practice and the elimination of random clinical variables which are the greatest cause for failure in clinic.
URL:https://staging.iceam.org/live-course/portland-shanghan-lun-canonical-formula-modification-system/
LOCATION:ICEAM Portland\, 506 Southwest 6th\, Portland\, OR\, 97204\, United States
CATEGORIES:Shanghan Lun
GEO:45.413914;-122.7201232
X-APPLE-STRUCTURED-LOCATION;VALUE=URI;X-ADDRESS=ICEAM Portland 506 Southwest 6th Portland OR 97204 United States;X-APPLE-RADIUS=500;X-TITLE=506 Southwest 6th:geo:-122.7201232,45.413914
END:VEVENT
BEGIN:VEVENT
DTSTART;VALUE=DATE:20200411
DTEND;VALUE=DATE:20200413
DTSTAMP:20260423T221434
CREATED:20180911T060448Z
LAST-MODIFIED:20180911T060448Z
UID:7071-1586563200-1586735999@staging.iceam.org
SUMMARY:London - Shanghan Lun Canonical Formula Modification System
DESCRIPTION:During this course\, a strict system of clinical modification will be taught. The system was developed by Dr. Versluys over the course of the last ten years by analyzing both Zhang Zhongjing’s prescriptions as well as the characteristics of the Tian-Zeng lineage’s clinical practice. It is fully grounded and based in the classical writings of the original designer of the formulas\, Zhang Zhongjing. The system is organized along a hierarchical system of formula modifications and provides a failsafe method for modification to adapt to a broader collection of complex clinical manifestations as often encountered in Chinese medicine clinic in the West. A waterproof modification system forms the basis of classical herbal practice and the elimination of random clinical variables which are the greatest cause for failure in clinic.
URL:https://staging.iceam.org/live-course/london-shanghan-lun-canonical-formula-modification-system/
LOCATION:ICEAM London\, 15 Spa Road\, Bermondsey\, London\, SE16 3SA\, United Kingdom
CATEGORIES:Shanghan Lun
GEO:51.4956757;-0.0745302
X-APPLE-STRUCTURED-LOCATION;VALUE=URI;X-ADDRESS=ICEAM London 15 Spa Road Bermondsey London SE16 3SA United Kingdom;X-APPLE-RADIUS=500;X-TITLE=15 Spa Road:geo:-0.0745302,51.4956757
END:VEVENT
END:VCALENDAR