BEGIN:VCALENDAR
VERSION:2.0
PRODID:-//ICEAM - ECPv6.15.20//NONSGML v1.0//EN
CALSCALE:GREGORIAN
METHOD:PUBLISH
X-WR-CALNAME:ICEAM
X-ORIGINAL-URL:https://staging.iceam.org
X-WR-CALDESC:Events for ICEAM
REFRESH-INTERVAL;VALUE=DURATION:PT1H
X-Robots-Tag:noindex
X-PUBLISHED-TTL:PT1H
BEGIN:VTIMEZONE
TZID:America/Chicago
BEGIN:DAYLIGHT
TZOFFSETFROM:-0600
TZOFFSETTO:-0500
TZNAME:CDT
DTSTART:20180311T080000
END:DAYLIGHT
BEGIN:STANDARD
TZOFFSETFROM:-0500
TZOFFSETTO:-0600
TZNAME:CST
DTSTART:20181104T070000
END:STANDARD
BEGIN:DAYLIGHT
TZOFFSETFROM:-0600
TZOFFSETTO:-0500
TZNAME:CDT
DTSTART:20190310T080000
END:DAYLIGHT
BEGIN:STANDARD
TZOFFSETFROM:-0500
TZOFFSETTO:-0600
TZNAME:CST
DTSTART:20191103T070000
END:STANDARD
BEGIN:DAYLIGHT
TZOFFSETFROM:-0600
TZOFFSETTO:-0500
TZNAME:CDT
DTSTART:20200308T080000
END:DAYLIGHT
BEGIN:STANDARD
TZOFFSETFROM:-0500
TZOFFSETTO:-0600
TZNAME:CST
DTSTART:20201101T070000
END:STANDARD
END:VTIMEZONE
BEGIN:VEVENT
DTSTART;VALUE=DATE:20190905
DTEND;VALUE=DATE:20190906
DTSTAMP:20260424T075545
CREATED:20190502T204538Z
LAST-MODIFIED:20190513T150249Z
UID:9390-1567641600-1567727999@staging.iceam.org
SUMMARY:Brisbane - Clinic Training Day - Sept. 5th
DESCRIPTION:Observe an ICEAM clinical supervisor take pulses and write formulas in clinic. Limited to 12 students per day. Maximum 12 patients per day. Patient contacts count towards fulfillment of clinical certification as Fellow of the Institute of Classics in East Asian Medicine. \n  \n\n  \nSeminar – Pulse clarification and Clinical thinking within the Tian-Zeng System
URL:https://staging.iceam.org/live-course/brisbane-clinic-training-day-5/
LOCATION:ICEAM Brisbane\, 23 Victoria St.\, Clayfield\, Queensland\, 4011\, Australia
GEO:-27.3900494;153.0500364
X-APPLE-STRUCTURED-LOCATION;VALUE=URI;X-ADDRESS=ICEAM Brisbane 23 Victoria St. Clayfield Queensland 4011 Australia;X-APPLE-RADIUS=500;X-TITLE=23 Victoria St.:geo:153.0500364,-27.3900494
END:VEVENT
BEGIN:VEVENT
DTSTART;VALUE=DATE:20190906
DTEND;VALUE=DATE:20190907
DTSTAMP:20260424T075545
CREATED:20190506T160500Z
LAST-MODIFIED:20190510T143712Z
UID:9394-1567728000-1567814399@staging.iceam.org
SUMMARY:Brisbane - Clinic Training Day - Sept. 6th
DESCRIPTION:Observe an ICEAM clinical supervisor take pulses and write formulas in clinic. Limited to 12 students per day. Maximum 12 patients per day. Patient contacts count towards fulfillment of clinical certification as Fellow of the Institute of Classics in East Asian Medicine. \n  \n\n  \nSeminar – Pulse clarification and Clinical thinking within the Tian-Zeng System
URL:https://staging.iceam.org/live-course/brisbane-clinic-training-day-4/
LOCATION:ICEAM Brisbane\, 23 Victoria St.\, Clayfield\, Queensland\, 4011\, Australia
GEO:-27.3900494;153.0500364
X-APPLE-STRUCTURED-LOCATION;VALUE=URI;X-ADDRESS=ICEAM Brisbane 23 Victoria St. Clayfield Queensland 4011 Australia;X-APPLE-RADIUS=500;X-TITLE=23 Victoria St.:geo:153.0500364,-27.3900494
END:VEVENT
BEGIN:VEVENT
DTSTART;VALUE=DATE:20190907
DTEND;VALUE=DATE:20190909
DTSTAMP:20260424T075545
CREATED:20190506T160135Z
LAST-MODIFIED:20190509T152547Z
UID:9383-1567814400-1567987199@staging.iceam.org
SUMMARY:Brisbane – Pulse clarification and Clinical thinking within the Tian-Zeng System
DESCRIPTION:Note: Early bird pricing (10% off!) ends 8/31/19 \n\nThis is a special one off two day lecture which has been designed to help the student gain a deeper understanding of the Tian-Zeng Lineage system as well as making it more clinically relevant. In this lecture we will be going back to the basics of the pulse to help clarify: \n– The details of the primary pulse qualities\n– What they feel like?\n– How they are differentiated?\n– Which can and cannot occur in combination? \n  \nThen we will move into: \n– A review of some of the basic herb methods\n– Develop further and clarify the key characteristics of the pulses for commonly used formulas\n– Key differentiating characteristics  between commonly used formulas\n– Some common formula equivalences on the pulse \n  \nWe will take cases from the clinics to review basic pulse qualities\, herb methods and formula pulses to help clarify the clinical process of differentiating commonly used formulas and formula equivalencies on the pulse. Which is all in service of coming to a clear diagnosis based on the pulse and formula selection based on a strong understanding of classical physiology. \n\nSeminar location: \nThe Ministry Centre\,\n23 Victoria Street.\nClayfield\, Queensland 4011 Australia \n+ Google Map \n\nSign up for ICEAM Brisbane Clinics here! \nSeptember 5th Clinic\nSeptember 6th Clinic\nSeptember 9th Clinic\nSeptember 10th Clinic \nNote: These lectures will be held at a different venue than their corresponding clinics.
URL:https://staging.iceam.org/live-course/brisbane-pulse-clarification-and-clinical-thinking-within-the-tian-zeng-system/
LOCATION:ICEAM Brisbane\, 23 Victoria St.\, Clayfield\, Queensland\, 4011\, Australia
GEO:-27.3900494;153.0500364
X-APPLE-STRUCTURED-LOCATION;VALUE=URI;X-ADDRESS=ICEAM Brisbane 23 Victoria St. Clayfield Queensland 4011 Australia;X-APPLE-RADIUS=500;X-TITLE=23 Victoria St.:geo:153.0500364,-27.3900494
END:VEVENT
BEGIN:VEVENT
DTSTART;VALUE=DATE:20190909
DTEND;VALUE=DATE:20190910
DTSTAMP:20260424T075545
CREATED:20190506T160455Z
LAST-MODIFIED:20190510T143722Z
UID:9397-1567987200-1568073599@staging.iceam.org
SUMMARY:Brisbane - Clinic Training Day - Sept. 9th
DESCRIPTION:Observe an ICEAM clinical supervisor take pulses and write formulas in clinic. Limited to 12 students per day. Maximum 12 patients per day. Patient contacts count towards fulfillment of clinical certification as Fellow of the Institute of Classics in East Asian Medicine. \n  \n\n  \nSeminar – Pulse clarification and Clinical thinking within the Tian-Zeng System
URL:https://staging.iceam.org/live-course/brisbane-clinic-training-day-3/
LOCATION:ICEAM Brisbane\, 23 Victoria St.\, Clayfield\, Queensland\, 4011\, Australia
GEO:-27.3900494;153.0500364
X-APPLE-STRUCTURED-LOCATION;VALUE=URI;X-ADDRESS=ICEAM Brisbane 23 Victoria St. Clayfield Queensland 4011 Australia;X-APPLE-RADIUS=500;X-TITLE=23 Victoria St.:geo:153.0500364,-27.3900494
END:VEVENT
BEGIN:VEVENT
DTSTART;VALUE=DATE:20190910
DTEND;VALUE=DATE:20190911
DTSTAMP:20260424T075545
CREATED:20190506T160451Z
LAST-MODIFIED:20190510T143730Z
UID:9398-1568073600-1568159999@staging.iceam.org
SUMMARY:Brisbane - Clinic Training Day - Sept. 10th
DESCRIPTION:Observe an ICEAM clinical supervisor take pulses and write formulas in clinic. Limited to 12 students per day. Maximum 12 patients per day. Patient contacts count towards fulfillment of clinical certification as Fellow of the Institute of Classics in East Asian Medicine. \n  \n\n  \nSeminar – Pulse clarification and Clinical thinking within the Tian-Zeng System
URL:https://staging.iceam.org/live-course/brisbane-clinic-training-day-2/
LOCATION:ICEAM Brisbane\, 23 Victoria St.\, Clayfield\, Queensland\, 4011\, Australia
GEO:-27.3900494;153.0500364
X-APPLE-STRUCTURED-LOCATION;VALUE=URI;X-ADDRESS=ICEAM Brisbane 23 Victoria St. Clayfield Queensland 4011 Australia;X-APPLE-RADIUS=500;X-TITLE=23 Victoria St.:geo:153.0500364,-27.3900494
END:VEVENT
BEGIN:VEVENT
DTSTART;VALUE=DATE:20190926
DTEND;VALUE=DATE:20190930
DTSTAMP:20260424T075545
CREATED:20150430T054629Z
LAST-MODIFIED:20161114T020806Z
UID:85-1569456000-1569801599@staging.iceam.org
SUMMARY:Gdansk - Shanghan Lun Acupuncture and Canonical Formula Modification System
DESCRIPTION:During this course\, a strict system of clinical modification will be taught. The system was developed by Dr. Versluys over the course of the last ten years by analyzing both Zhang Zhongjing’s prescriptions as well as the characteristics of the Tian-Zeng lineage’s clinical practice. It is fully grounded and based in the classical writings of the original designer of the formulas\, Zhang Zhongjing. The system is organized along a hierarchical system of formula modifications and provides a failsafe method for modification to adapt to a broader collection of complex clinical manifestations as often encountered in Chinese medicine clinic in the West. A waterproof modification system forms the basis of classical herbal practice and the elimination of random clinical variables which are the greatest cause for failure in clinic.
URL:https://staging.iceam.org/live-course/gdansk-shanghan-lun-acupuncture-and-canonical-formula-modification-system/
LOCATION:ICEAM Gdansk
CATEGORIES:Shanghan Lun
GEO:54.4152357;18.574909
END:VEVENT
BEGIN:VEVENT
DTSTART;VALUE=DATE:20190928
DTEND;VALUE=DATE:20190930
DTSTAMP:20260424T075545
CREATED:20181014T164530Z
LAST-MODIFIED:20181015T211503Z
UID:8354-1569628800-1569801599@staging.iceam.org
SUMMARY:Portland - Shanghan Lun Pathophysiology and Basic Patterns
DESCRIPTION:The Treatise on Cold Damage or Shanghan Lun is one of the most prominent Eastern Han-dynasty (circa CE 200) classics in Chinese medicine and the first clinical handbook in China’s medical history. It is also the center of the Canonical Chinese Medicine Training.
URL:https://staging.iceam.org/live-course/portland-shanghan-lun-pathophysiology-and-basic-patterns/
LOCATION:ICEAM Portland\, 506 Southwest 6th\, Portland\, OR\, 97204\, United States
CATEGORIES:Shanghan Lun
GEO:45.413914;-122.7201232
X-APPLE-STRUCTURED-LOCATION;VALUE=URI;X-ADDRESS=ICEAM Portland 506 Southwest 6th Portland OR 97204 United States;X-APPLE-RADIUS=500;X-TITLE=506 Southwest 6th:geo:-122.7201232,45.413914
END:VEVENT
END:VCALENDAR