BEGIN:VCALENDAR
VERSION:2.0
PRODID:-//ICEAM - ECPv6.15.20//NONSGML v1.0//EN
CALSCALE:GREGORIAN
METHOD:PUBLISH
X-WR-CALNAME:ICEAM
X-ORIGINAL-URL:https://staging.iceam.org
X-WR-CALDESC:Events for ICEAM
REFRESH-INTERVAL;VALUE=DURATION:PT1H
X-Robots-Tag:noindex
X-PUBLISHED-TTL:PT1H
BEGIN:VTIMEZONE
TZID:America/Chicago
BEGIN:DAYLIGHT
TZOFFSETFROM:-0600
TZOFFSETTO:-0500
TZNAME:CDT
DTSTART:20180311T080000
END:DAYLIGHT
BEGIN:STANDARD
TZOFFSETFROM:-0500
TZOFFSETTO:-0600
TZNAME:CST
DTSTART:20181104T070000
END:STANDARD
BEGIN:DAYLIGHT
TZOFFSETFROM:-0600
TZOFFSETTO:-0500
TZNAME:CDT
DTSTART:20190310T080000
END:DAYLIGHT
BEGIN:STANDARD
TZOFFSETFROM:-0500
TZOFFSETTO:-0600
TZNAME:CST
DTSTART:20191103T070000
END:STANDARD
BEGIN:DAYLIGHT
TZOFFSETFROM:-0600
TZOFFSETTO:-0500
TZNAME:CDT
DTSTART:20200308T080000
END:DAYLIGHT
BEGIN:STANDARD
TZOFFSETFROM:-0500
TZOFFSETTO:-0600
TZNAME:CST
DTSTART:20201101T070000
END:STANDARD
END:VTIMEZONE
BEGIN:VEVENT
DTSTART;VALUE=DATE:20190601
DTEND;VALUE=DATE:20190603
DTSTAMP:20260424T120153
CREATED:20180911T033953Z
LAST-MODIFIED:20180911T041444Z
UID:7040-1559347200-1559519999@staging.iceam.org
SUMMARY:London - The Herb and Formula Archetypes: The Inner Circle
DESCRIPTION:This course is the instruction of specialized Materia Medica and formula studies in the service of canonical Chinese medicine as practiced by Zhang Zhongjing in the Shanghan Lun and the Jingui Yaolue.
URL:https://staging.iceam.org/live-course/london-the-herb-and-formula-archetypes-the-inner-circle/
LOCATION:ICEAM London\, 15 Spa Road\, Bermondsey\, London\, SE16 3SA\, United Kingdom
CATEGORIES:Shanghan Lun
GEO:51.4956757;-0.0745302
X-APPLE-STRUCTURED-LOCATION;VALUE=URI;X-ADDRESS=ICEAM London 15 Spa Road Bermondsey London SE16 3SA United Kingdom;X-APPLE-RADIUS=500;X-TITLE=15 Spa Road:geo:-0.0745302,51.4956757
END:VEVENT
BEGIN:VEVENT
DTSTART;VALUE=DATE:20190610
DTEND;VALUE=DATE:20190622
DTSTAMP:20260424T120153
CREATED:20180810T185948Z
LAST-MODIFIED:20190401T141753Z
UID:6893-1560124800-1561161599@staging.iceam.org
SUMMARY:2019 Shanghan Lun Lines Retreat North America
DESCRIPTION:The Shanghan Lun Lines Retreat caps your many years of study of the Shanghan Lun based on the Tian Family tradition. We will study each line of the text with a detailed commentary and discussion by your instructor Arnaud Versluys\, PhD. The instruction is based on Dr. Versluys’ almost two decades of research of the Shanghan Lun and will quote extensively from late lineage holder Zheng Guanglu’s personal notes on the Shanghan Lun. \nThis is a rare opportunity that should not be missed\, especially considering that this event only visits each continent every 6 years. In other words\, the next Shanghan Lun Lines Retreat in North America will not be until 2025! \nThe seminar consists of 6 hours of seminars\, for ten days straight\, thus conferring 60 NCCAOM (pending)\, and California (pending). \n\nEarly bird pricing is available until April 7th \, 2019! \nICEAM cancellation policy:\nCancellation before March 31 st \, 2019: full refund minus $250 administration fee\nCancellation before May 1 st \, 2019: full refund minus $750 administration fee\nCancellation after May 1 st \, 2019: no refunds \n\nMore information about retreat reservations\, the resort venue Fairmont Jasper Park Lodge\, and securing hotel reservations can be found here: \n2019 Shanghan Lun Lines Transmission Retreat North America \nHotel contact information if needed: \nFairmont Jasper Park Lodge\n1 Old Lodge Road\, PO Box 40\nJasper\, AB\, CA\, T0E 1E0\nTel: +1 780-852-3301 \nConference team contact: Collin Booth
URL:https://staging.iceam.org/live-course/2019-shanghan-lun-lines-retreat-north-america/
LOCATION:ICEAM Alberta\, 1 Old Lodge Road\, PO Box 40\, Jasper\, Alberta\, T0E 1E0\, Canada
END:VEVENT
BEGIN:VEVENT
DTSTART;VALUE=DATE:20190627
DTEND;VALUE=DATE:20190701
DTSTAMP:20260424T120153
CREATED:20150430T054458Z
LAST-MODIFIED:20161114T020650Z
UID:83-1561593600-1561939199@staging.iceam.org
SUMMARY:Gdansk- Shanghan Zabing Lun Formula Families
DESCRIPTION:The Shanghan Zabing Lun or the Treatise on Cold Damage and Complex Diseases is considered the forefather of all formula books. The original work was lost to the tooth of time\, but most of its contents are preserved in two extant works called the Treatise on Cold Damage shanghan lun and the Concise Essentials of the Golden Cabinet jingui yaolue. The first work primarily addresses externally triggered disorders while the latter work describes the pathology and treatment of complex diseases generated internally.
URL:https://staging.iceam.org/live-course/gdansk-shanghan-zabing-lun-formula-families/
LOCATION:ICEAM Gdansk
CATEGORIES:Shanghan Lun
GEO:54.4152357;18.574909
END:VEVENT
END:VCALENDAR