BEGIN:VCALENDAR
VERSION:2.0
PRODID:-//ICEAM - ECPv6.15.20//NONSGML v1.0//EN
CALSCALE:GREGORIAN
METHOD:PUBLISH
X-WR-CALNAME:ICEAM
X-ORIGINAL-URL:https://staging.iceam.org
X-WR-CALDESC:Events for ICEAM
REFRESH-INTERVAL;VALUE=DURATION:PT1H
X-Robots-Tag:noindex
X-PUBLISHED-TTL:PT1H
BEGIN:VTIMEZONE
TZID:America/Chicago
BEGIN:DAYLIGHT
TZOFFSETFROM:-0600
TZOFFSETTO:-0500
TZNAME:CDT
DTSTART:20180311T080000
END:DAYLIGHT
BEGIN:STANDARD
TZOFFSETFROM:-0500
TZOFFSETTO:-0600
TZNAME:CST
DTSTART:20181104T070000
END:STANDARD
BEGIN:DAYLIGHT
TZOFFSETFROM:-0600
TZOFFSETTO:-0500
TZNAME:CDT
DTSTART:20190310T080000
END:DAYLIGHT
BEGIN:STANDARD
TZOFFSETFROM:-0500
TZOFFSETTO:-0600
TZNAME:CST
DTSTART:20191103T070000
END:STANDARD
BEGIN:DAYLIGHT
TZOFFSETFROM:-0600
TZOFFSETTO:-0500
TZNAME:CDT
DTSTART:20200308T080000
END:DAYLIGHT
BEGIN:STANDARD
TZOFFSETFROM:-0500
TZOFFSETTO:-0600
TZNAME:CST
DTSTART:20201101T070000
END:STANDARD
END:VTIMEZONE
BEGIN:VEVENT
DTSTART;VALUE=DATE:20190103
DTEND;VALUE=DATE:20190107
DTSTAMP:20260424T192812
CREATED:20150430T053809Z
LAST-MODIFIED:20161114T020350Z
UID:78-1546473600-1546819199@staging.iceam.org
SUMMARY:Gdansk - Shanghan Lun Pathophysiology and Basic Patterns
DESCRIPTION:The Treatise on Cold Damage or Shanghan Lun is one of the most prominent Eastern Han-dynasty (circa CE 200) classics in Chinese medicine and the first clinical handbook in China’s medical history. It is also the center of the Canonical Chinese Medicine Training.
URL:https://staging.iceam.org/live-course/gdansk-shanghan-lun-pathophysiology-and-basic-patterns/
LOCATION:ICEAM Gdansk
CATEGORIES:Shanghan Lun
GEO:54.4152357;18.574909
END:VEVENT
END:VCALENDAR