BEGIN:VCALENDAR
VERSION:2.0
PRODID:-//ICEAM - ECPv6.15.20//NONSGML v1.0//EN
CALSCALE:GREGORIAN
METHOD:PUBLISH
X-WR-CALNAME:ICEAM
X-ORIGINAL-URL:https://staging.iceam.org
X-WR-CALDESC:Events for ICEAM
REFRESH-INTERVAL;VALUE=DURATION:PT1H
X-Robots-Tag:noindex
X-PUBLISHED-TTL:PT1H
BEGIN:VTIMEZONE
TZID:America/Chicago
BEGIN:DAYLIGHT
TZOFFSETFROM:-0600
TZOFFSETTO:-0500
TZNAME:CDT
DTSTART:20170312T080000
END:DAYLIGHT
BEGIN:STANDARD
TZOFFSETFROM:-0500
TZOFFSETTO:-0600
TZNAME:CST
DTSTART:20171105T070000
END:STANDARD
BEGIN:DAYLIGHT
TZOFFSETFROM:-0600
TZOFFSETTO:-0500
TZNAME:CDT
DTSTART:20180311T080000
END:DAYLIGHT
BEGIN:STANDARD
TZOFFSETFROM:-0500
TZOFFSETTO:-0600
TZNAME:CST
DTSTART:20181104T070000
END:STANDARD
BEGIN:DAYLIGHT
TZOFFSETFROM:-0600
TZOFFSETTO:-0500
TZNAME:CDT
DTSTART:20190310T080000
END:DAYLIGHT
BEGIN:STANDARD
TZOFFSETFROM:-0500
TZOFFSETTO:-0600
TZNAME:CST
DTSTART:20191103T070000
END:STANDARD
END:VTIMEZONE
BEGIN:VEVENT
DTSTART;VALUE=DATE:20180512
DTEND;VALUE=DATE:20180514
DTSTAMP:20260425T062549
CREATED:20160823T183042Z
LAST-MODIFIED:20170314T145444Z
UID:3610-1526083200-1526255999@staging.iceam.org
SUMMARY:Chicago - Tian-Zeng Lineage Shanghan Lun Case Studies and Clinical Strategies
DESCRIPTION:The Shanghan Zabing Lun is the first historical manual to teach the treatment of both acute and chronic complex diseases that have been triggered externally or have arisen from internal damage. Though a classical work\, it is of great clinical value for modern day practice.
URL:https://staging.iceam.org/live-course/chicago-tian-zeng-lineage-shanghan-lun-case-studies-and-clinical-strategies/
LOCATION:ICEAM Chicago\, 65 E. Wacker Pl.\, Chicago\, IL\, 60601\, United States
CATEGORIES:Shanghan Lun
GEO:41.8865275;-87.6255408
X-APPLE-STRUCTURED-LOCATION;VALUE=URI;X-ADDRESS=ICEAM Chicago 65 E. Wacker Pl. Chicago IL 60601 United States;X-APPLE-RADIUS=500;X-TITLE=65 E. Wacker Pl.:geo:-87.6255408,41.8865275
END:VEVENT
BEGIN:VEVENT
DTSTART;VALUE=DATE:20180517
DTEND;VALUE=DATE:20180521
DTSTAMP:20260425T062549
CREATED:20150427T083439Z
LAST-MODIFIED:20161114T020036Z
UID:31-1526515200-1526860799@staging.iceam.org
SUMMARY:Gdansk - The Herb and Formula Archetypes: The Inner Circle
DESCRIPTION:This course is the instruction of specialized Materia Medica and formula studies in the service of canonical Chinese medicine as practiced by Zhang Zhongjing in the Shanghan Lun and the Jingui Yaolue.
URL:https://staging.iceam.org/live-course/gdansk-the-herb-and-formula-archetypes-the-inner-circle/
LOCATION:ICEAM Gdansk
CATEGORIES:Shanghan Lun
GEO:54.4152357;18.574909
END:VEVENT
END:VCALENDAR