BEGIN:VCALENDAR
VERSION:2.0
PRODID:-//ICEAM - ECPv6.15.20//NONSGML v1.0//EN
CALSCALE:GREGORIAN
METHOD:PUBLISH
X-WR-CALNAME:ICEAM
X-ORIGINAL-URL:https://staging.iceam.org
X-WR-CALDESC:Events for ICEAM
REFRESH-INTERVAL;VALUE=DURATION:PT1H
X-Robots-Tag:noindex
X-PUBLISHED-TTL:PT1H
BEGIN:VTIMEZONE
TZID:America/Chicago
BEGIN:DAYLIGHT
TZOFFSETFROM:-0600
TZOFFSETTO:-0500
TZNAME:CDT
DTSTART:20170312T080000
END:DAYLIGHT
BEGIN:STANDARD
TZOFFSETFROM:-0500
TZOFFSETTO:-0600
TZNAME:CST
DTSTART:20171105T070000
END:STANDARD
BEGIN:DAYLIGHT
TZOFFSETFROM:-0600
TZOFFSETTO:-0500
TZNAME:CDT
DTSTART:20180311T080000
END:DAYLIGHT
BEGIN:STANDARD
TZOFFSETFROM:-0500
TZOFFSETTO:-0600
TZNAME:CST
DTSTART:20181104T070000
END:STANDARD
BEGIN:DAYLIGHT
TZOFFSETFROM:-0600
TZOFFSETTO:-0500
TZNAME:CDT
DTSTART:20190310T080000
END:DAYLIGHT
BEGIN:STANDARD
TZOFFSETFROM:-0500
TZOFFSETTO:-0600
TZNAME:CST
DTSTART:20191103T070000
END:STANDARD
END:VTIMEZONE
BEGIN:VEVENT
DTSTART;VALUE=DATE:20180426
DTEND;VALUE=DATE:20180430
DTSTAMP:20260425T074221
CREATED:20150715T030225Z
LAST-MODIFIED:20170926T021413Z
UID:871-1524700800-1525046399@staging.iceam.org
SUMMARY:Frankfurt- Jingui Yaolue Abdominal Diagnosis Fukushin
DESCRIPTION:Japanese abdominal diagnosis or Fukushin is the diagnostic art developed in medieval Japan based on the canonical writings by Zhang Zhongjing. Careful inspection of the Shanghan Zabing Lun reveals countless references to abdominal conditions that could only have been diagnosed by actual palpation of the abdomen. The skill however never fully developed in China but flourished in Japan. Fukushin 腹診 refers specifically to the style of abdominal diagnosis developed by Japanese scholars during the Edo period (1603-1867 CE) for the purpose of prescribing the Han dynasty formulas of Zhang Zhongjing.
URL:https://staging.iceam.org/live-course/frankfurt-jingui-yaolue-abdominal-diagnosis-fukushin/
LOCATION:ICEAM Frankfurt\, Frankfurter Straße 59\, Offenbach\, 63067\, Germany
CATEGORIES:Jingui Yaolue
GEO:50.1048381;8.7579497
X-APPLE-STRUCTURED-LOCATION;VALUE=URI;X-ADDRESS=ICEAM Frankfurt Frankfurter Straße 59 Offenbach 63067 Germany;X-APPLE-RADIUS=500;X-TITLE=Frankfurter Straße 59:geo:8.7579497,50.1048381
END:VEVENT
BEGIN:VEVENT
DTSTART;VALUE=DATE:20180428
DTEND;VALUE=DATE:20180430
DTSTAMP:20260425T074221
CREATED:20160823T182742Z
LAST-MODIFIED:20160824T033522Z
UID:3608-1524873600-1525046399@staging.iceam.org
SUMMARY:Chicago - Shanghan Lun Canonical Formula Modification System
DESCRIPTION:During this course\, a strict system of clinical modification will be taught. The system was developed by Dr. Versluys over the course of the last ten years by analyzing both Zhang Zhongjing’s prescriptions as well as the characteristics of the Tian-Zeng lineage’s clinical practice. It is fully grounded and based in the classical writings of the original designer of the formulas\, Zhang Zhongjing. The system is organized along a hierarchical system of formula modifications and provides a failsafe method for modification to adapt to a broader collection of complex clinical manifestations as often encountered in Chinese medicine clinic in the West. A waterproof modification system forms the basis of classical herbal practice and the elimination of random clinical variables which are the greatest cause for failure in clinic.
URL:https://staging.iceam.org/live-course/chicago-shanghan-lun-acupuncture-and-canonical-formula-modification-system/
LOCATION:ICEAM Chicago\, 65 E. Wacker Pl.\, Chicago\, IL\, 60601\, United States
CATEGORIES:Shanghan Lun
GEO:41.8865275;-87.6255408
X-APPLE-STRUCTURED-LOCATION;VALUE=URI;X-ADDRESS=ICEAM Chicago 65 E. Wacker Pl. Chicago IL 60601 United States;X-APPLE-RADIUS=500;X-TITLE=65 E. Wacker Pl.:geo:-87.6255408,41.8865275
END:VEVENT
END:VCALENDAR