BEGIN:VCALENDAR
VERSION:2.0
PRODID:-//ICEAM - ECPv6.15.20//NONSGML v1.0//EN
CALSCALE:GREGORIAN
METHOD:PUBLISH
X-ORIGINAL-URL:https://staging.iceam.org
X-WR-CALDESC:Events for ICEAM
REFRESH-INTERVAL;VALUE=DURATION:PT1H
X-Robots-Tag:noindex
X-PUBLISHED-TTL:PT1H
BEGIN:VTIMEZONE
TZID:America/Chicago
BEGIN:DAYLIGHT
TZOFFSETFROM:-0600
TZOFFSETTO:-0500
TZNAME:CDT
DTSTART:20170312T080000
END:DAYLIGHT
BEGIN:STANDARD
TZOFFSETFROM:-0500
TZOFFSETTO:-0600
TZNAME:CST
DTSTART:20171105T070000
END:STANDARD
BEGIN:DAYLIGHT
TZOFFSETFROM:-0600
TZOFFSETTO:-0500
TZNAME:CDT
DTSTART:20180311T080000
END:DAYLIGHT
BEGIN:STANDARD
TZOFFSETFROM:-0500
TZOFFSETTO:-0600
TZNAME:CST
DTSTART:20181104T070000
END:STANDARD
BEGIN:DAYLIGHT
TZOFFSETFROM:-0600
TZOFFSETTO:-0500
TZNAME:CDT
DTSTART:20190310T080000
END:DAYLIGHT
BEGIN:STANDARD
TZOFFSETFROM:-0500
TZOFFSETTO:-0600
TZNAME:CST
DTSTART:20191103T070000
END:STANDARD
END:VTIMEZONE
BEGIN:VEVENT
DTSTART;VALUE=DATE:20180217
DTEND;VALUE=DATE:20180218
DTSTAMP:20260425T103224
CREATED:20171220T224712Z
LAST-MODIFIED:20171220T225253Z
UID:5900-1518825600-1518911999@staging.iceam.org
SUMMARY:Brisbane - Clinic Training Day
DESCRIPTION:Observe an ICEAM clinical supervisor take pulses and write formulas in clinic. Limited to 14 students per day. Maximum 25 patients per day. Patient contacts count towards fulfillment of clinical certification as Fellow of the Institute of Classics in East Asian Medicine.
URL:https://staging.iceam.org/live-course/brisbane-clinic-training-day/
LOCATION:ICEAM Brisbane\, 23 Victoria St.\, Clayfield\, Queensland\, 4011\, Australia
GEO:-27.3900494;153.0500364
X-APPLE-STRUCTURED-LOCATION;VALUE=URI;X-ADDRESS=ICEAM Brisbane 23 Victoria St. Clayfield Queensland 4011 Australia;X-APPLE-RADIUS=500;X-TITLE=23 Victoria St.:geo:153.0500364,-27.3900494
END:VEVENT
BEGIN:VEVENT
DTSTART;VALUE=DATE:20180219
DTEND;VALUE=DATE:20180221
DTSTAMP:20260425T103224
CREATED:20150715T095217Z
LAST-MODIFIED:20150725T010238Z
UID:950-1518998400-1519171199@staging.iceam.org
SUMMARY:Sydney - Diseases of the Jingui Yaolue\, Part Two
DESCRIPTION:This is the authoritative instruction of the etio-pathology and treatment of over 70 complex diseases recorded in the Essentials of the Golden Cabinet or Jingui Yaolue. During these two weekends\, virtually all illnesses of the original text are discussed in great detail\, allowing the student to gain an ultimate and conclusive insight into the pathomechanisms behind these often chronic\, recalcitrant and debilitating illnesses. The formulas used in the Jingui are taught in their respective clinical contexts.
URL:https://staging.iceam.org/live-course/sydney-diseases-of-the-jingui-yaolue-part-two/
LOCATION:ICEAM Sydney\, 826 George St\, Chippendale\, New South Wales\, 2008\, Australia
CATEGORIES:Jingui Yaolue
GEO:-33.884186;151.202517
X-APPLE-STRUCTURED-LOCATION;VALUE=URI;X-ADDRESS=ICEAM Sydney 826 George St Chippendale New South Wales 2008 Australia;X-APPLE-RADIUS=500;X-TITLE=826 George St:geo:151.202517,-33.884186
END:VEVENT
BEGIN:VEVENT
DTSTART;VALUE=DATE:20180221
DTEND;VALUE=DATE:20180223
DTSTAMP:20260425T103224
CREATED:20150715T095253Z
LAST-MODIFIED:20150725T010234Z
UID:951-1519171200-1519343999@staging.iceam.org
SUMMARY:Sydney - Diseases of the Jingui Yaolue\, Part Three
DESCRIPTION:This is the authoritative instruction of the etio-pathology and treatment of over 70 complex diseases recorded in the Essentials of the Golden Cabinet or Jingui Yaolue. During this course\, virtually all illnesses of the original text are discussed in great detail\, allowing the student to gain an ultimate and conclusive insight into the pathomechanisms behind these often chronic\, recalcitrant and debilitating illnesses. The formulas used in the Jingui are taught in their respective clinical contexts.
URL:https://staging.iceam.org/live-course/sydney-diseases-of-the-jingui-yaolue-part-three/
LOCATION:ICEAM Sydney\, 826 George St\, Chippendale\, New South Wales\, 2008\, Australia
CATEGORIES:Jingui Yaolue
GEO:-33.884186;151.202517
X-APPLE-STRUCTURED-LOCATION;VALUE=URI;X-ADDRESS=ICEAM Sydney 826 George St Chippendale New South Wales 2008 Australia;X-APPLE-RADIUS=500;X-TITLE=826 George St:geo:151.202517,-33.884186
END:VEVENT
BEGIN:VEVENT
DTSTART;VALUE=DATE:20180222
DTEND;VALUE=DATE:20180226
DTSTAMP:20260425T103224
CREATED:20150426T204243Z
LAST-MODIFIED:20161114T015914Z
UID:24-1519257600-1519603199@staging.iceam.org
SUMMARY:Gdansk - The Energetics of the Five Flavors and Canonical Formulas
DESCRIPTION:Canonical Chinese Medicine is the style of Chinese medicine practiced along the tenets codified in the Western and Eastern Han dynasty (approx. 200 BC- 200 CE) medical classics or canons. It is the foundation of both clinical and theoretical Chinese medicine as we know it. Canonical Chinese medicine is comprised of two main schools being the Yellow Emperor huangdi 黄帝school of Medical Canons yijing pai 醫經派and the Divine Farmer shennong 神农school of Canonical Formulas jingfang pai经方派.
URL:https://staging.iceam.org/live-course/gdansk-the-energetics-of-the-five-flavors-and-canonical-formulas/
LOCATION:ICEAM Gdansk
CATEGORIES:Shanghan Lun
GEO:54.4152357;18.574909
END:VEVENT
BEGIN:VEVENT
DTSTART;VALUE=DATE:20180223
DTEND;VALUE=DATE:20180224
DTSTAMP:20260425T103224
CREATED:20171027T161955Z
LAST-MODIFIED:20180125T222357Z
UID:5691-1519344000-1519430399@staging.iceam.org
SUMMARY:Sydney - Clinic Training Day
DESCRIPTION:Notice: This clinic is full and is no longer accepting registrants. \nObserve an ICEAM clinical supervisor take pulses and write formulas in clinic. Limited to 14 students per day. Maximum 25 patients per day. Patient contacts count towards fulfillment of clinical certification as Fellow of the Institute of Classics in East Asian Medicine.
URL:https://staging.iceam.org/live-course/sydney-clinic-training-day-15/
LOCATION:ICEAM Sydney\, 826 George St\, Chippendale\, New South Wales\, 2008\, Australia
GEO:-33.884186;151.202517
X-APPLE-STRUCTURED-LOCATION;VALUE=URI;X-ADDRESS=ICEAM Sydney 826 George St Chippendale New South Wales 2008 Australia;X-APPLE-RADIUS=500;X-TITLE=826 George St:geo:151.202517,-33.884186
END:VEVENT
BEGIN:VEVENT
DTSTART;VALUE=DATE:20180224
DTEND;VALUE=DATE:20180225
DTSTAMP:20260425T103224
CREATED:20171027T162108Z
LAST-MODIFIED:20180129T235436Z
UID:5693-1519430400-1519516799@staging.iceam.org
SUMMARY:Sydney - Clinic Training Day
DESCRIPTION:Notice: This clinic is full and is no longer accepting registrants. \nObserve an ICEAM clinical supervisor take pulses and write formulas in clinic. Limited to 14 students per day. Maximum 25 patients per day. Patient contacts count towards fulfillment of clinical certification as Fellow of the Institute of Classics in East Asian Medicine.
URL:https://staging.iceam.org/live-course/sydney-clinic-training-day-16/
LOCATION:ICEAM Sydney\, 826 George St\, Chippendale\, New South Wales\, 2008\, Australia
GEO:-33.884186;151.202517
X-APPLE-STRUCTURED-LOCATION;VALUE=URI;X-ADDRESS=ICEAM Sydney 826 George St Chippendale New South Wales 2008 Australia;X-APPLE-RADIUS=500;X-TITLE=826 George St:geo:151.202517,-33.884186
END:VEVENT
END:VCALENDAR