BEGIN:VCALENDAR
VERSION:2.0
PRODID:-//ICEAM - ECPv6.15.20//NONSGML v1.0//EN
CALSCALE:GREGORIAN
METHOD:PUBLISH
X-WR-CALNAME:ICEAM
X-ORIGINAL-URL:https://staging.iceam.org
X-WR-CALDESC:Events for ICEAM
REFRESH-INTERVAL;VALUE=DURATION:PT1H
X-Robots-Tag:noindex
X-PUBLISHED-TTL:PT1H
BEGIN:VTIMEZONE
TZID:America/Chicago
BEGIN:DAYLIGHT
TZOFFSETFROM:-0600
TZOFFSETTO:-0500
TZNAME:CDT
DTSTART:20160313T080000
END:DAYLIGHT
BEGIN:STANDARD
TZOFFSETFROM:-0500
TZOFFSETTO:-0600
TZNAME:CST
DTSTART:20161106T070000
END:STANDARD
BEGIN:DAYLIGHT
TZOFFSETFROM:-0600
TZOFFSETTO:-0500
TZNAME:CDT
DTSTART:20170312T080000
END:DAYLIGHT
BEGIN:STANDARD
TZOFFSETFROM:-0500
TZOFFSETTO:-0600
TZNAME:CST
DTSTART:20171105T070000
END:STANDARD
BEGIN:DAYLIGHT
TZOFFSETFROM:-0600
TZOFFSETTO:-0500
TZNAME:CDT
DTSTART:20180311T080000
END:DAYLIGHT
BEGIN:STANDARD
TZOFFSETFROM:-0500
TZOFFSETTO:-0600
TZNAME:CST
DTSTART:20181104T070000
END:STANDARD
END:VTIMEZONE
BEGIN:VEVENT
DTSTART;TZID=America/Chicago:20170618T080000
DTEND;TZID=America/Chicago:20170627T170000
DTSTAMP:20260425T214544
CREATED:20161229T230903Z
LAST-MODIFIED:20161229T233128Z
UID:4247-1497772800-1498582800@staging.iceam.org
SUMMARY:2017 Shanghan Lun Lines Retreat Europe
DESCRIPTION:Please join us in the beautiful\, health-oriented spa town of Piestany\, Slovakia for 10 days of in-depth study of the original Shanghan Lun text\, line by line\, as well as a celebration of the Summer Solstice. This retreat is geared towards all European Diplomates of Canonical Chinese Medicine℠\, but is also open for overseas Diplomates from Australia and the USA. Participants are encouraged to bring their family members for a beautiful and relaxing vacation for all. \nThe Shanghan Lun Lines Retreat caps your many years of study of the Shanghan Lun based on the Tian Family tradition. We will study each line of the text with a detailed commentary and discussion by your instructor Arnaud Versluys\, PhD. The instruction is based on Dr. Versluys’ almost two decades of research of the Shanghan Lun and will quote extensively from late lineage holder Zheng Guanglu’s personal notes on the Shanghan Lun. \nThis is a rare opportunity that should not be missed\, especially considering that this event only visits each continent every 6 years. The next Shanghan Lun Lines Retreat in Europe will not be until 2023! \n\nIf you wish to register for this retreat\, you MUST first register your accommodation with the hotel directly. Please call or email Hotel Splendid with the information below. Please mention the reservation code. \n\nReservation code: ICEAM Conference 17-27.6.2017 (Chinese Medicine)\nReservation phone number: +421 33 775 4999\nReservation email: splendid@spapiestany.sk\n \nFor your convenience\, we have created a form that you may use for your information only. \nDownload as Excel XLS file\nDownload as PDF  \n\nYou may choose the payment option of your choice\, as agreed by the hotel. Cancellation of your accommodation may be requested at the hotel no less than 21 days before the start date\, for a full refund. \nAFTER you have registered with the hotel\, please pay your tuition on the ICEAM site. Please note that the conference room is limited to 46 spots. ICEAM is currently holding an option on about 30 rooms. Feel free to talk to your friends and colleagues in the course to share a room and reduce your lodging cost. \nFor any questions regarding the venue and lodging logistics\, please contact Lars Nilsson at lnilsson@stockholm.iceam.org For any questions regarding the actual seminar\, please contact the ICEAM director Arnaud Versluys at aversluys@iceam.org
URL:https://staging.iceam.org/live-course/2017-shanghan-lun-lines-retreat-europe/
LOCATION:ICEAM Piestany\, Kúpeľný ostrov\, Piešťany\, 921 29\, Slovakia (Slovak Republic)
CATEGORIES:Advanced
GEO:48.5945687;17.8458572
END:VEVENT
BEGIN:VEVENT
DTSTART;VALUE=DATE:20170619
DTEND;VALUE=DATE:20170620
DTSTAMP:20260425T214544
CREATED:20161130T170445Z
LAST-MODIFIED:20161130T170445Z
UID:4069-1497830400-1497916799@staging.iceam.org
SUMMARY:Sydney - Clinic Training Day
DESCRIPTION:Observe an ICEAM clinical supervisor take pulses and write formulas in clinic. Limited to 14 students per day. Maximum 25 patients per day. Patient contacts count towards fulfillment of clinical certification as Fellow of the Institute of Classics in East Asian Medicine.
URL:https://staging.iceam.org/live-course/sydney-clinic-training-day-7/
LOCATION:ICEAM Sydney\, 826 George St\, Chippendale\, New South Wales\, 2008\, Australia
GEO:-33.884186;151.202517
X-APPLE-STRUCTURED-LOCATION;VALUE=URI;X-ADDRESS=ICEAM Sydney 826 George St Chippendale New South Wales 2008 Australia;X-APPLE-RADIUS=500;X-TITLE=826 George St:geo:151.202517,-33.884186
END:VEVENT
BEGIN:VEVENT
DTSTART;VALUE=DATE:20170620
DTEND;VALUE=DATE:20170621
DTSTAMP:20260425T214544
CREATED:20161130T170442Z
LAST-MODIFIED:20161130T170442Z
UID:4070-1497916800-1498003199@staging.iceam.org
SUMMARY:Sydney - Clinic Training Day
DESCRIPTION:Observe an ICEAM clinical supervisor take pulses and write formulas in clinic. Limited to 14 students per day. Maximum 25 patients per day. Patient contacts count towards fulfillment of clinical certification as Fellow of the Institute of Classics in East Asian Medicine.
URL:https://staging.iceam.org/live-course/sydney-clinic-training-day-8/
LOCATION:ICEAM Sydney\, 826 George St\, Chippendale\, New South Wales\, 2008\, Australia
GEO:-33.884186;151.202517
X-APPLE-STRUCTURED-LOCATION;VALUE=URI;X-ADDRESS=ICEAM Sydney 826 George St Chippendale New South Wales 2008 Australia;X-APPLE-RADIUS=500;X-TITLE=826 George St:geo:151.202517,-33.884186
END:VEVENT
BEGIN:VEVENT
DTSTART;VALUE=DATE:20170621
DTEND;VALUE=DATE:20170623
DTSTAMP:20260425T214544
CREATED:20150715T094739Z
LAST-MODIFIED:20161130T164032Z
UID:945-1498003200-1498175999@staging.iceam.org
SUMMARY:Sydney - Shanghan Zabing Lun Formula Families
DESCRIPTION:The Shanghan Zabing Lun or the Treatise on Cold Damage and Complex Diseases is considered the forefather of all formula books. The original work was lost to the tooth of time\, but most of its contents are preserved in two extant works called the Treatise on Cold Damage shanghan lun and the Concise Essentials of the Golden Cabinet jingui yaolue. The first work primarily addresses externally triggered disorders while the latter work describes the pathology and treatment of complex diseases generated internally.
URL:https://staging.iceam.org/live-course/sydney-shanghan-zabing-lun-formula-families/
LOCATION:ICEAM Sydney\, 826 George St\, Chippendale\, New South Wales\, 2008\, Australia
CATEGORIES:Shanghan Lun
GEO:-33.884186;151.202517
X-APPLE-STRUCTURED-LOCATION;VALUE=URI;X-ADDRESS=ICEAM Sydney 826 George St Chippendale New South Wales 2008 Australia;X-APPLE-RADIUS=500;X-TITLE=826 George St:geo:151.202517,-33.884186
END:VEVENT
BEGIN:VEVENT
DTSTART;VALUE=DATE:20170623
DTEND;VALUE=DATE:20170625
DTSTAMP:20260425T214544
CREATED:20150715T095051Z
LAST-MODIFIED:20161130T164052Z
UID:947-1498176000-1498348799@staging.iceam.org
SUMMARY:Sydney - Shanghan Lun Acupuncture and Canonical Formula Modification System
DESCRIPTION:During this course\, a strict system of clinical modification will be taught. The system was developed by Dr. Versluys over the course of the last ten years by analyzing both Zhang Zhongjing’s prescriptions as well as the characteristics of the Tian-Zeng lineage’s clinical practice. It is fully grounded and based in the classical writings of the original designer of the formulas\, Zhang Zhongjing. The system is organized along a hierarchical system of formula modifications and provides a failsafe method for modification to adapt to a broader collection of complex clinical manifestations as often encountered in Chinese medicine clinic in the West. A waterproof modification system forms the basis of classical herbal practice and the elimination of random clinical variables which are the greatest cause for failure in clinic.
URL:https://staging.iceam.org/live-course/sydney-shanghan-lun-acupuncture-and-canonical-formula-modification-system/
LOCATION:ICEAM Sydney\, 826 George St\, Chippendale\, New South Wales\, 2008\, Australia
CATEGORIES:Shanghan Lun
GEO:-33.884186;151.202517
X-APPLE-STRUCTURED-LOCATION;VALUE=URI;X-ADDRESS=ICEAM Sydney 826 George St Chippendale New South Wales 2008 Australia;X-APPLE-RADIUS=500;X-TITLE=826 George St:geo:151.202517,-33.884186
END:VEVENT
BEGIN:VEVENT
DTSTART;VALUE=DATE:20170624
DTEND;VALUE=DATE:20170626
DTSTAMP:20260425T214544
CREATED:20160823T174650Z
LAST-MODIFIED:20160824T025226Z
UID:3595-1498262400-1498435199@staging.iceam.org
SUMMARY:Chicago - The Herb and Formula Archetypes: The Outer Circle\, Part One
DESCRIPTION:This course is the instruction of specialized Materia Medica and formula studies in the service of canonical Chinese medicine as practiced by Zhang Zhongjing in the Shanghan Lun and the Jingui Yaolue.
URL:https://staging.iceam.org/live-course/chicago-the-herb-and-formula-archetypes-the-outer-circle-part-one/
LOCATION:ICEAM Chicago\, 65 E. Wacker Pl.\, Chicago\, IL\, 60601\, United States
CATEGORIES:Shanghan Lun
GEO:41.8865275;-87.6255408
X-APPLE-STRUCTURED-LOCATION;VALUE=URI;X-ADDRESS=ICEAM Chicago 65 E. Wacker Pl. Chicago IL 60601 United States;X-APPLE-RADIUS=500;X-TITLE=65 E. Wacker Pl.:geo:-87.6255408,41.8865275
END:VEVENT
BEGIN:VEVENT
DTSTART;VALUE=DATE:20170626
DTEND;VALUE=DATE:20170627
DTSTAMP:20260425T214544
CREATED:20161130T170439Z
LAST-MODIFIED:20161130T170439Z
UID:4071-1498435200-1498521599@staging.iceam.org
SUMMARY:Sydney - Clinic Training Day
DESCRIPTION:Observe an ICEAM clinical supervisor take pulses and write formulas in clinic. Limited to 14 students per day. Maximum 25 patients per day. Patient contacts count towards fulfillment of clinical certification as Fellow of the Institute of Classics in East Asian Medicine.
URL:https://staging.iceam.org/live-course/sydney-clinic-training-day-9/
LOCATION:ICEAM Sydney\, 826 George St\, Chippendale\, New South Wales\, 2008\, Australia
GEO:-33.884186;151.202517
X-APPLE-STRUCTURED-LOCATION;VALUE=URI;X-ADDRESS=ICEAM Sydney 826 George St Chippendale New South Wales 2008 Australia;X-APPLE-RADIUS=500;X-TITLE=826 George St:geo:151.202517,-33.884186
END:VEVENT
BEGIN:VEVENT
DTSTART;VALUE=DATE:20170627
DTEND;VALUE=DATE:20170628
DTSTAMP:20260425T214544
CREATED:20161130T170435Z
LAST-MODIFIED:20161130T170435Z
UID:4072-1498521600-1498607999@staging.iceam.org
SUMMARY:Sydney - Clinic Training Day
DESCRIPTION:Observe an ICEAM clinical supervisor take pulses and write formulas in clinic. Limited to 14 students per day. Maximum 25 patients per day. Patient contacts count towards fulfillment of clinical certification as Fellow of the Institute of Classics in East Asian Medicine.
URL:https://staging.iceam.org/live-course/sydney-clinic-training-day-10/
LOCATION:ICEAM Sydney\, 826 George St\, Chippendale\, New South Wales\, 2008\, Australia
GEO:-33.884186;151.202517
X-APPLE-STRUCTURED-LOCATION;VALUE=URI;X-ADDRESS=ICEAM Sydney 826 George St Chippendale New South Wales 2008 Australia;X-APPLE-RADIUS=500;X-TITLE=826 George St:geo:151.202517,-33.884186
END:VEVENT
END:VCALENDAR