BEGIN:VCALENDAR
VERSION:2.0
PRODID:-//ICEAM - ECPv6.15.20//NONSGML v1.0//EN
CALSCALE:GREGORIAN
METHOD:PUBLISH
X-WR-CALNAME:ICEAM
X-ORIGINAL-URL:https://staging.iceam.org
X-WR-CALDESC:Events for ICEAM
REFRESH-INTERVAL;VALUE=DURATION:PT1H
X-Robots-Tag:noindex
X-PUBLISHED-TTL:PT1H
BEGIN:VTIMEZONE
TZID:Australia/Brisbane
BEGIN:STANDARD
TZOFFSETFROM:+1000
TZOFFSETTO:+1000
TZNAME:AEST
DTSTART:20240101T000000
END:STANDARD
END:VTIMEZONE
BEGIN:VEVENT
DTSTART;VALUE=DATE:20250328
DTEND;VALUE=DATE:20250331
DTSTAMP:20260420T083742
CREATED:20231116T200446Z
LAST-MODIFIED:20240419T104413Z
UID:18788-1743120000-1743379199@staging.iceam.org
SUMMARY:Online (Brisbane) - Tian-Zeng Lineage Shanghan Lun Case Studies and Clinical Strategies
DESCRIPTION:DETAILS\nNote: This webinar will be held live on Zoom\nInstructor: Laurie Ayres\nStart: March 28\, 2024\nEnd: March 30\, 2024\nTimes: 4 – 8:30pm Brisbane Australia time zone each day\nPricing: USD 600\nPricing (early bird): USD 540 – ends March 7th\, 2025! \nThe Shanghan Zabing Lun is the first historical manual to teach the treatment of both acute and chronic complex diseases that have been triggered externally or have arisen from internal damage. Though a classical work\, it is of great clinical value for modern day practice. \nDuring this course\, Dr. Versluys will provide a case-based instruction on the pathomechanism and herbal treatment of a core selection of modern diseases as analyzed and regarded through the classical lens of Zhang Zhongjing. The cases all come from Dr. Versluys’ personal clinic and are of great relevance in modern Chinese medicine clinic in the West. Dr. Versluys has for years exclusively been practicing the classical style of internal medicine as instructed in the Shanghan and the Jingui\, and has amassed a great amount of experience in this field. \nThe lectures are divided in clinical specialties such as Respirology\, contagious illnesses\, gastroenterology\, etc. Some of the diseases discussed will be: Hypertension\, Meniere’s Disease\, Crohn’s Disease\, Depressive Disorder\, Insomnia\, Coronary Heart Disease\, Emphysema\, Chronic Fatigue Syndrome\, Hemophilia\, Cerebrovascular Accident\, Rheumatoid Arthritis\, Asthma\, Cancer (benign and malignant tumors)\, Arrhythmia\, Infertility\, Dysmenorrhea\, Amenorrhea\, etc. \nThese will correspond to the classical diseases of: Taiyang disease\, Yangming disease\, etc.\, and combinations thereof\, as well as more complex disorders such as Glomus pi\, Running Piglet bentun qi\, Water Qi shuiqi\, Chest Bind jiexiong\, Phlegm Rheum tanyin\, etc. \nThe lecture will provide the student with an in-depth and advanced instruction on how to effectively treat common disorders with herbal medicine. Insight in the pathomechanism of the disorders will be obtained through case analysis and herbal formulas will be explained and discussed with practical examples from clinic.
URL:https://staging.iceam.org/live-course/online-brisbane-tian-zeng-lineage-shanghan-lun-case-studies-and-clinical-strategies/
LOCATION:ICEAM Brisbane\, 23 Victoria St.\, Clayfield\, Queensland\, 4011\, Australia
CATEGORIES:Shanghan Lun
GEO:-27.3900494;153.0500364
X-APPLE-STRUCTURED-LOCATION;VALUE=URI;X-ADDRESS=ICEAM Brisbane 23 Victoria St. Clayfield Queensland 4011 Australia;X-APPLE-RADIUS=500;X-TITLE=23 Victoria St.:geo:153.0500364,-27.3900494
END:VEVENT
END:VCALENDAR