BEGIN:VCALENDAR
VERSION:2.0
PRODID:-//ICEAM - ECPv6.15.20//NONSGML v1.0//EN
CALSCALE:GREGORIAN
METHOD:PUBLISH
X-WR-CALNAME:ICEAM
X-ORIGINAL-URL:https://staging.iceam.org
X-WR-CALDESC:Events for ICEAM
REFRESH-INTERVAL;VALUE=DURATION:PT1H
X-Robots-Tag:noindex
X-PUBLISHED-TTL:PT1H
BEGIN:VTIMEZONE
TZID:Europe/London
BEGIN:DAYLIGHT
TZOFFSETFROM:+0000
TZOFFSETTO:+0100
TZNAME:BST
DTSTART:20230326T010000
END:DAYLIGHT
BEGIN:STANDARD
TZOFFSETFROM:+0100
TZOFFSETTO:+0000
TZNAME:GMT
DTSTART:20231029T010000
END:STANDARD
BEGIN:DAYLIGHT
TZOFFSETFROM:+0000
TZOFFSETTO:+0100
TZNAME:BST
DTSTART:20240331T010000
END:DAYLIGHT
BEGIN:STANDARD
TZOFFSETFROM:+0100
TZOFFSETTO:+0000
TZNAME:GMT
DTSTART:20241027T010000
END:STANDARD
BEGIN:DAYLIGHT
TZOFFSETFROM:+0000
TZOFFSETTO:+0100
TZNAME:BST
DTSTART:20250330T010000
END:DAYLIGHT
BEGIN:STANDARD
TZOFFSETFROM:+0100
TZOFFSETTO:+0000
TZNAME:GMT
DTSTART:20251026T010000
END:STANDARD
END:VTIMEZONE
BEGIN:VTIMEZONE
TZID:Australia/Brisbane
BEGIN:STANDARD
TZOFFSETFROM:+1000
TZOFFSETTO:+1000
TZNAME:AEST
DTSTART:20230101T000000
END:STANDARD
END:VTIMEZONE
BEGIN:VEVENT
DTSTART;VALUE=DATE:20240706
DTEND;VALUE=DATE:20240708
DTSTAMP:20260421T002632
CREATED:20210225T190743Z
LAST-MODIFIED:20230202T155810Z
UID:14187-1720224000-1720396799@staging.iceam.org
SUMMARY:Online (Europe) - Shanghan Lun Canonical Formula Modification System
DESCRIPTION:During this course\, a strict system of clinical modification will be taught. The system was developed by Dr. Versluys over the course of the last ten years by analyzing both Zhang Zhongjing’s prescriptions as well as the characteristics of the Tian-Zeng lineage’s clinical practice. It is fully grounded and based in the classical writings of the original designer of the formulas\, Zhang Zhongjing. The system is organized along a hierarchical system of formula modifications and provides a failsafe method for modification to adapt to a broader collection of complex clinical manifestations as often encountered in Chinese medicine clinic in the West. A waterproof modification system forms the basis of classical herbal practice and the elimination of random clinical variables which are the greatest cause for failure in clinic. \nTo sign up\, email ldewit@utrecht.iceam.org
URL:https://staging.iceam.org/live-course/online-europe-shanghan-lun-canonical-formula-modification-system/
LOCATION:Hybrid Training Series (EU)\, Netherlands
CATEGORIES:Shanghan Lun
GEO:52.132633;5.291266
END:VEVENT
BEGIN:VEVENT
DTSTART;VALUE=DATE:20240720
DTEND;VALUE=DATE:20240722
DTSTAMP:20260421T002632
CREATED:20231116T200504Z
LAST-MODIFIED:20240630T083231Z
UID:18789-1721433600-1721606399@staging.iceam.org
SUMMARY:Brisbane - Tian-Lineage Shanghan Lun Pulse Diagnosis
DESCRIPTION:DETAILS\nInstructor: Laurie Ayres\nStart: July 20\, 2024\nEnd: July 21\, 2024\nTimes: 9am – 5pm Brisbane Australia time zone each day\nLocation: 23 Victoria St\, Clayfield\, Queensland\, Australia\nPricing: USD 700\nPricing (early bird): USD 630 – ends June 29th\, 2024! \nThe Treatise on Cold Damage shanghan lun is the oldest surviving clinical handbook in the history of Chinese medicine. Written by Eastern Han dynasty (circa 200 CE) imperial envoy Zhang Zhongjing\, it is an integral part of his collective writings once labeled the Treatise on Cold Damage and Complex Diseases shanghan zabing lun. But the contents of the Shanghan Lun as we know it in current day is far from complete. The present versions studied in Chinese medical schools as well as in the West\, do not include the original first three chapters of Rules for Pulse Differentiation bianmai fa\, Rules on Pulse Assessment pingmai fa and Cold Damage Outline shanghan li. Regardless whatever motivation was behind the historical deletions of these passages\, of the aforementioned chapters\, the chapters on pulse instructions are crucial for anyone desiring to fully grasp Zhang Zhongjing’s clinical instructions. Especially since the pulse patterns maizheng form the core diagnostic parameters in the establishment of the formula patterns fangzheng by which the canonical clinician categorizes disease and therapy. \nNote regarding the Shanghan Lun and Jingui Yaolue Pulse Seminars: due to the proprietary and complex nature of these seminars\, they cannot be registered for individually and can only be taken as part of the total sequence. The pulse seminars are open for individual registration only to Diplomates of Canonical Chinese Medicine already certified by our institute who wish to retake the seminar.
URL:https://staging.iceam.org/live-course/brisbane-tian-lineage-shanghan-lun-pulse-diagnosis/
LOCATION:ICEAM Brisbane\, 23 Victoria St.\, Clayfield\, Queensland\, 4011\, Australia
CATEGORIES:Shanghan Lun
GEO:-27.3900494;153.0500364
X-APPLE-STRUCTURED-LOCATION;VALUE=URI;X-ADDRESS=ICEAM Brisbane 23 Victoria St. Clayfield Queensland 4011 Australia;X-APPLE-RADIUS=500;X-TITLE=23 Victoria St.:geo:153.0500364,-27.3900494
END:VEVENT
END:VCALENDAR