BEGIN:VCALENDAR
VERSION:2.0
PRODID:-//ICEAM - ECPv6.15.20//NONSGML v1.0//EN
CALSCALE:GREGORIAN
METHOD:PUBLISH
X-WR-CALNAME:ICEAM
X-ORIGINAL-URL:https://staging.iceam.org
X-WR-CALDESC:Events for ICEAM
REFRESH-INTERVAL;VALUE=DURATION:PT1H
X-Robots-Tag:noindex
X-PUBLISHED-TTL:PT1H
BEGIN:VTIMEZONE
TZID:America/Chicago
BEGIN:DAYLIGHT
TZOFFSETFROM:-0600
TZOFFSETTO:-0500
TZNAME:CDT
DTSTART:20210314T080000
END:DAYLIGHT
BEGIN:STANDARD
TZOFFSETFROM:-0500
TZOFFSETTO:-0600
TZNAME:CST
DTSTART:20211107T070000
END:STANDARD
BEGIN:DAYLIGHT
TZOFFSETFROM:-0600
TZOFFSETTO:-0500
TZNAME:CDT
DTSTART:20220313T080000
END:DAYLIGHT
BEGIN:STANDARD
TZOFFSETFROM:-0500
TZOFFSETTO:-0600
TZNAME:CST
DTSTART:20221106T070000
END:STANDARD
BEGIN:DAYLIGHT
TZOFFSETFROM:-0600
TZOFFSETTO:-0500
TZNAME:CDT
DTSTART:20230312T080000
END:DAYLIGHT
BEGIN:STANDARD
TZOFFSETFROM:-0500
TZOFFSETTO:-0600
TZNAME:CST
DTSTART:20231105T070000
END:STANDARD
END:VTIMEZONE
BEGIN:VEVENT
DTSTART;VALUE=DATE:20220827
DTEND;VALUE=DATE:20220829
DTSTAMP:20260422T103554
CREATED:20210219T220610Z
LAST-MODIFIED:20211019T012603Z
UID:14099-1661558400-1661731199@staging.iceam.org
SUMMARY:Online (US) - The Herb and Formula Archetypes: The Outer Circle\, Part Two
DESCRIPTION:This course is the instruction of specialized Materia Medica and formula studies in the service of canonical Chinese medicine as practiced by Zhang Zhongjing in the Shanghan Lun and the Jingui Yaolue.
URL:https://staging.iceam.org/live-course/online-the-herb-and-formula-archetypes-the-outer-circle-part-two/
LOCATION:Hybrid Training Series (US)\, United States
CATEGORIES:Shanghan Lun
GEO:29.951061;-90.0812442
END:VEVENT
END:VCALENDAR