BEGIN:VCALENDAR
VERSION:2.0
PRODID:-//ICEAM - ECPv6.15.20//NONSGML v1.0//EN
CALSCALE:GREGORIAN
METHOD:PUBLISH
X-WR-CALNAME:ICEAM
X-ORIGINAL-URL:https://staging.iceam.org
X-WR-CALDESC:Events for ICEAM
REFRESH-INTERVAL;VALUE=DURATION:PT1H
X-Robots-Tag:noindex
X-PUBLISHED-TTL:PT1H
BEGIN:VTIMEZONE
TZID:America/Chicago
BEGIN:DAYLIGHT
TZOFFSETFROM:-0600
TZOFFSETTO:-0500
TZNAME:CDT
DTSTART:20190310T080000
END:DAYLIGHT
BEGIN:STANDARD
TZOFFSETFROM:-0500
TZOFFSETTO:-0600
TZNAME:CST
DTSTART:20191103T070000
END:STANDARD
BEGIN:DAYLIGHT
TZOFFSETFROM:-0600
TZOFFSETTO:-0500
TZNAME:CDT
DTSTART:20200308T080000
END:DAYLIGHT
BEGIN:STANDARD
TZOFFSETFROM:-0500
TZOFFSETTO:-0600
TZNAME:CST
DTSTART:20201101T070000
END:STANDARD
BEGIN:DAYLIGHT
TZOFFSETFROM:-0600
TZOFFSETTO:-0500
TZNAME:CDT
DTSTART:20210314T080000
END:DAYLIGHT
BEGIN:STANDARD
TZOFFSETFROM:-0500
TZOFFSETTO:-0600
TZNAME:CST
DTSTART:20211107T070000
END:STANDARD
END:VTIMEZONE
BEGIN:VEVENT
DTSTART;VALUE=DATE:20200222
DTEND;VALUE=DATE:20200224
DTSTAMP:20260424T071354
CREATED:20180911T055437Z
LAST-MODIFIED:20180911T055459Z
UID:7067-1582329600-1582502399@staging.iceam.org
SUMMARY:London - Shanghan Zabing Lun Formula Families
DESCRIPTION:The Shanghan Zabing Lun or the Treatise on Cold Damage and Complex Diseases is considered the forefather of all formula books. The original work was lost to the tooth of time\, but most of its contents are preserved in two extant works called the Treatise on Cold Damage shanghan lun and the Concise Essentials of the Golden Cabinet jingui yaolue. The first work primarily addresses externally triggered disorders while the latter work describes the pathology and treatment of complex diseases generated internally.
URL:https://staging.iceam.org/live-course/london-shanghan-zabing-lun-formula-families/
LOCATION:ICEAM London\, 15 Spa Road\, Bermondsey\, London\, SE16 3SA\, United Kingdom
CATEGORIES:Shanghan Lun
GEO:51.4956757;-0.0745302
X-APPLE-STRUCTURED-LOCATION;VALUE=URI;X-ADDRESS=ICEAM London 15 Spa Road Bermondsey London SE16 3SA United Kingdom;X-APPLE-RADIUS=500;X-TITLE=15 Spa Road:geo:-0.0745302,51.4956757
END:VEVENT
BEGIN:VEVENT
DTSTART;VALUE=DATE:20200222
DTEND;VALUE=DATE:20200224
DTSTAMP:20260424T071354
CREATED:20191025T184712Z
LAST-MODIFIED:20191025T184815Z
UID:11123-1582329600-1582502399@staging.iceam.org
SUMMARY:Chicago - Nineteen Lines on Pathology
DESCRIPTION:Chapter seventy-four of the Great Treatise on the Essence of the Utmost Truth zhizhen yaodalun of the Inner Classic of the Yellow Emperor huangdi neijing records the most encompassing and original rules in Chinese medicine pathology. The nineteen patterns\, most commonly known as the Nineteen Lines on Pathology\, are considered to be the most authoritative instructions on classical etio-pathology and the only discourse where a differentiation method based on the five phase energetics is presented. \nThere is great difficulty in understanding these instructions\, because they cannot be researched from merely a more modern Qing dynasty organ differentiation standpoint that we are most accustomed to. As such\, the only path to full understanding of the lines is an evaluation from all possible angles in classical Chinese medicine thinking. This evaluation will be engaged in by cross-referencing other classics like the Classic of Difficulties nan jing\, as well as later commentaries by masters like Zhang Jingyue\, etc. \nThe lines are structured along a twofold grid: the first outline along the five solid organs; while the second outline is arranged along the six Qi or six climatic influences. During the course\, all Solid Organ patterns will be studied and explained along with the most representative lines on the Six Qi. As such\, this course will provide the participant with a definitive understanding on classical Chinese medicine pathology and an excellent tool for the evaluation of difficult cases in clinic.
URL:https://staging.iceam.org/live-course/chicago-nineteen-lines-on-pathology-2020/
LOCATION:ICEAM Chicago\, 65 E. Wacker Pl.\, Chicago\, IL\, 60601\, United States
CATEGORIES:Shanghan Lun
GEO:41.8865275;-87.6255408
X-APPLE-STRUCTURED-LOCATION;VALUE=URI;X-ADDRESS=ICEAM Chicago 65 E. Wacker Pl. Chicago IL 60601 United States;X-APPLE-RADIUS=500;X-TITLE=65 E. Wacker Pl.:geo:-87.6255408,41.8865275
END:VEVENT
END:VCALENDAR