BEGIN:VCALENDAR
VERSION:2.0
PRODID:-//ICEAM - ECPv6.15.20//NONSGML v1.0//EN
CALSCALE:GREGORIAN
METHOD:PUBLISH
X-ORIGINAL-URL:https://staging.iceam.org
X-WR-CALDESC:Events for ICEAM
REFRESH-INTERVAL;VALUE=DURATION:PT1H
X-Robots-Tag:noindex
X-PUBLISHED-TTL:PT1H
BEGIN:VTIMEZONE
TZID:America/Chicago
BEGIN:DAYLIGHT
TZOFFSETFROM:-0600
TZOFFSETTO:-0500
TZNAME:CDT
DTSTART:20220313T080000
END:DAYLIGHT
BEGIN:STANDARD
TZOFFSETFROM:-0500
TZOFFSETTO:-0600
TZNAME:CST
DTSTART:20221106T070000
END:STANDARD
BEGIN:DAYLIGHT
TZOFFSETFROM:-0600
TZOFFSETTO:-0500
TZNAME:CDT
DTSTART:20230312T080000
END:DAYLIGHT
BEGIN:STANDARD
TZOFFSETFROM:-0500
TZOFFSETTO:-0600
TZNAME:CST
DTSTART:20231105T070000
END:STANDARD
BEGIN:DAYLIGHT
TZOFFSETFROM:-0600
TZOFFSETTO:-0500
TZNAME:CDT
DTSTART:20240310T080000
END:DAYLIGHT
BEGIN:STANDARD
TZOFFSETFROM:-0500
TZOFFSETTO:-0600
TZNAME:CST
DTSTART:20241103T070000
END:STANDARD
BEGIN:DAYLIGHT
TZOFFSETFROM:-0600
TZOFFSETTO:-0500
TZNAME:CDT
DTSTART:20250309T080000
END:DAYLIGHT
BEGIN:STANDARD
TZOFFSETFROM:-0500
TZOFFSETTO:-0600
TZNAME:CST
DTSTART:20251102T070000
END:STANDARD
END:VTIMEZONE
BEGIN:VTIMEZONE
TZID:Europe/London
BEGIN:DAYLIGHT
TZOFFSETFROM:+0000
TZOFFSETTO:+0100
TZNAME:BST
DTSTART:20230326T010000
END:DAYLIGHT
BEGIN:STANDARD
TZOFFSETFROM:+0100
TZOFFSETTO:+0000
TZNAME:GMT
DTSTART:20231029T010000
END:STANDARD
BEGIN:DAYLIGHT
TZOFFSETFROM:+0000
TZOFFSETTO:+0100
TZNAME:BST
DTSTART:20240331T010000
END:DAYLIGHT
BEGIN:STANDARD
TZOFFSETFROM:+0100
TZOFFSETTO:+0000
TZNAME:GMT
DTSTART:20241027T010000
END:STANDARD
BEGIN:DAYLIGHT
TZOFFSETFROM:+0000
TZOFFSETTO:+0100
TZNAME:BST
DTSTART:20250330T010000
END:DAYLIGHT
BEGIN:STANDARD
TZOFFSETFROM:+0100
TZOFFSETTO:+0000
TZNAME:GMT
DTSTART:20251026T010000
END:STANDARD
BEGIN:DAYLIGHT
TZOFFSETFROM:+0000
TZOFFSETTO:+0100
TZNAME:BST
DTSTART:20260329T010000
END:DAYLIGHT
BEGIN:STANDARD
TZOFFSETFROM:+0100
TZOFFSETTO:+0000
TZNAME:GMT
DTSTART:20261025T010000
END:STANDARD
END:VTIMEZONE
BEGIN:VEVENT
DTSTART;VALUE=DATE:20230909
DTEND;VALUE=DATE:20230911
DTSTAMP:20260423T160044
CREATED:20210219T230613Z
LAST-MODIFIED:20230615T150810Z
UID:14125-1694217600-1694390399@staging.iceam.org
SUMMARY:Online (US) – Diseases of the Jingui Yaolue\, Part Three
DESCRIPTION:This is the authoritative instruction of the etio-pathology and treatment of over 70 complex diseases recorded in the Essentials of the Golden Cabinet or Jingui Yaolue. During this course\, virtually all illnesses of the original text are discussed in great detail\, allowing the student to gain an ultimate and conclusive insight into the pathomechanisms behind these often chronic\, recalcitrant and debilitating illnesses. The formulas used in the Jingui are taught in their respective clinical contexts.
URL:https://staging.iceam.org/live-course/online-diseases-of-the-jingui-yaolue-part-three/
LOCATION:Hybrid Training Series (US)\, United States
CATEGORIES:Jingui Yaolue
GEO:29.951061;-90.0812442
END:VEVENT
BEGIN:VEVENT
DTSTART;VALUE=DATE:20231021
DTEND;VALUE=DATE:20231023
DTSTAMP:20260423T160044
CREATED:20210219T230701Z
LAST-MODIFIED:20211019T012827Z
UID:14126-1697846400-1698019199@staging.iceam.org
SUMMARY:Chicago – Tian-Lineage Jingui Yaolue Pulse Diagnosis
DESCRIPTION:Diagnosis in Han-dynasty was primarily done by taking the pulse. Every formula can be identified through one or more pulse patterns presenting in the patient. Though many pulses are mentioned in the Jingui Yaolue\, crucial detail is often hidden\, and it is as if this knowledge is merely implicitly present\, as if it were embedded. Therefore\, the Tian Heming Canonical Formula lineage’s main strength and contribution to the field of Chinese medicine to have made this advanced knowledge on pulse diagnosis crystal clear and evident. This knowledge has never been recorded in any book\, but was rather transmitted orally from Dr. Tian Heming through Dr. Zeng Rongxiu to Dr. Arnaud Versluys. The latter of which has been teaching this material around the world in more systematized and structured format since a few years. \nNote regarding the Shanghan Lun and Jingui Yaolue Pulse Seminars: due to the proprietary and complex nature of these seminars\, they cannot be registered for individually and can only be taken as part of the total sequence. The pulse seminars are open for individual registration only to Diplomates of Canonical Chinese Medicine already certified by our institute who wish to retake the seminar.
URL:https://staging.iceam.org/live-course/chicago-tian-lineage-jingui-yaolue-pulse-diagnosis-2/
LOCATION:ICEAM Chicago\, 65 E. Wacker Pl.\, Chicago\, IL\, 60601\, United States
CATEGORIES:Jingui Yaolue
GEO:41.8865275;-87.6255408
X-APPLE-STRUCTURED-LOCATION;VALUE=URI;X-ADDRESS=ICEAM Chicago 65 E. Wacker Pl. Chicago IL 60601 United States;X-APPLE-RADIUS=500;X-TITLE=65 E. Wacker Pl.:geo:-87.6255408,41.8865275
END:VEVENT
BEGIN:VEVENT
DTSTART;VALUE=DATE:20231209
DTEND;VALUE=DATE:20231211
DTSTAMP:20260423T160044
CREATED:20210219T230754Z
LAST-MODIFIED:20230615T150822Z
UID:14127-1702080000-1702252799@staging.iceam.org
SUMMARY:Atlanta - Jingui Yaolue Abdominal Diagnosis Fukushin
DESCRIPTION:Japanese abdominal diagnosis or Fukushin is the diagnostic art developed in medieval Japan based on the canonical writings by Zhang Zhongjing. Careful inspection of the Shanghan Zabing Lun reveals countless references to abdominal conditions that could only have been diagnosed by actual palpation of the abdomen. The skill however never fully developed in China but flourished in Japan. Fukushin 腹診 refers specifically to the style of abdominal diagnosis developed by Japanese scholars during the Edo period (1603-1867 CE) for the purpose of prescribing the Han dynasty formulas of Zhang Zhongjing. \nVenue still to be determined!
URL:https://staging.iceam.org/live-course/atlanta-jingui-yaolue-abdominal-diagnosis-fukushin/
LOCATION:ICEAM Atlanta\, Atlanta\, GA\, United States
CATEGORIES:Jingui Yaolue
GEO:33.7489954;-84.3879824
END:VEVENT
BEGIN:VEVENT
DTSTART;VALUE=DATE:20240113
DTEND;VALUE=DATE:20240115
DTSTAMP:20260423T160044
CREATED:20210219T230834Z
LAST-MODIFIED:20211019T012853Z
UID:14128-1705104000-1705276799@staging.iceam.org
SUMMARY:Online (US) - Tian-Zeng Lineage Jingui Yaolue Case Studies and Clinical Strategies
DESCRIPTION:The Shanghan Zabing Lun is the first historical manual to teach the treatment of both acute and chronic complex diseases that have been triggered externally or have arisen from internal damage. Though a classical work\, it is of great clinical value for modern day practice.
URL:https://staging.iceam.org/live-course/online-tian-zeng-lineage-jingui-yaolue-case-studies-and-clinical-strategies/
LOCATION:Hybrid Training Series (US)\, United States
CATEGORIES:Jingui Yaolue
GEO:29.951061;-90.0812442
END:VEVENT
BEGIN:VEVENT
DTSTART;VALUE=DATE:20241026
DTEND;VALUE=DATE:20241028
DTSTAMP:20260423T160044
CREATED:20210225T190742Z
LAST-MODIFIED:20230202T155832Z
UID:14185-1729900800-1730073599@staging.iceam.org
SUMMARY:Online (Europe) - The Diseases of the Jingui Yaolue Part One
DESCRIPTION:This is the authoritative instruction of the etio-pathology and treatment of over 70 complex diseases recorded in the Essentials of the Golden Cabinet or Jingui Yaolue. During these two weekends\, virtually all illnesses of the original text are discussed in great detail\, allowing the student to gain an ultimate and conclusive insight into the pathomechanisms behind these often chronic\, recalcitrant and debilitating illnesses. The formulas used in the Jingui are taught in their respective clinical contexts. \nTo sign up\, email ldewit@utrecht.iceam.org
URL:https://staging.iceam.org/live-course/online-europe-the-diseases-of-the-jingui-yaolue-part-one/
LOCATION:Hybrid Training Series (EU)\, Netherlands
CATEGORIES:Jingui Yaolue
GEO:52.132633;5.291266
END:VEVENT
BEGIN:VEVENT
DTSTART;VALUE=DATE:20241123
DTEND;VALUE=DATE:20241125
DTSTAMP:20260423T160044
CREATED:20210225T190742Z
LAST-MODIFIED:20230202T155845Z
UID:14184-1732320000-1732492799@staging.iceam.org
SUMMARY:Online  (Europe)– Diseases of the Jingui Yaolue\, Part Two
DESCRIPTION:This is the authoritative instruction of the etio-pathology and treatment of over 70 complex diseases recorded in the Essentials of the Golden Cabinet or Jingui Yaolue. During these two weekends\, virtually all illnesses of the original text are discussed in great detail\, allowing the student to gain an ultimate and conclusive insight into the pathomechanisms behind these often chronic\, recalcitrant and debilitating illnesses. The formulas used in the Jingui are taught in their respective clinical contexts. \nTo sign up\, email ldewit@utrecht.iceam.org
URL:https://staging.iceam.org/live-course/online-europe-diseases-of-the-jingui-yaolue-part-two/
LOCATION:Hybrid Training Series (EU)\, Netherlands
CATEGORIES:Jingui Yaolue
GEO:52.132633;5.291266
END:VEVENT
BEGIN:VEVENT
DTSTART;VALUE=DATE:20250111
DTEND;VALUE=DATE:20250113
DTSTAMP:20260423T160044
CREATED:20210225T190741Z
LAST-MODIFIED:20230202T155858Z
UID:14183-1736553600-1736726399@staging.iceam.org
SUMMARY:Online (Europe) – Diseases of the Jingui Yaolue\, Part Three
DESCRIPTION:This is the authoritative instruction of the etio-pathology and treatment of over 70 complex diseases recorded in the Essentials of the Golden Cabinet or Jingui Yaolue. During this course\, virtually all illnesses of the original text are discussed in great detail\, allowing the student to gain an ultimate and conclusive insight into the pathomechanisms behind these often chronic\, recalcitrant and debilitating illnesses. The formulas used in the Jingui are taught in their respective clinical contexts. \nTo sign up\, email ldewit@utrecht.iceam.org
URL:https://staging.iceam.org/live-course/online-europe-diseases-of-the-jingui-yaolue-part-three/
LOCATION:Hybrid Training Series (EU)\, Netherlands
CATEGORIES:Jingui Yaolue
GEO:52.132633;5.291266
END:VEVENT
BEGIN:VEVENT
DTSTART;VALUE=DATE:20250301
DTEND;VALUE=DATE:20250303
DTSTAMP:20260423T160044
CREATED:20210225T190741Z
LAST-MODIFIED:20230202T155912Z
UID:14182-1740787200-1740959999@staging.iceam.org
SUMMARY:Utrecht – Tian-Lineage Jingui Yaolue Pulse Diagnosis
DESCRIPTION:Diagnosis in Han-dynasty was primarily done by taking the pulse. Every formula can be identified through one or more pulse patterns presenting in the patient. Though many pulses are mentioned in the Jingui Yaolue\, crucial detail is often hidden\, and it is as if this knowledge is merely implicitly present\, as if it were embedded. Therefore\, the Tian Heming Canonical Formula lineage’s main strength and contribution to the field of Chinese medicine to have made this advanced knowledge on pulse diagnosis crystal clear and evident. This knowledge has never been recorded in any book\, but was rather transmitted orally from Dr. Tian Heming through Dr. Zeng Rongxiu to Dr. Arnaud Versluys. The latter of which has been teaching this material around the world in more systematized and structured format since a few years. \nNote regarding the Shanghan Lun and Jingui Yaolue Pulse Seminars: due to the proprietary and complex nature of these seminars\, they cannot be registered for individually and can only be taken as part of the total sequence. The pulse seminars are open for individual registration only to Diplomates of Canonical Chinese Medicine already certified by our institute who wish to retake the seminar. \nTo sign up\, email ldewit@utrecht.iceam.org
URL:https://staging.iceam.org/live-course/utrecht-tian-lineage-jingui-yaolue-pulse-diagnosis/
LOCATION:ICEAM Utrecht\, Onderdoor 5\, 3995 DW\, Houten\, Netherlands
CATEGORIES:Jingui Yaolue
GEO:52.0348263;5.1683265
X-APPLE-STRUCTURED-LOCATION;VALUE=URI;X-ADDRESS=ICEAM Utrecht Onderdoor 5 3995 DW Houten Netherlands;X-APPLE-RADIUS=500;X-TITLE=Onderdoor 5\, 3995 DW:geo:5.1683265,52.0348263
END:VEVENT
BEGIN:VEVENT
DTSTART;VALUE=DATE:20250412
DTEND;VALUE=DATE:20250414
DTSTAMP:20260423T160044
CREATED:20210225T190741Z
LAST-MODIFIED:20230202T155923Z
UID:14181-1744416000-1744588799@staging.iceam.org
SUMMARY:Utrecht - Jingui Yaolue Abdominal Diagnosis Fukushin
DESCRIPTION:Japanese abdominal diagnosis or Fukushin is the diagnostic art developed in medieval Japan based on the canonical writings by Zhang Zhongjing. Careful inspection of the Shanghan Zabing Lun reveals countless references to abdominal conditions that could only have been diagnosed by actual palpation of the abdomen. The skill however never fully developed in China but flourished in Japan. Fukushin 腹診 refers specifically to the style of abdominal diagnosis developed by Japanese scholars during the Edo period (1603-1867 CE) for the purpose of prescribing the Han dynasty formulas of Zhang Zhongjing. \nTo sign up\, email ldewit@utrecht.iceam.org
URL:https://staging.iceam.org/live-course/utrecht-jingui-yaolue-abdominal-diagnosis-fukushin/
LOCATION:ICEAM Utrecht\, Onderdoor 5\, 3995 DW\, Houten\, Netherlands
CATEGORIES:Jingui Yaolue
GEO:52.0348263;5.1683265
X-APPLE-STRUCTURED-LOCATION;VALUE=URI;X-ADDRESS=ICEAM Utrecht Onderdoor 5 3995 DW Houten Netherlands;X-APPLE-RADIUS=500;X-TITLE=Onderdoor 5\, 3995 DW:geo:5.1683265,52.0348263
END:VEVENT
BEGIN:VEVENT
DTSTART;VALUE=DATE:20250524
DTEND;VALUE=DATE:20250526
DTSTAMP:20260423T160044
CREATED:20210225T190740Z
LAST-MODIFIED:20230202T155950Z
UID:14180-1748044800-1748217599@staging.iceam.org
SUMMARY:Utrecht - Tian Lineage Jingui Yaolue Case Studies and Clinical Strategies
DESCRIPTION:The Shanghan Zabing Lun is the first historical manual to teach the treatment of both acute and chronic complex diseases that have been triggered externally or have arisen from internal damage. Though a classical work\, it is of great clinical value for modern day practice. \nTo sign up\, email ldewit@utrecht.iceam.org
URL:https://staging.iceam.org/live-course/online-europe-tian-zeng-lineage-jingui-yaolue-case-studies-and-clinical-strategies/
LOCATION:ICEAM Utrecht\, Onderdoor 5\, 3995 DW\, Houten\, Netherlands
CATEGORIES:Jingui Yaolue
GEO:52.0348263;5.1683265
X-APPLE-STRUCTURED-LOCATION;VALUE=URI;X-ADDRESS=ICEAM Utrecht Onderdoor 5 3995 DW Houten Netherlands;X-APPLE-RADIUS=500;X-TITLE=Onderdoor 5\, 3995 DW:geo:5.1683265,52.0348263
END:VEVENT
END:VCALENDAR