BEGIN:VCALENDAR
VERSION:2.0
PRODID:-//ICEAM - ECPv6.15.20//NONSGML v1.0//EN
CALSCALE:GREGORIAN
METHOD:PUBLISH
X-WR-CALNAME:ICEAM
X-ORIGINAL-URL:https://staging.iceam.org
X-WR-CALDESC:Events for ICEAM
REFRESH-INTERVAL;VALUE=DURATION:PT1H
X-Robots-Tag:noindex
X-PUBLISHED-TTL:PT1H
BEGIN:VTIMEZONE
TZID:America/Chicago
BEGIN:DAYLIGHT
TZOFFSETFROM:-0600
TZOFFSETTO:-0500
TZNAME:CDT
DTSTART:20190310T080000
END:DAYLIGHT
BEGIN:STANDARD
TZOFFSETFROM:-0500
TZOFFSETTO:-0600
TZNAME:CST
DTSTART:20191103T070000
END:STANDARD
BEGIN:DAYLIGHT
TZOFFSETFROM:-0600
TZOFFSETTO:-0500
TZNAME:CDT
DTSTART:20200308T080000
END:DAYLIGHT
BEGIN:STANDARD
TZOFFSETFROM:-0500
TZOFFSETTO:-0600
TZNAME:CST
DTSTART:20201101T070000
END:STANDARD
BEGIN:DAYLIGHT
TZOFFSETFROM:-0600
TZOFFSETTO:-0500
TZNAME:CDT
DTSTART:20210314T080000
END:DAYLIGHT
BEGIN:STANDARD
TZOFFSETFROM:-0500
TZOFFSETTO:-0600
TZNAME:CST
DTSTART:20211107T070000
END:STANDARD
END:VTIMEZONE
BEGIN:VEVENT
DTSTART;VALUE=DATE:20200213
DTEND;VALUE=DATE:20200217
DTSTAMP:20260424T011425
CREATED:20150430T055426Z
LAST-MODIFIED:20161114T020916Z
UID:91-1581552000-1581897599@staging.iceam.org
SUMMARY:Gdansk - Diseases of the Jingui Yaolue\, Part One
DESCRIPTION:This is the authoritative instruction of the etio-pathology and treatment of over 70 complex diseases recorded in the Essentials of the Golden Cabinet or Jingui Yaolue. During these two weekends\, virtually all illnesses of the original text are discussed in great detail\, allowing the student to gain an ultimate and conclusive insight into the pathomechanisms behind these often chronic\, recalcitrant and debilitating illnesses. The formulas used in the Jingui are taught in their respective clinical contexts.
URL:https://staging.iceam.org/live-course/gdansk-diseases-of-the-jingui-yaolue-part-one/
LOCATION:ICEAM Gdansk
CATEGORIES:Jingui Yaolue
GEO:54.4152357;18.574909
END:VEVENT
END:VCALENDAR