BEGIN:VCALENDAR
VERSION:2.0
PRODID:-//ICEAM - ECPv6.15.20//NONSGML v1.0//EN
CALSCALE:GREGORIAN
METHOD:PUBLISH
X-WR-CALNAME:ICEAM
X-ORIGINAL-URL:https://staging.iceam.org
X-WR-CALDESC:Events for ICEAM
REFRESH-INTERVAL;VALUE=DURATION:PT1H
X-Robots-Tag:noindex
X-PUBLISHED-TTL:PT1H
BEGIN:VTIMEZONE
TZID:America/Chicago
BEGIN:DAYLIGHT
TZOFFSETFROM:-0600
TZOFFSETTO:-0500
TZNAME:CDT
DTSTART:20160313T080000
END:DAYLIGHT
BEGIN:STANDARD
TZOFFSETFROM:-0500
TZOFFSETTO:-0600
TZNAME:CST
DTSTART:20161106T070000
END:STANDARD
BEGIN:DAYLIGHT
TZOFFSETFROM:-0600
TZOFFSETTO:-0500
TZNAME:CDT
DTSTART:20170312T080000
END:DAYLIGHT
BEGIN:STANDARD
TZOFFSETFROM:-0500
TZOFFSETTO:-0600
TZNAME:CST
DTSTART:20171105T070000
END:STANDARD
BEGIN:DAYLIGHT
TZOFFSETFROM:-0600
TZOFFSETTO:-0500
TZNAME:CDT
DTSTART:20180311T080000
END:DAYLIGHT
BEGIN:STANDARD
TZOFFSETFROM:-0500
TZOFFSETTO:-0600
TZNAME:CST
DTSTART:20181104T070000
END:STANDARD
END:VTIMEZONE
BEGIN:VEVENT
DTSTART;VALUE=DATE:20170708
DTEND;VALUE=DATE:20170710
DTSTAMP:20260425T214603
CREATED:20150715T101353Z
LAST-MODIFIED:20150731T202333Z
UID:987-1499472000-1499644799@staging.iceam.org
SUMMARY:Amsterdam - Jingui Yaolue Abdominal Diagnosis Fukushin
DESCRIPTION:Japanese abdominal diagnosis or Fukushin is the diagnostic art developed in medieval Japan based on the canonical writings by Zhang Zhongjing. Careful inspection of the Shanghan Zabing Lun reveals countless references to abdominal conditions that could only have been diagnosed by actual palpation of the abdomen. The skill however never fully developed in China but flourished in Japan. Fukushin 腹診 refers specifically to the style of abdominal diagnosis developed by Japanese scholars during the Edo period (1603-1867 CE) for the purpose of prescribing the Han dynasty formulas of Zhang Zhongjing.
URL:https://staging.iceam.org/live-course/amsterdam-jingui-yaolue-abdominal-diagnosis-fukushin/
LOCATION:ICEAM Amsterdam\, Academie voor Chinese Geneeswijzen Qing-Bai\, Postbus 31412\, Amsterdam\, CK Nijmegen\, 6503\, Netherlands
CATEGORIES:Jingui Yaolue
GEO:52.3702157;4.8951679
X-APPLE-STRUCTURED-LOCATION;VALUE=URI;X-ADDRESS=ICEAM Amsterdam Academie voor Chinese Geneeswijzen Qing-Bai Postbus 31412 Amsterdam CK Nijmegen 6503 Netherlands;X-APPLE-RADIUS=500;X-TITLE=Academie voor Chinese Geneeswijzen Qing-Bai\, Postbus 31412:geo:4.8951679,52.3702157
END:VEVENT
END:VCALENDAR